BEGIN:VCALENDAR
VERSION:2.0
PRODID:-//digitalHUB Aachen - ECPv6.15.20//NONSGML v1.0//EN
CALSCALE:GREGORIAN
METHOD:PUBLISH
X-ORIGINAL-URL:https://www.aachen.digital/en/
X-WR-CALDESC:Events for digitalHUB Aachen
REFRESH-INTERVAL;VALUE=DURATION:PT1H
X-Robots-Tag:noindex
X-PUBLISHED-TTL:PT1H
BEGIN:VTIMEZONE
TZID:Europe/Berlin
BEGIN:DAYLIGHT
TZOFFSETFROM:+0100
TZOFFSETTO:+0200
TZNAME:CEST
DTSTART:20200329T010000
END:DAYLIGHT
BEGIN:STANDARD
TZOFFSETFROM:+0200
TZOFFSETTO:+0100
TZNAME:CET
DTSTART:20201025T010000
END:STANDARD
BEGIN:DAYLIGHT
TZOFFSETFROM:+0100
TZOFFSETTO:+0200
TZNAME:CEST
DTSTART:20210328T010000
END:DAYLIGHT
BEGIN:STANDARD
TZOFFSETFROM:+0200
TZOFFSETTO:+0100
TZNAME:CET
DTSTART:20211031T010000
END:STANDARD
BEGIN:DAYLIGHT
TZOFFSETFROM:+0100
TZOFFSETTO:+0200
TZNAME:CEST
DTSTART:20220327T010000
END:DAYLIGHT
BEGIN:STANDARD
TZOFFSETFROM:+0200
TZOFFSETTO:+0100
TZNAME:CET
DTSTART:20221030T010000
END:STANDARD
END:VTIMEZONE
BEGIN:VEVENT
DTSTART;TZID=Europe/Berlin:20210803T090000
DTEND;TZID=Europe/Berlin:20210803T120000
DTSTAMP:20260425T172328
CREATED:20210701T081217Z
LAST-MODIFIED:20210703T194201Z
UID:10005489-1627981200-1627992000@www.aachen.digital
SUMMARY:HUBinar: Verhandlungstechniken für Startups
DESCRIPTION:Verhandlungssituationen begegnen uns im Alltag ständig – häufig sogar\, ohne dass wir es merken. Welche typischen Verhandlungssituationen gibt es im Startup-Umfeld und was gilt es zu beachten? Im Webinar lernen die Teilnehmer grundlegende Verhandlungstechniken\, die beispielsweise dabei helfen\, Verhandlungen mit Investoren – erfolgreich abzuschließen. \nThemenschwerpunkte sind:\n• Grundlagen bei der Führung von Verhandlungsgesprächen\n• Typische Verhandlungen im Startup-Umfeld & Pitfalls\n• Investor Negotiations\n• Special: Investor-Talk – Impulsvortrag und interaktive Q&A-Session mit einem Investor aus der Region \nModerator: Arash Wahedi\, NEGOTIATION GURU® \nKosten: Der Workshop richtet sich an Startups mit Business-Mitgliedschaft und ist für diese kostenfrei. \nAnmeldung: Startups mit Business-Mitgliedschaft haben den Anmeldelink mit der Einladungsmail erhalten. Bei Fragen dazu wenden Sie sich bitte an events@hubaachen.de \nÜber den Referenten:\nArash Wahedi von NEGOTIATION GURU® sitzt seit über 10 Jahren mit großer Leidenschaft am Verhandlungstisch – früher als Vertriebler in einer kleinen Tech-Bude\, heute als Einkaufsmanager in einem DAX-Konzern. Je komplexer die Verhandlung ist\, desto brennender sein Interesse dafür.\nAls zertifizierter Verhandlungsexperte gibt er sein Wissen auf pragmatische und unterhaltsame Weise an wissensdurstige Startups\, KMU & Privatpersonen weiter\, welche vor bedeutenden Verhandlungen stehen. Zudem arbeitet er als Business Mentor mit mehreren Instituten (z.B. Startplatz Accelerator) sowie Hochschulen (z.B. WHU Vallendar\, EUFH Brühl) zusammen.\nArash Wahedi steht unserer Startup Community im digitalHUB als neuer Supporter und Experte zum Thema Verhandlungen (Negotiation) zur Verfügung.
URL:https://www.aachen.digital/en/event/verhandlungstechniken-fuer-startups/
LOCATION:Jülicher Strasse 72a\, Aachen\, Nordrhein-Westfalen\, 52070\, Germany
ATTACH;FMTTYPE=image/jpeg:https://www.aachen.digital/wp-content/uploads/2021/07/210407_VerhandlungsHUBinar_stage.jpg
ORGANIZER;CN="digitalHUB Aachen":MAILTO:kontakt@hubaachen.de
END:VEVENT
BEGIN:VEVENT
DTSTART;TZID=Europe/Berlin:20210804T180000
DTEND;TZID=Europe/Berlin:20210804T200000
DTSTAMP:20260425T172328
CREATED:20190604T094052Z
LAST-MODIFIED:20190604T094052Z
UID:10005157-1628100000-1628107200@www.aachen.digital
SUMMARY:Was ist neu bei iOS? Talk mit iOS-Entwickler Manuel Carrasco Molina
DESCRIPTION:Bei der WWDC 2019 (Worldwide Developers Conference) vom 3. bis 7. Juni in San Jose kommen die kreativsten und innovativsten Entwickler zusammen. Für Apple-Fans ist vor allem die Keynote interessant\, auf welcher die aktuellsten Neuheiten von Apple vorgestellt werden. \nIn Kooperation mit dem brandneuen Coworking-Space haupt|cw|artier veranstaltet Düren.Digital Network zwei Talks\, bei denen mit iOS-Entwickler Manuel Carrasco Molina in die Zukunft geblickt wird: Welche Möglichkeiten werden Machine Learning und Augmented Reality in Zukunft bieten? \nKurz und knackig fasst der Referent die Keynote zusammen und macht die Zukunft Apples für uns erlebbar. Inklusive anschließender Diskussion. \nZielgruppe: Vom einfachen Apple-User bis zum iOS-Entwickler ist jeder herzlich eingeladen sich über die neusten Apple-Funktionen zu informieren. \nFacts\n1. Veranstaltung: Mittwoch\, 05.06.2019\, 10:00 – 12:00 Uhr\n2. Veranstaltung: Dienstag\, 11.06.2019\, 18:00 – 20:00 Uhr \nAnmeldung erwünscht bei Düren.Digital Network-Manager Philipp Schlenkert per Mail an: p.schlenkert@windn.de
URL:https://www.aachen.digital/en/event/was-ist-neu-bei-ios-talk-mit-ios-entwickler-manuel-carrasco-molina/2021-08-04/
LOCATION:haupt|cw|artier\, Philippstr. 27\, Düren\, NRW\, 52349\, Deutschland
ATTACH;FMTTYPE=image/jpeg:https://www.aachen.digital/wp-content/uploads/2019/06/Hauptqwartier.jpg
END:VEVENT
BEGIN:VEVENT
DTSTART;TZID=Europe/Berlin:20210805T190000
DTEND;TZID=Europe/Berlin:20210805T203000
DTSTAMP:20260425T172328
CREATED:20201210T105335Z
LAST-MODIFIED:20210701T090657Z
UID:10005744-1628190000-1628195400@www.aachen.digital
SUMMARY:Mitglieder ComeTogether
DESCRIPTION:mit Büro-Musterhaus Prickartz\nThema: Zukunft der Zusammenarbeit – Moderne Arbeitswelt mit dem Menschen im Fokus\nÜber unsere Mitgliederplattform online via Zoom \nNicht erst seit Corona hat sich die Zusammenarbeit in Unternehmen – egal welcher Größe – radikal verändert. Digitalisierung\, Flexibilisierung und Globalisierung führen zu Veränderungen\, auf die Arbeitgeber im 21. Jahrhundert reagieren müssen. Die Expert:innen von Büro-Musterhaus Prickartz stellen Ihnen konkrete Konzepte vor\, wie der Dreiklang aus Mensch\, Raum und Technik in der heutigen Arbeitswirklichkeit gelebt und zum Vorteil aller gestaltet werden kann. Freuen Sie sich auf anschauliche Einblicke und Best Practices in der Diskussion mit den Expert:innen. \nUnser ComeTogether etabliert sich mit über 40 Mitgliedern\, die monatlich zusammen kommen\, um über ein Impulsthema zu diskutieren.In der Vergangenheit haben wir uns in einer offenen Runde mit Pizza und Bier zu einem jeweils aktuellen Thema an unserer Elysee Bar getroffen und ausgetauscht.\nAuch wenn das zurzeit persönlich nicht möglich ist: Wir wollen weiterhin im (virtuellen) Kontakt bleiben! \nAnmeldung
URL:https://www.aachen.digital/en/event/online-event-mitglieder-cometogether-am-5-august-2021/
LOCATION:Jülicher Strasse 72a\, Aachen\, Nordrhein-Westfalen\, 52070\, Germany
ATTACH;FMTTYPE=image/jpeg:https://www.aachen.digital/wp-content/uploads/2020/05/200903_Cometogether_ONline_Cloudnutzung_stage.jpg
ORGANIZER;CN="digitalHUB Aachen":MAILTO:kontakt@hubaachen.de
END:VEVENT
BEGIN:VEVENT
DTSTART;TZID=Europe/Berlin:20210811T090000
DTEND;TZID=Europe/Berlin:20210811T150000
DTSTAMP:20260425T172328
CREATED:20210104T114642Z
LAST-MODIFIED:20210108T101216Z
UID:10005764-1628672400-1628694000@www.aachen.digital
SUMMARY:Venture Capital Sprechtag des TechVision Fonds
DESCRIPTION:Venture Capital.\nAus Aachen. Für Aachen. \nDer digitalHUB und TechVision Fonds laden zum Online Venture Capital Sprechtag ein. \nIn der Sprechstunde gibt es Informationen über Gründungs- und Wachstumsfinanzierungen für\n• technologie-basierte digitale Startups\n• mit Sitz in/um Aachen oder Bereitschaft hierhin umzuziehen \nInteresse geweckt? Dann einfach per E-Mail anmelden bei: philicia.dickmeis@hubaachen.de. \nEin Investment Manager des TechVision Fonds steht zum direkten und unverbindlichen Austausch zur Verfügung. Jedes angemeldete Startup erhält einen Termin über 45 Minuten. \nDieser Termin findet einmal im Quartal statt. Bei Interesse\, an dem nächsten Termin teilzunehmen oder anderen Fragen stehen wir gerne zur Verfügung.
URL:https://www.aachen.digital/en/event/venture-capital-sprechtag-des-techvision-fonds/
LOCATION:Jülicher Strasse 72a\, Aachen\, Nordrhein-Westfalen\, 52070\, Germany
ATTACH;FMTTYPE=image/jpeg:https://www.aachen.digital/wp-content/uploads/2021/01/Online-Venture-Capital_stage.jpg
ORGANIZER;CN="digitalHUB Aachen":MAILTO:kontakt@hubaachen.de
END:VEVENT
BEGIN:VEVENT
DTSTART;TZID=Europe/Berlin:20210811T180000
DTEND;TZID=Europe/Berlin:20210811T200000
DTSTAMP:20260425T172328
CREATED:20190604T094052Z
LAST-MODIFIED:20190604T094052Z
UID:10005158-1628704800-1628712000@www.aachen.digital
SUMMARY:Was ist neu bei iOS? Talk mit iOS-Entwickler Manuel Carrasco Molina
DESCRIPTION:Bei der WWDC 2019 (Worldwide Developers Conference) vom 3. bis 7. Juni in San Jose kommen die kreativsten und innovativsten Entwickler zusammen. Für Apple-Fans ist vor allem die Keynote interessant\, auf welcher die aktuellsten Neuheiten von Apple vorgestellt werden. \nIn Kooperation mit dem brandneuen Coworking-Space haupt|cw|artier veranstaltet Düren.Digital Network zwei Talks\, bei denen mit iOS-Entwickler Manuel Carrasco Molina in die Zukunft geblickt wird: Welche Möglichkeiten werden Machine Learning und Augmented Reality in Zukunft bieten? \nKurz und knackig fasst der Referent die Keynote zusammen und macht die Zukunft Apples für uns erlebbar. Inklusive anschließender Diskussion. \nZielgruppe: Vom einfachen Apple-User bis zum iOS-Entwickler ist jeder herzlich eingeladen sich über die neusten Apple-Funktionen zu informieren. \nFacts\n1. Veranstaltung: Mittwoch\, 05.06.2019\, 10:00 – 12:00 Uhr\n2. Veranstaltung: Dienstag\, 11.06.2019\, 18:00 – 20:00 Uhr \nAnmeldung erwünscht bei Düren.Digital Network-Manager Philipp Schlenkert per Mail an: p.schlenkert@windn.de
URL:https://www.aachen.digital/en/event/was-ist-neu-bei-ios-talk-mit-ios-entwickler-manuel-carrasco-molina/2021-08-11/
LOCATION:haupt|cw|artier\, Philippstr. 27\, Düren\, NRW\, 52349\, Deutschland
ATTACH;FMTTYPE=image/jpeg:https://www.aachen.digital/wp-content/uploads/2019/06/Hauptqwartier.jpg
END:VEVENT
BEGIN:VEVENT
DTSTART;TZID=Europe/Berlin:20210818T130000
DTEND;TZID=Europe/Berlin:20210818T163000
DTSTAMP:20260425T172328
CREATED:20210719T092922Z
LAST-MODIFIED:20210719T092922Z
UID:10005957-1629291600-1629304200@www.aachen.digital
SUMMARY:AirQuality-Day
DESCRIPTION:Fachtagung und Ergebnispräsentation des Forschungsvorhabens „AirQuality”\nErstellung hyperlokaler Luftqualitätskarten in Echtzeit durch mobile Messungen \nWie kann die Digitalisierung zur nachhaltigen Verbesserung der Luftqualität in unseren Städten beitragen? Der AirQuality-Day eröffnet Ihnen in Vorträgen und einem Workshop innovative Ansätze zur Luftqualitätsdatenerfassung und -verarbeitung. \nSie sind herzlich eingeladen\, am 18.08.2021 von 13.00 bis 16.30 Uhr an unserer Online-Veranstaltung teilzunehmen – digital und kostenfrei aus dem Cluster Smart Logistik auf dem RWTH Aachen Campus. \nProfitieren Sie von den Ergebnissen unseres Forschungsvorhabens “AirQuality” und erfahren Sie\, welche Ansätze die Digitalisierung für eine Verringerung der Luftverschmutzung bietet. Gemeinsam mit der Geotab GmbH entwickelten wir im Projekt ein mobiles IoT-Netz zur hyperlokalen Datenerfassung und -visualisierung in Echtzeit. Die mobile Datenerfassung erhöht nicht nur die Transparenz der Luftqualität in Städten\, sondern eignet sich darüber hinaus für eine Vielzahl weiterer Anwendungsfälle\, etwa die Realisierung von Smart-City-Lösungen wie einer intelligenten Lichtsignalsteuerung oder umweltsensitiven Fahrspuren. \nNutzen Sie den Nachmittag für neue Impulse zur Verbesserung der Lebensqualität im urbanen Raum und zum fachlichen Austausch. Knüpfen Sie wertvolle Kontakte und erarbeiten Sie im Workshop gemeinsam mit unseren Expert:innen zukunftweisende Konzepte für saubere Luft. \nWeitere Informationen finden Sie hier. \nANMELDUNG
URL:https://www.aachen.digital/en/event/airquality-day/
LOCATION:Jülicher Strasse 72a\, Aachen\, Nordrhein-Westfalen\, 52070\, Germany
ATTACH;FMTTYPE=image/jpeg:https://www.aachen.digital/wp-content/uploads/2021/07/AdobeStock_102558088-scaled.jpeg
END:VEVENT
BEGIN:VEVENT
DTSTART;TZID=Europe/Berlin:20210818T180000
DTEND;TZID=Europe/Berlin:20210818T200000
DTSTAMP:20260425T172328
CREATED:20190604T094052Z
LAST-MODIFIED:20190604T094052Z
UID:10005159-1629309600-1629316800@www.aachen.digital
SUMMARY:Was ist neu bei iOS? Talk mit iOS-Entwickler Manuel Carrasco Molina
DESCRIPTION:Bei der WWDC 2019 (Worldwide Developers Conference) vom 3. bis 7. Juni in San Jose kommen die kreativsten und innovativsten Entwickler zusammen. Für Apple-Fans ist vor allem die Keynote interessant\, auf welcher die aktuellsten Neuheiten von Apple vorgestellt werden. \nIn Kooperation mit dem brandneuen Coworking-Space haupt|cw|artier veranstaltet Düren.Digital Network zwei Talks\, bei denen mit iOS-Entwickler Manuel Carrasco Molina in die Zukunft geblickt wird: Welche Möglichkeiten werden Machine Learning und Augmented Reality in Zukunft bieten? \nKurz und knackig fasst der Referent die Keynote zusammen und macht die Zukunft Apples für uns erlebbar. Inklusive anschließender Diskussion. \nZielgruppe: Vom einfachen Apple-User bis zum iOS-Entwickler ist jeder herzlich eingeladen sich über die neusten Apple-Funktionen zu informieren. \nFacts\n1. Veranstaltung: Mittwoch\, 05.06.2019\, 10:00 – 12:00 Uhr\n2. Veranstaltung: Dienstag\, 11.06.2019\, 18:00 – 20:00 Uhr \nAnmeldung erwünscht bei Düren.Digital Network-Manager Philipp Schlenkert per Mail an: p.schlenkert@windn.de
URL:https://www.aachen.digital/en/event/was-ist-neu-bei-ios-talk-mit-ios-entwickler-manuel-carrasco-molina/2021-08-18/
LOCATION:haupt|cw|artier\, Philippstr. 27\, Düren\, NRW\, 52349\, Deutschland
ATTACH;FMTTYPE=image/jpeg:https://www.aachen.digital/wp-content/uploads/2019/06/Hauptqwartier.jpg
END:VEVENT
BEGIN:VEVENT
DTSTART;TZID=Europe/Berlin:20210823T123000
DTEND;TZID=Europe/Berlin:20210823T133000
DTSTAMP:20260425T172328
CREATED:20210622T084601Z
LAST-MODIFIED:20210726T142323Z
UID:10005947-1629721800-1629725400@www.aachen.digital
SUMMARY:HUBinar Cybersecurity: Vom Datenschutz zur IT-Sicherheit
DESCRIPTION:Datenschutzverstöße und technische und organisatorische Maßnahmen zur Vermeidung sind nicht erst in Pandemiezeiten absolute Topthemen\, sondern gehören zum Pflichtprogramm für jedes Unternehmen. Melden Sie sich jetzt an zum Cybersecurity-HUBinar mit dem Ing.-Büro Dr. Plesnik und netsharqs cybersecurity und erfahren Sie mehr über die Zusammenhänge und welche Maßnahmen Sie ergreifen sollten. \nUnsere Referenten Dr. Walter Plesnik und Frank Wiesenfeller informieren Sie und diskutieren mit Ihnen\, wie Sie den Abfluss von Daten\, Cyberangriffe von außen und innen\, Betriebsstörungen\, Datenverlust und Meldungen an die Datenschutzbehörden verhindern können. \nReferenten: \n\nFrank Wiesenfeller – IT-Sicherheit\, netsharqs cybersecurity\, Aachen\nDr. Walter Plesnik – Datenschutz\, Ing.-Büro Dr. Plesnik GmbH\, Aachen\n\nDas HUBinar findet online über Zoom statt.\n \nJetzt anmelden!
URL:https://www.aachen.digital/en/event/hubinar-cybersecurity/
LOCATION:Jülicher Strasse 72a\, Aachen\, Nordrhein-Westfalen\, 52070\, Germany
ATTACH;FMTTYPE=image/jpeg:https://www.aachen.digital/wp-content/uploads/2021/06/Stage-HUBinar-CS.jpg
ORGANIZER;CN="digitalHUB Aachen":MAILTO:kontakt@hubaachen.de
END:VEVENT
BEGIN:VEVENT
DTSTART;TZID=Europe/Berlin:20210824T100000
DTEND;TZID=Europe/Berlin:20210824T170000
DTSTAMP:20260425T172328
CREATED:20210816T073725Z
LAST-MODIFIED:20210816T073939Z
UID:10005998-1629799200-1629824400@www.aachen.digital
SUMMARY:Roboter-Tag Düren 2021
DESCRIPTION:MIT FOKUS SICHERHEIT UND KOLLABORATION \nSicherheit & Kollaboration stellen einen Grundpfeiler moderner Robotik dar. Doch was bedeutet Kollaboration\, wie kann ich diese erzielen und wie erreiche ich die Sicherheitsvorgaben mit einem COBOT von Universal Robots? \nDiese Fragestellungen werden auf unserem ersten MMT Robotertag beantwortet. Hierbei haben Sie im Zuge eines exklusiven Tagesevents die Möglichkeit zum Austausch und zur Beratung mit Branchenexperten unterschiedlicher Partnerunternehmen. \nDas erwartet Sie an dem Tag: \n\nLernen Sie kollaborierende Roboter (Cobots) live kennen\nErleben Sie verschiedene Applikationen mit Greif-\, Kameratechnik (2D & 3D) und künstlicher Intelligenz\nLassen Sie sich von den Experten zur Umsetzung Ihrer möglichen Anlage beraten\nBesonderes Highlight: Live Kraft-Druck-Messung anhand einer Praxisanwendung für Cobots\n\nAgenda:\nIn Kleingruppen besuchen Sie unseren Ausstellungsbereich und sprechen mit den Experten zu Ihren individuellen Anforderungen. Dafür kontaktieren wir Sie im Anschluss an Ihre Anmeldung\, um gemeinsam einen persönlichen Zeitslot am Roboter-Tag zu vereinbaren. \nPraktische Informationen:\nNach der Anmeldung setzen wir uns innerhalb von 48 Stunden mit Ihnen in Verbindung\, um Ihren persönlichen Zeitslot zu vereinbaren. Selbstverständlich findet der Roboter-Tag aktuell unter strenger Einhaltung der vor Ort geltenden Corona-Hygieneregeln und insgesamt mit begrenzter Teilnehmerzahl statt. \nZUR ANMELDUNG
URL:https://www.aachen.digital/en/event/robotertag-dueren-2021/
LOCATION:Müller Maschinentechnik – Werk 2\, Distelrather Str. 5\, 52351 Düren\, Deutschland
ATTACH;FMTTYPE=image/jpeg:https://www.aachen.digital/wp-content/uploads/2021/08/AdobeStock_358683095-scaled-1.jpeg
END:VEVENT
BEGIN:VEVENT
DTSTART;TZID=Europe/Berlin:20210824T110000
DTEND;TZID=Europe/Berlin:20210824T120000
DTSTAMP:20260425T172328
CREATED:20210809T080733Z
LAST-MODIFIED:20210809T080733Z
UID:10005996-1629802800-1629806400@www.aachen.digital
SUMMARY:Online Seminar: How to 5G?
DESCRIPTION:Diese Aspekte müssen Sie beachten!\nGemeinsam mit dem Center Connected Industry werden Fragen rund um die Einführung von 5G beantwortet. Gleichzeitig geben werden Ihnen praktische Hinweise und Informationen gegeben\, die Ihnen den Zugang zu 5G-Technologie und -Anwendungen im Rahmen folgender Fragen erleichtern werden: \n\n5G: Eher eine Ersatz- oder doch nur eine Zusatztechnologie?\nWelche neuen Funktionalitäten sieht die neue Mobilfunktechnologie vor?\nWie sehen hierzu benötigte Services aus?\n\nGewinnen Sie in 60 Minuten wertvolle Einblicke\, tauschen Sie sich mit anderen Unternehmen aus und teilen Sie Ihr Wissen – schnell\, kostenfrei und ohne Reiseaufwand. \nRegistrieren Sie sich jetzt hier!
URL:https://www.aachen.digital/en/event/online-seminar-how-to-5g/
LOCATION:Jülicher Strasse 72a\, Aachen\, Nordrhein-Westfalen\, 52070\, Germany
ATTACH;FMTTYPE=image/jpeg:https://www.aachen.digital/wp-content/uploads/2021/08/Visual-FIR12zu5.JPG.jpg
END:VEVENT
BEGIN:VEVENT
DTSTART;TZID=Europe/Berlin:20210825T123000
DTEND;TZID=Europe/Berlin:20210825T130000
DTSTAMP:20260425T172328
CREATED:20210811T113923Z
LAST-MODIFIED:20220217T094553Z
UID:10005997-1629894600-1629896400@www.aachen.digital
SUMMARY:sustainabilityBITS – 30 Minuten Nachhaltigkeit
DESCRIPTION:Caroline Kogel spricht mit Dr. Dorothea Ernst über ihr gleichnamiges Buch
URL:https://www.aachen.digital/en/event/sustainabilitybits-30-minuten-nachhaltigkeit/
LOCATION:Jülicher Strasse 72a\, Aachen\, Nordrhein-Westfalen\, 52070\, Germany
ATTACH;FMTTYPE=image/jpeg:https://www.aachen.digital/wp-content/uploads/2021/08/Stage-sustainabilityBITS.jpg
ORGANIZER;CN="digitalHUB Aachen":MAILTO:kontakt@hubaachen.de
END:VEVENT
BEGIN:VEVENT
DTSTART;TZID=Europe/Berlin:20210825T180000
DTEND;TZID=Europe/Berlin:20210825T200000
DTSTAMP:20260425T172328
CREATED:20190604T094052Z
LAST-MODIFIED:20190604T094052Z
UID:10005160-1629914400-1629921600@www.aachen.digital
SUMMARY:Was ist neu bei iOS? Talk mit iOS-Entwickler Manuel Carrasco Molina
DESCRIPTION:Bei der WWDC 2019 (Worldwide Developers Conference) vom 3. bis 7. Juni in San Jose kommen die kreativsten und innovativsten Entwickler zusammen. Für Apple-Fans ist vor allem die Keynote interessant\, auf welcher die aktuellsten Neuheiten von Apple vorgestellt werden. \nIn Kooperation mit dem brandneuen Coworking-Space haupt|cw|artier veranstaltet Düren.Digital Network zwei Talks\, bei denen mit iOS-Entwickler Manuel Carrasco Molina in die Zukunft geblickt wird: Welche Möglichkeiten werden Machine Learning und Augmented Reality in Zukunft bieten? \nKurz und knackig fasst der Referent die Keynote zusammen und macht die Zukunft Apples für uns erlebbar. Inklusive anschließender Diskussion. \nZielgruppe: Vom einfachen Apple-User bis zum iOS-Entwickler ist jeder herzlich eingeladen sich über die neusten Apple-Funktionen zu informieren. \nFacts\n1. Veranstaltung: Mittwoch\, 05.06.2019\, 10:00 – 12:00 Uhr\n2. Veranstaltung: Dienstag\, 11.06.2019\, 18:00 – 20:00 Uhr \nAnmeldung erwünscht bei Düren.Digital Network-Manager Philipp Schlenkert per Mail an: p.schlenkert@windn.de
URL:https://www.aachen.digital/en/event/was-ist-neu-bei-ios-talk-mit-ios-entwickler-manuel-carrasco-molina/2021-08-25/
LOCATION:haupt|cw|artier\, Philippstr. 27\, Düren\, NRW\, 52349\, Deutschland
ATTACH;FMTTYPE=image/jpeg:https://www.aachen.digital/wp-content/uploads/2019/06/Hauptqwartier.jpg
END:VEVENT
BEGIN:VEVENT
DTSTART;TZID=Europe/Berlin:20210826T140000
DTEND;TZID=Europe/Berlin:20210826T180000
DTSTAMP:20260425T172328
CREATED:20210809T075640Z
LAST-MODIFIED:20210809T075840Z
UID:10005995-1629986400-1630000800@www.aachen.digital
SUMMARY:Virtuelle Job- und Qualifizierungsbörse für Aachen
DESCRIPTION:für Jobsuchende\, Unternehmen und Bildungsträger\n\nBei der ersten virtuellen Job- und Qualifizierungsbörse bringt die Stadt Aachen zusammen mit der Städteregion Aachen\, dem Jobcenter der StädteRegion Aachen und der Bundesagentur für Arbeit Aachen – Düren Arbeitssuchende\, Beschäftigte\, Helfer\, Un- und Angelernte\, Fachkräfte und alle die auf der Suche nach einer neuen beruflichen Tätigkeit sind mit Unternehmen aus der Region zusammen. Das Besondere an dem Event ist die gezielte Involvierung von regionalen Bildungsträgern. Denn sollten evtl. Qualifikationen oder Kenntnisse für den perfekten Job / die perfekte Fachkraft fehlen\, wird am Veranstaltungstag direkt der passende Bildungsträger zur Seite gestellt. \nÜber die eingebundene Matching-Plattform von Anny\, eines unserer Startups aus der digitalHUB Community\, können Jobsuchende direkt die passende Stelle finden. \nDie Anmeldung für Unternehmen und Bildungsträger ist noch bis zum 12. August möglich. \nAnmeldung und weitere Informationen: https://www.jobboerse.ac/
URL:https://www.aachen.digital/en/event/virtuelle-job-und-qualifizierungsboerse-fuer-aachen/
LOCATION:Jülicher Strasse 72a\, Aachen\, Nordrhein-Westfalen\, 52070\, Germany
ATTACH;FMTTYPE=image/jpeg:https://www.aachen.digital/wp-content/uploads/2021/08/stage-jobboerse.jpg
END:VEVENT
BEGIN:VEVENT
DTSTART;TZID=Europe/Berlin:20210826T160000
DTEND;TZID=Europe/Berlin:20210826T180000
DTSTAMP:20260425T172328
CREATED:20210719T094417Z
LAST-MODIFIED:20210816T080104Z
UID:10005959-1629993600-1630000800@www.aachen.digital
SUMMARY:Routen der Innovation – Mobility Edition
DESCRIPTION:„Routen der Innovation“ ist eine Veranstaltungsreihe im Rahmen unseres Projekts „Care and Mobility Innovation“\, bei der wir Ihnen Innovationen aus der gesamten Region Aachen anschaulich präsentieren möchten. \nEs gibt zahlreiche Good-Practice-Beispiele im Bereich der digitalen Gesundheitswirtschaft und der intelligenten Mobilität. Diese möchten wir mit unseren „Routen der Innovation“ für Sie erlebbar machen!\nVom mobility on demand-Angebot eines Netliners bis zu E-Bike-Sharing oder einem innovativen Shuttle auf einer Teststrecke – wir organisieren „Reiserouten“ nicht nur für Fachpublikum\, sondern für alle\, die an innovativen Lösungen interessiert sind. \nLos geht‘s am 26. August mit der „Mobility Edition“ mit Livestream aus dem OecherLab: Beim Online-Kick-off werden unsere Innovator:innen neue Ideen und spannende Produkte rund um das Thema Mobilität vorstellen und Ihnen ganz besondere Einblicke gewähren. \nWir laden alle Interessierten\, darunter auch alle Bürger:innen als zukünftige Anwender:innen ein\,\nmit uns vorbildhafte Projekte und Innovationen aus der gesamten Region digital zu besuchen und\nkennenzulernen. Unser Online-Event bildet den Auftakt zu weiteren Routen der Innovation. Die nächste Veranstaltung „Routen der Innovation – CARE Edition“ findet am 05. Oktober 2021 statt. \nJETZT ANMELDEN \nInfos zu „Care and Mobility Innovation“ finden Sie unter www.careandmobility.de. \n 
URL:https://www.aachen.digital/en/event/route-der-innovation-mobility-edition/
LOCATION:Jülicher Strasse 72a\, Aachen\, Nordrhein-Westfalen\, 52070\, Germany
ATTACH;FMTTYPE=image/png:https://www.aachen.digital/wp-content/uploads/2021/07/STD_RdI_MobilityEdition_26.08.2021-002.png
ORGANIZER;CN="Region Aachen Zweckverband":MAILTO:info@regionaachen.de
END:VEVENT
BEGIN:VEVENT
DTSTART;TZID=Europe/Berlin:20210827T090000
DTEND;TZID=Europe/Berlin:20210827T140000
DTSTAMP:20260425T172328
CREATED:20210107T102452Z
LAST-MODIFIED:20221213T132058Z
UID:10005786-1630054800-1630072800@www.aachen.digital
SUMMARY:Online Sprechtag der AGIT
DESCRIPTION:Anspruchsvolle Projekte brauchen anspruchsvolle Vorbereitung und anspruchsvolle Partner!\nKompetente Mitarbeiter der AGIT – Aachener Gesellschaft für Innovation und Technologietransfer mbH – unterstützen Sie dabei\, folgende Fragen zu klären damit Sie Ihre technologischen Ideen in Unternehmen umzusetzen können:
URL:https://www.aachen.digital/en/event/online-sprechtag-der-agit-11/
LOCATION:Jülicher Strasse 72a\, Aachen\, Nordrhein-Westfalen\, 52070\, Germany
ATTACH;FMTTYPE=image/jpeg:https://www.aachen.digital/wp-content/uploads/2021/01/Sprechtag-AGIT-stage.jpg
END:VEVENT
BEGIN:VEVENT
DTSTART;VALUE=DATE:20210830
DTEND;VALUE=DATE:20210904
DTSTAMP:20260425T172328
CREATED:20210728T105930Z
LAST-MODIFIED:20210826T103619Z
UID:10005966-1630281600-1630713599@www.aachen.digital
SUMMARY:PIRATE Live 2021
DESCRIPTION:Das ikonische Digital Tech Festival ist zurück. \nPIRATE Live ist ein fünftägiges Online-Erlebnis\, das sorgfältig für Tech- und Startup-Enthusiasten auf der ganzen Welt entwickelt wurde. Unsere Inhalte wurden entwickelt\, um authentische Geschichten zu erzählen und wertvolle Erkenntnisse zu teilen\, um jedem auf seinem Weg zu helfen. Am Ende des Tages ist jeder Unternehmer für sein eigenes Leben – das ist der Geist\, den wir feiern wollen.
URL:https://www.aachen.digital/en/event/pirate-live-2021/
LOCATION:Jülicher Strasse 72a\, Aachen\, Nordrhein-Westfalen\, 52070\, Germany
ATTACH;FMTTYPE=image/jpeg:https://www.aachen.digital/wp-content/uploads/2021/08/stage-pirate-live.jpg
END:VEVENT
BEGIN:VEVENT
DTSTART;TZID=Europe/Berlin:20210831T190000
DTEND;TZID=Europe/Berlin:20210831T213000
DTSTAMP:20260425T172328
CREATED:20210726T130136Z
LAST-MODIFIED:20210915T094916Z
UID:10005961-1630436400-1630445400@www.aachen.digital
SUMMARY:Online Event: Gründer:innen Stammtisch
DESCRIPTION:Am 31. August findet unser Gründer:innen Stammtisch als Online-Event statt. Der Stammtisch wird veranstaltet\, um die Aachener Gründer:innenwelt bei gemütlicher Atmosphäre zusammenzubringen. \nAb 19 Uhr treffen wir uns virtuell mit der Startup Community vom digitalHUB Aachen\, RWTH Innovation \, AC.E – Aachener Entrepreneurship Team e.V. und der FH-Aachen in einem ZOOM-Meeting. \nWie immer werden 2-3 Ideen von (zukünftigen) Gründer:Innen präsentiert. Es gibt ebenfalls die Möglichkeit\, spontan eine Idee zu präsentieren\, um Feedback von der Community zu erhalten. Ob spontan oder vorbereitet\, mit oder ohne Folien\, ist Euch überlassen. Während einer anschließenden Diskussionsrunde werden offene Fragen beantworten. \nJede:r\, der eine coole Idee hat und diese gerne teilen und diskutieren möchte\, ist beim Gründer:innen Stammtisch herzlich willkommen. \nSeid dabei! Wir freuen uns auf euch! \nAnmeldung: https://www.eventbrite.de/e/grunderinnen-stammtisch-tickets-167647144121 \n  \nOn August 31st\, the Gründer:innen Stammtisch for founders will take place as an online event. The Stammtisch is organized to bring together the founders of Aachen in a cozy atmosphere. \nStarting at 7 pm we will meet virtually with the startup community from digitalHUB Aachen\, RWTH Innovation \, AC.E – Aachener Entrepreneurship Team e.V. and FH-Aachen in a ZOOM meeting. \nAs always\, 2-3 ideas from (future) founders will be presented. There is also the possibility to spontaneously present an idea to get feedback from the community. Whether spontaneous or prepared\, with or without slides\, is up to you. During a subsequent discussion round\, open questions will be answered. \nEveryone who has a cool idea and would like to share and discuss it is welcome at the Stammtisch. \nWe are happy to meet you! \n  \n 
URL:https://www.aachen.digital/en/event/online-event-gruenderinnen-stammtisch-31august/
LOCATION:Jülicher Strasse 72a\, Aachen\, Nordrhein-Westfalen\, 52070\, Germany
ATTACH;FMTTYPE=image/jpeg:https://www.aachen.digital/wp-content/uploads/2021/07/210126_Gruenderinnen-Stammtisch_stage.jpg
ORGANIZER;CN="digitalHUB Aachen":MAILTO:kontakt@hubaachen.de
END:VEVENT
END:VCALENDAR