BEGIN:VCALENDAR
VERSION:2.0
PRODID:-//digitalHUB Aachen - ECPv6.15.20//NONSGML v1.0//EN
CALSCALE:GREGORIAN
METHOD:PUBLISH
X-WR-CALNAME:digitalHUB Aachen
X-ORIGINAL-URL:https://www.aachen.digital/en/
X-WR-CALDESC:Events for digitalHUB Aachen
REFRESH-INTERVAL;VALUE=DURATION:PT1H
X-Robots-Tag:noindex
X-PUBLISHED-TTL:PT1H
BEGIN:VTIMEZONE
TZID:Europe/Berlin
BEGIN:DAYLIGHT
TZOFFSETFROM:+0100
TZOFFSETTO:+0200
TZNAME:CEST
DTSTART:20200329T010000
END:DAYLIGHT
BEGIN:STANDARD
TZOFFSETFROM:+0200
TZOFFSETTO:+0100
TZNAME:CET
DTSTART:20201025T010000
END:STANDARD
BEGIN:DAYLIGHT
TZOFFSETFROM:+0100
TZOFFSETTO:+0200
TZNAME:CEST
DTSTART:20210328T010000
END:DAYLIGHT
BEGIN:STANDARD
TZOFFSETFROM:+0200
TZOFFSETTO:+0100
TZNAME:CET
DTSTART:20211031T010000
END:STANDARD
BEGIN:DAYLIGHT
TZOFFSETFROM:+0100
TZOFFSETTO:+0200
TZNAME:CEST
DTSTART:20220327T010000
END:DAYLIGHT
BEGIN:STANDARD
TZOFFSETFROM:+0200
TZOFFSETTO:+0100
TZNAME:CET
DTSTART:20221030T010000
END:STANDARD
END:VTIMEZONE
BEGIN:VEVENT
DTSTART;TZID=Europe/Berlin:20211201T170000
DTEND;TZID=Europe/Berlin:20211201T213000
DTSTAMP:20260425T121833
CREATED:20211116T104948Z
LAST-MODIFIED:20211116T104948Z
UID:10005551-1638378000-1638394200@www.aachen.digital
SUMMARY:KI Expert Series No 2 – KI in der Industrieproduktion
DESCRIPTION:Gemeinsam mit der Wirtschaftsförderung Mönchengladbach lädt der digihub Düsseldorf/Rheinland zur 2. KI Expert Series am 1.12. in die Textilakademie NRW in Mönchengladbach ein. \nExperten aus der Industrie und Forschung diskutieren über die Potentiale von künstlicher Intelligenz in der Industrieproduktion und präsentieren Einsatzmöglichkeiten für den Mittelstand. Mit dabei sind Henkel\, SMS digital\, das Institut für Textiltechnik und viele andere. \nIm Anschluss sind alle Teilnehmer zum persönlichen Austausch und Networking eingeladen! \nInformationen und Anmeldung
URL:https://www.aachen.digital/en/event/ki-expert-series-no-2-ki-in-der-industrieproduktion/
LOCATION:Nordrhein-Westfalen
ATTACH;FMTTYPE=image/jpeg:https://www.aachen.digital/wp-content/uploads/2021/11/Design-ohne-Titel-13.jpg
ORGANIZER;CN="digihub D%C3%BCsseldorf Rheinland":MAILTO:info@digihub.de
END:VEVENT
BEGIN:VEVENT
DTSTART;TZID=Europe/Berlin:20211201T180000
DTEND;TZID=Europe/Berlin:20211201T200000
DTSTAMP:20260425T121833
CREATED:20190604T094052Z
LAST-MODIFIED:20190604T094052Z
UID:10005174-1638381600-1638388800@www.aachen.digital
SUMMARY:Was ist neu bei iOS? Talk mit iOS-Entwickler Manuel Carrasco Molina
DESCRIPTION:Bei der WWDC 2019 (Worldwide Developers Conference) vom 3. bis 7. Juni in San Jose kommen die kreativsten und innovativsten Entwickler zusammen. Für Apple-Fans ist vor allem die Keynote interessant\, auf welcher die aktuellsten Neuheiten von Apple vorgestellt werden. \nIn Kooperation mit dem brandneuen Coworking-Space haupt|cw|artier veranstaltet Düren.Digital Network zwei Talks\, bei denen mit iOS-Entwickler Manuel Carrasco Molina in die Zukunft geblickt wird: Welche Möglichkeiten werden Machine Learning und Augmented Reality in Zukunft bieten? \nKurz und knackig fasst der Referent die Keynote zusammen und macht die Zukunft Apples für uns erlebbar. Inklusive anschließender Diskussion. \nZielgruppe: Vom einfachen Apple-User bis zum iOS-Entwickler ist jeder herzlich eingeladen sich über die neusten Apple-Funktionen zu informieren. \nFacts\n1. Veranstaltung: Mittwoch\, 05.06.2019\, 10:00 – 12:00 Uhr\n2. Veranstaltung: Dienstag\, 11.06.2019\, 18:00 – 20:00 Uhr \nAnmeldung erwünscht bei Düren.Digital Network-Manager Philipp Schlenkert per Mail an: p.schlenkert@windn.de
URL:https://www.aachen.digital/en/event/was-ist-neu-bei-ios-talk-mit-ios-entwickler-manuel-carrasco-molina/2021-12-01/
LOCATION:haupt|cw|artier\, Philippstr. 27\, Düren\, NRW\, 52349\, Deutschland
ATTACH;FMTTYPE=image/jpeg:https://www.aachen.digital/wp-content/uploads/2019/06/Hauptqwartier.jpg
END:VEVENT
BEGIN:VEVENT
DTSTART;TZID=Europe/Berlin:20211202T140000
DTEND;TZID=Europe/Berlin:20211202T174500
DTSTAMP:20260425T121833
CREATED:20211116T094235Z
LAST-MODIFIED:20211116T094235Z
UID:10005550-1638453600-1638467100@www.aachen.digital
SUMMARY:Kultur und Krise: Wie schafft ihr das?
DESCRIPTION:1. digitales Kultur-Barcamp der Region Aachen\nDie 17. Kulturkonferenz der Region Aachen findet im Rahmen eines digitalen Barcamps statt. Am 2. Dezember 2021 bietet sie von 14 bis 17:45 Uhr einen Austausch über die Arbeit während der Corona-Pandemie. \nWas habt ihr seit dem 1. Lockdown getan? Wie habt ihr euer künstlerisches Überleben geschafft? Was habt ihr daraus gelernt? Was braucht ihr in Zukunft für eure gesellschaftliche wichtige Arbeit? \nWir möchten euch Künstler:innen und Kulturschaffenden die Gelegenheit bieten\, euch über eure Arbeit in den letzten zwei Jahren Corona-Pandemie auszutauschen\, euch zu vernetzen und euch gegenseitig eure „Mutmach-Geschichten“ zu erzählen. Eure aktive Beteiligung wird innerhalb der Sessions stattfinden\, da ihr als Teilnehmende die Themen selbst vorschlagt und moderiert. Themen-Vorschläge können gerne schon vorab unter kulturbuero@regionaachen.de eingereicht werden. \nWeitere Informationen
URL:https://www.aachen.digital/en/event/kultur-und-krise-wie-schafft-ihr-das/
LOCATION:Jülicher Strasse 72a\, Aachen\, Nordrhein-Westfalen\, 52070\, Germany
ATTACH;FMTTYPE=image/jpeg:https://www.aachen.digital/wp-content/uploads/2021/11/AdobeStock_181021829-scaled.jpeg
ORGANIZER;CN="Region Aachen Zweckverband":MAILTO:info@regionaachen.de
END:VEVENT
BEGIN:VEVENT
DTSTART;TZID=Europe/Berlin:20211206T150000
DTEND;TZID=Europe/Berlin:20211206T180000
DTSTAMP:20260425T121833
CREATED:20210107T091629Z
LAST-MODIFIED:20211206T115348Z
UID:10005774-1638802800-1638813600@www.aachen.digital
SUMMARY:Mitgliederversammlung digitalHUB Aachen e.V.
DESCRIPTION:Der Vorstand des digitalHUB Aachen e.V. lädt alle Mitglieder zur 6. ordentlichen Mitgliederversammlung am 6. Dezember 2021 ein. \nEingeladen sind neben den stimmberechtigten gesetzlichen Vertretern auch unser Fördermitglieder und Supporter sowie interessierte Mitarbeiter:innen aus den Mitgliedsunternehmen. \n 
URL:https://www.aachen.digital/en/event/mitgliederversammlung-digitalhub-aachen-e-v-am-06-12-2021/
LOCATION:digitalHUB Aachen\, Jülicher Str. 72a\, Aachen\, Nordrhein-Westfalen\, 52070\, Germany
ATTACH;FMTTYPE=image/jpeg:https://www.aachen.digital/wp-content/uploads/2019/04/Mitgliederversammlung.jpg
ORGANIZER;CN="digitalHUB Aachen":MAILTO:kontakt@hubaachen.de
END:VEVENT
BEGIN:VEVENT
DTSTART;TZID=Europe/Berlin:20211208T140000
DTEND;TZID=Europe/Berlin:20211208T181500
DTSTAMP:20260425T121833
CREATED:20211123T105609Z
LAST-MODIFIED:20211126T115338Z
UID:10006073-1638972000-1638987300@www.aachen.digital
SUMMARY:Online-Finance-Day für Aachener Startups
DESCRIPTION:Am 8. Dezember 2021 öffnen wir unser Incubation Program für alle Startups unseres digitalHUB Aachen\, der RWTH Aachen und der FH Aachen: An diesem Tag dreht sich alles rund um das Thema Finanzierung.\nIhr möchtet euer Startup vor einer Gruppe ausgewählter Mentor:innen und/oder Business Angels vorstellen?\nIhr habt in eurem Startup konkrete Fragen und Anwendungsfälle rund um das Thema Finanzierung\, die ihr diskutieren möchtet? \nDann nutzt die Chance euer Gründungsvorhaben im Rahmen unseres Online-Finance-Days zu pitchen.\nZusätzlich könnt ihr 1:1-Sessions buchen\, um euer Startup verschiedenen Venture Capitalists vorzustellen oder euch bei Expert:innen zu aktuellen Fördermittelprogrammen zu informieren. \nMit dabei sind: \n\nMentor:innen & Business Angels\nVenture Capitalists sowie\nFördermittelexpert:innen\n\nOrt: ZOOM \nAnmeldung \nDie Teilnahme am Online-Finance-Day ist kostenlos. \nNach erfolgreicher Anmeldung erhaltet ihr separat eine Mail mit dem Link zum gemeinsamen ZOOM-Channel sowie einen Link\, der euch zur Buchung der 1:1-Sessions weiterleitet. \nBei Fragen wendet euch gerne an Mukunthan & Christian:\nmukunthan.nadarajah@hubaachen.de & christian.klusmann@hubaachen.de
URL:https://www.aachen.digital/en/event/33754/
LOCATION:Jülicher Strasse 72a\, Aachen\, Nordrhein-Westfalen\, 52070\, Germany
ATTACH;FMTTYPE=image/jpeg:https://www.aachen.digital/wp-content/uploads/2021/08/Incubator-Stage-1.jpg
ORGANIZER;CN="digitalHUB Aachen":MAILTO:kontakt@hubaachen.de
END:VEVENT
BEGIN:VEVENT
DTSTART;TZID=Europe/Berlin:20211208T180000
DTEND;TZID=Europe/Berlin:20211208T200000
DTSTAMP:20260425T121833
CREATED:20190604T094052Z
LAST-MODIFIED:20190604T094052Z
UID:10005175-1638986400-1638993600@www.aachen.digital
SUMMARY:Was ist neu bei iOS? Talk mit iOS-Entwickler Manuel Carrasco Molina
DESCRIPTION:Bei der WWDC 2019 (Worldwide Developers Conference) vom 3. bis 7. Juni in San Jose kommen die kreativsten und innovativsten Entwickler zusammen. Für Apple-Fans ist vor allem die Keynote interessant\, auf welcher die aktuellsten Neuheiten von Apple vorgestellt werden. \nIn Kooperation mit dem brandneuen Coworking-Space haupt|cw|artier veranstaltet Düren.Digital Network zwei Talks\, bei denen mit iOS-Entwickler Manuel Carrasco Molina in die Zukunft geblickt wird: Welche Möglichkeiten werden Machine Learning und Augmented Reality in Zukunft bieten? \nKurz und knackig fasst der Referent die Keynote zusammen und macht die Zukunft Apples für uns erlebbar. Inklusive anschließender Diskussion. \nZielgruppe: Vom einfachen Apple-User bis zum iOS-Entwickler ist jeder herzlich eingeladen sich über die neusten Apple-Funktionen zu informieren. \nFacts\n1. Veranstaltung: Mittwoch\, 05.06.2019\, 10:00 – 12:00 Uhr\n2. Veranstaltung: Dienstag\, 11.06.2019\, 18:00 – 20:00 Uhr \nAnmeldung erwünscht bei Düren.Digital Network-Manager Philipp Schlenkert per Mail an: p.schlenkert@windn.de
URL:https://www.aachen.digital/en/event/was-ist-neu-bei-ios-talk-mit-ios-entwickler-manuel-carrasco-molina/2021-12-08/
LOCATION:haupt|cw|artier\, Philippstr. 27\, Düren\, NRW\, 52349\, Deutschland
ATTACH;FMTTYPE=image/jpeg:https://www.aachen.digital/wp-content/uploads/2019/06/Hauptqwartier.jpg
END:VEVENT
BEGIN:VEVENT
DTSTART;TZID=Europe/Berlin:20211213T150000
DTEND;TZID=Europe/Berlin:20211213T170000
DTSTAMP:20260425T121833
CREATED:20210122T105338Z
LAST-MODIFIED:20211206T091420Z
UID:10005802-1639407600-1639414800@www.aachen.digital
SUMMARY:Steuern & Digitalisierung by FRINGS
DESCRIPTION:Die FRINGS Steuerberatungsgesellschaft mbH bietet eine offene Sprechstunde im Bereich der Digitalisierung online an. \n“Das Business ist längst digital. Steuerberatung und die Prozesse im Bereich „Finance“ werden es auch. Wir bei FRINGS zählen schon heute zu den Steuerberatern\, die das Geschäft ihrer Mandanten ganzheitlich auf digitalen Prozessen begleiten. Ganz selbstverständlich. Transparenz auf Knopfdruck\, ortsunabhängiges Arbeiten und Kommunizieren und die Erfahrung aus praktizierter Digitalisierung bei Mandanten macht uns zu einem Steuerberater\, der Digitalisierung nicht nur versteht\, sondern lebt.\nIn diesem Kontext zeigen wir den Mitgliedsunternehmen des digitalHUB Aachen e.V. in einem persönlichen Termin vor Ort in der digitalCHURCH unverbindlich auf\, welche Möglichkeiten sich heute bereits bieten\, um auch die Prozesse im Bereich der Buchhaltung und Steuerdeklaration von Beginn an zu digitalisieren. Hierbei geht es u.a. um Themen wie „papierloses Büro“\, Archivierungssysteme\, E-Rechnung\, Zahlungsverkehr\, ersetzendes Scannen usw. Auch erläutern wir\, welche gesetzliche Anforderungen bei der Schaffung digitaler Geschäftsmodelle insbesondere aus Sicht der sogenannten GoBD („Grundsätze zur ordnungsmäßigen Führung und Aufbewahrung von Büchern\, Aufzeichnungen und Unterlagen in elektronischer Form sowie Datenzugriff“) zu beachten sind.” \nDie Termine werden von jeweils einer halben Stunde pro Beratung vergeben. Bitte melden Sie sich bei Interesse unter philicia.dickmeis@hubaachen.de an.
URL:https://www.aachen.digital/en/event/open-office-steuerberatung-frings-5/
LOCATION:Jülicher Strasse 72a\, Aachen\, Nordrhein-Westfalen\, 52070\, Germany
ATTACH;FMTTYPE=image/jpeg:https://www.aachen.digital/wp-content/uploads/2021/01/Sprechstunde-Frings_stage-1.jpg
END:VEVENT
BEGIN:VEVENT
DTSTART;TZID=Europe/Berlin:20211214T100000
DTEND;TZID=Europe/Berlin:20211214T110000
DTSTAMP:20260425T121833
CREATED:20211118T133123Z
LAST-MODIFIED:20211118T133123Z
UID:10006069-1639476000-1639479600@www.aachen.digital
SUMMARY:Datenschutz-News 2021
DESCRIPTION:Bei den Datenschutz-News bieten wir mit Datenschutz-Expertin Olga Kunkel einen besonderes Jahresrückblick und fassen die Ereignisse zusammen\, die aus Sicht des Datenschutzes besonders interessant und relevant im Jahr 2021 waren. \nSie erfahren\, u.a. wie sich die E-Privacy-Verordnung entwickelt; warum große amerikanische Unternehmen in der EU eine datenschutztechnisch schwierigere Stellung haben müssten\, aber noch nicht haben; wieso dem Datenschutz gerne Schuld an unzureichender Pandemiebekämpfung gegeben wird; wer von den Änderungen an der DSGVO profitiert; was in der DSGVO nach wie vor falsch verstanden wird. \nAblauf\n– Begrüßung\n– DSGVO: ein Überblick\n– Datenschutznews 2021\n– Datenschutz-Compliance\n– Fragenrunde \nIm Rahmen dieser Veranstaltung können Sie unserer Referentin Olga Kunkel direkt und persönlich Ihre Fragen stellen. Diese Veranstaltung ist kostenfrei. Wir freuen uns auf Ihre Teilnahme! \nWeitere Informationen und die Anmeldung finden Sie hier.
URL:https://www.aachen.digital/en/event/datenschutz-news-2021/
LOCATION:Jülicher Strasse 72a\, Aachen\, Nordrhein-Westfalen\, 52070\, Germany
ATTACH;FMTTYPE=image/jpeg:https://www.aachen.digital/wp-content/uploads/2021/07/AdobeStock_211845830_Data-control-wall-scaled.jpeg
END:VEVENT
BEGIN:VEVENT
DTSTART;TZID=Europe/Berlin:20211214T180000
DTEND;TZID=Europe/Berlin:20211214T200000
DTSTAMP:20260425T121833
CREATED:20211116T114751Z
LAST-MODIFIED:20211214T104446Z
UID:10006055-1639504800-1639512000@www.aachen.digital
SUMMARY:AC² - Abend: Digitalisierung und Datensicherheit
DESCRIPTION:Save the Date! Am 14. Dezember findet der AC² Abend zum Thema Digitalisierung und Datensicherheit statt. \nAlle Informationen zum Event und zur Anmeldung folgen in Kürze. \nAnmeldung
URL:https://www.aachen.digital/en/event/ac%c2%b2-abend-digitalisierung-und-datensicherheit/
LOCATION:Nordrhein-Westfalen
ATTACH;FMTTYPE=image/jpeg:https://www.aachen.digital/wp-content/uploads/2021/11/AC²-Wachstum.jpg
ORGANIZER;CN="Gr%C3%BCnderRegion Aachen":MAILTO:info@gruenderregion.de
END:VEVENT
BEGIN:VEVENT
DTSTART;TZID=Europe/Berlin:20211214T190000
DTEND;TZID=Europe/Berlin:20211214T220000
DTSTAMP:20260425T121833
CREATED:20210803T111852Z
LAST-MODIFIED:20211108T114841Z
UID:10005987-1639508400-1639519200@www.aachen.digital
SUMMARY:Gründer:innen Stammtisch
DESCRIPTION:SPECIAL: Weihnachtsmarkt/-party & Alumnitreffen = Spaß + Austausch.\nDer Stammtisch wird veranstaltet\, um die Aachener Gründer:innenwelt bei gemütlicher Atmosphäre zusammenzubringen. \nAb 19 Uhr treffen wir uns LIVE mit der Startup Community vom digitalHUB Aachen\, RWTH Innovation \, AC.E – Aachener Entrepreneurship Team e.V. und der FH-Aachen. \nWie immer werden 2-3 Ideen von (zukünftigen) Gründer:Innen präsentiert. Es gibt ebenfalls die Möglichkeit\, spontan eine Idee zu präsentieren\, um Feedback von der Community zu erhalten. Ob spontan oder vorbereitet\, mit oder ohne Folien\, ist Euch überlassen. Während einer anschließenden Diskussionsrunde werden offene Fragen beantworten. \nJede:r\, der eine coole Idee hat und diese gerne teilen und diskutieren möchte\, ist beim Gründer:innen Stammtisch herzlich willkommen. \nSeid dabei! Wir freuen uns auf euch! \nANMELDUNG \nSPECIAL: Christmas market/party & alumni meeting = Fun +Networking.\nThe Stammtisch is organized to bring together the founders of Aachen in a cozy atmosphere. \nStarting at 7 pm we will meet LIVE with the startup community from digitalHUB Aachen\, RWTH Innovation \, AC.E – Aachener Entrepreneurship Team e.V. and FH-Aachen. \nAs always\, 2-3 ideas from (future) founders will be presented. There is also the possibility to spontaneously present an idea to get feedback from the community. Whether spontaneous or prepared\, with or without slides\, is up to you. During a subsequent discussion round\, open questions will be answered. \nEveryone who has a cool idea and would like to share and discuss it is welcome at the Stammtisch. \nWe are happy to meet you! \nREGISTRATION \n 
URL:https://www.aachen.digital/en/event/online-event-gruenderinnen-stammtisch-6/
LOCATION:Nordrhein-Westfalen
ATTACH;FMTTYPE=image/jpeg:https://www.aachen.digital/wp-content/uploads/2021/07/210126_Gruenderinnen-Stammtisch_stage.jpg
ORGANIZER;CN="digitalHUB Aachen":MAILTO:kontakt@hubaachen.de
END:VEVENT
BEGIN:VEVENT
DTSTART;TZID=Europe/Berlin:20211215T180000
DTEND;TZID=Europe/Berlin:20211215T200000
DTSTAMP:20260425T121833
CREATED:20190604T094052Z
LAST-MODIFIED:20190604T094052Z
UID:10005176-1639591200-1639598400@www.aachen.digital
SUMMARY:Was ist neu bei iOS? Talk mit iOS-Entwickler Manuel Carrasco Molina
DESCRIPTION:Bei der WWDC 2019 (Worldwide Developers Conference) vom 3. bis 7. Juni in San Jose kommen die kreativsten und innovativsten Entwickler zusammen. Für Apple-Fans ist vor allem die Keynote interessant\, auf welcher die aktuellsten Neuheiten von Apple vorgestellt werden. \nIn Kooperation mit dem brandneuen Coworking-Space haupt|cw|artier veranstaltet Düren.Digital Network zwei Talks\, bei denen mit iOS-Entwickler Manuel Carrasco Molina in die Zukunft geblickt wird: Welche Möglichkeiten werden Machine Learning und Augmented Reality in Zukunft bieten? \nKurz und knackig fasst der Referent die Keynote zusammen und macht die Zukunft Apples für uns erlebbar. Inklusive anschließender Diskussion. \nZielgruppe: Vom einfachen Apple-User bis zum iOS-Entwickler ist jeder herzlich eingeladen sich über die neusten Apple-Funktionen zu informieren. \nFacts\n1. Veranstaltung: Mittwoch\, 05.06.2019\, 10:00 – 12:00 Uhr\n2. Veranstaltung: Dienstag\, 11.06.2019\, 18:00 – 20:00 Uhr \nAnmeldung erwünscht bei Düren.Digital Network-Manager Philipp Schlenkert per Mail an: p.schlenkert@windn.de
URL:https://www.aachen.digital/en/event/was-ist-neu-bei-ios-talk-mit-ios-entwickler-manuel-carrasco-molina/2021-12-15/
LOCATION:haupt|cw|artier\, Philippstr. 27\, Düren\, NRW\, 52349\, Deutschland
ATTACH;FMTTYPE=image/jpeg:https://www.aachen.digital/wp-content/uploads/2019/06/Hauptqwartier.jpg
END:VEVENT
BEGIN:VEVENT
DTSTART;TZID=Europe/Berlin:20211216T183000
DTEND;TZID=Europe/Berlin:20211216T200000
DTSTAMP:20260425T121833
CREATED:20211117T154840Z
LAST-MODIFIED:20211207T135302Z
UID:10006066-1639679400-1639684800@www.aachen.digital
SUMMARY:ABGESAGT: Mitglieder ComeTogether - Weihnachts-Edition
DESCRIPTION:Sozialer Spirit aus der Aachen Area\n– Das Event wurde leider aufgrund der aktuellen Corona-Situation abgesagt –  \nDie Weihnachtszeit ist auch immer eine Zeit\, in der wir näher zusammenrücken und füreinander da sind. Deswegen wollen wir drei sozialen Projekten aus der Aachen Area mehr Sichtbarkeit geben\, um gemeinsam den Zusammenhalt in der Region zu stärken. Folgende Projekte werden von Projektvertretern im Dialog mit unseren HUB-Coaches Andi Dreger und Eda Körner-Tezer vorgestellt:
URL:https://www.aachen.digital/en/event/mitglieder-cometogether-weihnachts-edition-sozialer-spirit-aus-der-aachen-area/
LOCATION:digitalHUB Aachen\, Jülicher Str. 72a\, Aachen\, Nordrhein-Westfalen\, 52070\, Germany
ATTACH;FMTTYPE=image/jpeg:https://www.aachen.digital/wp-content/uploads/2020/12/weihnachten_stage.jpg
ORGANIZER;CN="digitalHUB Aachen":MAILTO:kontakt@hubaachen.de
END:VEVENT
BEGIN:VEVENT
DTSTART;TZID=Europe/Berlin:20211222T180000
DTEND;TZID=Europe/Berlin:20211222T200000
DTSTAMP:20260425T121833
CREATED:20190604T094052Z
LAST-MODIFIED:20190604T094052Z
UID:10005177-1640196000-1640203200@www.aachen.digital
SUMMARY:Was ist neu bei iOS? Talk mit iOS-Entwickler Manuel Carrasco Molina
DESCRIPTION:Bei der WWDC 2019 (Worldwide Developers Conference) vom 3. bis 7. Juni in San Jose kommen die kreativsten und innovativsten Entwickler zusammen. Für Apple-Fans ist vor allem die Keynote interessant\, auf welcher die aktuellsten Neuheiten von Apple vorgestellt werden. \nIn Kooperation mit dem brandneuen Coworking-Space haupt|cw|artier veranstaltet Düren.Digital Network zwei Talks\, bei denen mit iOS-Entwickler Manuel Carrasco Molina in die Zukunft geblickt wird: Welche Möglichkeiten werden Machine Learning und Augmented Reality in Zukunft bieten? \nKurz und knackig fasst der Referent die Keynote zusammen und macht die Zukunft Apples für uns erlebbar. Inklusive anschließender Diskussion. \nZielgruppe: Vom einfachen Apple-User bis zum iOS-Entwickler ist jeder herzlich eingeladen sich über die neusten Apple-Funktionen zu informieren. \nFacts\n1. Veranstaltung: Mittwoch\, 05.06.2019\, 10:00 – 12:00 Uhr\n2. Veranstaltung: Dienstag\, 11.06.2019\, 18:00 – 20:00 Uhr \nAnmeldung erwünscht bei Düren.Digital Network-Manager Philipp Schlenkert per Mail an: p.schlenkert@windn.de
URL:https://www.aachen.digital/en/event/was-ist-neu-bei-ios-talk-mit-ios-entwickler-manuel-carrasco-molina/2021-12-22/
LOCATION:haupt|cw|artier\, Philippstr. 27\, Düren\, NRW\, 52349\, Deutschland
ATTACH;FMTTYPE=image/jpeg:https://www.aachen.digital/wp-content/uploads/2019/06/Hauptqwartier.jpg
END:VEVENT
BEGIN:VEVENT
DTSTART;TZID=Europe/Berlin:20211229T180000
DTEND;TZID=Europe/Berlin:20211229T200000
DTSTAMP:20260425T121833
CREATED:20190604T094052Z
LAST-MODIFIED:20190604T094052Z
UID:10005178-1640800800-1640808000@www.aachen.digital
SUMMARY:Was ist neu bei iOS? Talk mit iOS-Entwickler Manuel Carrasco Molina
DESCRIPTION:Bei der WWDC 2019 (Worldwide Developers Conference) vom 3. bis 7. Juni in San Jose kommen die kreativsten und innovativsten Entwickler zusammen. Für Apple-Fans ist vor allem die Keynote interessant\, auf welcher die aktuellsten Neuheiten von Apple vorgestellt werden. \nIn Kooperation mit dem brandneuen Coworking-Space haupt|cw|artier veranstaltet Düren.Digital Network zwei Talks\, bei denen mit iOS-Entwickler Manuel Carrasco Molina in die Zukunft geblickt wird: Welche Möglichkeiten werden Machine Learning und Augmented Reality in Zukunft bieten? \nKurz und knackig fasst der Referent die Keynote zusammen und macht die Zukunft Apples für uns erlebbar. Inklusive anschließender Diskussion. \nZielgruppe: Vom einfachen Apple-User bis zum iOS-Entwickler ist jeder herzlich eingeladen sich über die neusten Apple-Funktionen zu informieren. \nFacts\n1. Veranstaltung: Mittwoch\, 05.06.2019\, 10:00 – 12:00 Uhr\n2. Veranstaltung: Dienstag\, 11.06.2019\, 18:00 – 20:00 Uhr \nAnmeldung erwünscht bei Düren.Digital Network-Manager Philipp Schlenkert per Mail an: p.schlenkert@windn.de
URL:https://www.aachen.digital/en/event/was-ist-neu-bei-ios-talk-mit-ios-entwickler-manuel-carrasco-molina/2021-12-29/
LOCATION:haupt|cw|artier\, Philippstr. 27\, Düren\, NRW\, 52349\, Deutschland
ATTACH;FMTTYPE=image/jpeg:https://www.aachen.digital/wp-content/uploads/2019/06/Hauptqwartier.jpg
END:VEVENT
END:VCALENDAR