BEGIN:VCALENDAR
VERSION:2.0
PRODID:-//digitalHUB Aachen - ECPv6.15.20//NONSGML v1.0//EN
CALSCALE:GREGORIAN
METHOD:PUBLISH
X-WR-CALNAME:digitalHUB Aachen
X-ORIGINAL-URL:https://www.aachen.digital/en/
X-WR-CALDESC:Events for digitalHUB Aachen
REFRESH-INTERVAL;VALUE=DURATION:PT1H
X-Robots-Tag:noindex
X-PUBLISHED-TTL:PT1H
BEGIN:VTIMEZONE
TZID:Europe/Berlin
BEGIN:DAYLIGHT
TZOFFSETFROM:+0100
TZOFFSETTO:+0200
TZNAME:CEST
DTSTART:20210328T010000
END:DAYLIGHT
BEGIN:STANDARD
TZOFFSETFROM:+0200
TZOFFSETTO:+0100
TZNAME:CET
DTSTART:20211031T010000
END:STANDARD
BEGIN:DAYLIGHT
TZOFFSETFROM:+0100
TZOFFSETTO:+0200
TZNAME:CEST
DTSTART:20220327T010000
END:DAYLIGHT
BEGIN:STANDARD
TZOFFSETFROM:+0200
TZOFFSETTO:+0100
TZNAME:CET
DTSTART:20221030T010000
END:STANDARD
BEGIN:DAYLIGHT
TZOFFSETFROM:+0100
TZOFFSETTO:+0200
TZNAME:CEST
DTSTART:20230326T010000
END:DAYLIGHT
BEGIN:STANDARD
TZOFFSETFROM:+0200
TZOFFSETTO:+0100
TZNAME:CET
DTSTART:20231029T010000
END:STANDARD
END:VTIMEZONE
BEGIN:VEVENT
DTSTART;TZID=Europe/Berlin:20220706T090000
DTEND;TZID=Europe/Berlin:20220706T140000
DTSTAMP:20260425T021558
CREATED:20220629T083308Z
LAST-MODIFIED:20220629T083346Z
UID:10005685-1657098000-1657116000@www.aachen.digital
SUMMARY:Solar Butterfly in Aachen
DESCRIPTION:Der Solar Butterfly ist das neuste Projekt vom Solarpionier Louis Palmer\, der bereits 2007 als erster Mensch mit einem komplett solarbetriebenen Auto um die Welt gefahren ist. Diesmal soll es größer werden! \nDer Solar Butterfly ist eine Art Wohnwagen\, mit ausfahrbaren Wänden und Vollausstattung mit Solarzellen\, welche nicht nur den Wohnwagen\, sondern auch das E-Auto energetisch versorgen. \nDas Ziel: in dreieinhalb Jahren 90 Länder befahren. Ohne einmal zu tanken. Am 23. Mai geht es los: erst durch die Schweiz\, dann Europa und nächstes Jahr dann die anderen Kontinente. In Aachen wird der Solar Butterfly am 6. Juli Halt machen. Dabei werden sich auch lokale Solar- und Energiewende-Pioniere präsentieren. Mit dabei: Der SFV! Wir gehören auch zu den Sponsoren dieser Etappe. \nUm 9 Uhr morgens geht es auf dem Bendplatz los. Bis 14 Uhr gibt es Infos\, Interviews und weitere Programmpunkte\, die noch in der Planung sind. \nDie Weltreise dient der Bewusstseinsbildung über die Notwendigkeit und die Möglichkeiten einer vollständigen Dekarbonisierung des globalen Energiesystems. Die Klimakatastrophe kann noch aufgehalten werden\, u.a. auch mit fortschrittlicher\, dezentraler Technik. \nANMELDUNG
URL:https://www.aachen.digital/en/event/solar-butterfly-in-aachen/
LOCATION:Bendplatz Aachen\, Kühlwetterstraße\, Aachen\, 52072\, Deutschland
ATTACH;FMTTYPE=image/jpeg:https://www.aachen.digital/wp-content/uploads/2022/06/SolarButterfly_stage.jpg
END:VEVENT
BEGIN:VEVENT
DTSTART;TZID=Europe/Berlin:20220706T180000
DTEND;TZID=Europe/Berlin:20220706T200000
DTSTAMP:20260425T021558
CREATED:20190604T094052Z
LAST-MODIFIED:20190604T094052Z
UID:10005205-1657130400-1657137600@www.aachen.digital
SUMMARY:Was ist neu bei iOS? Talk mit iOS-Entwickler Manuel Carrasco Molina
DESCRIPTION:Bei der WWDC 2019 (Worldwide Developers Conference) vom 3. bis 7. Juni in San Jose kommen die kreativsten und innovativsten Entwickler zusammen. Für Apple-Fans ist vor allem die Keynote interessant\, auf welcher die aktuellsten Neuheiten von Apple vorgestellt werden. \nIn Kooperation mit dem brandneuen Coworking-Space haupt|cw|artier veranstaltet Düren.Digital Network zwei Talks\, bei denen mit iOS-Entwickler Manuel Carrasco Molina in die Zukunft geblickt wird: Welche Möglichkeiten werden Machine Learning und Augmented Reality in Zukunft bieten? \nKurz und knackig fasst der Referent die Keynote zusammen und macht die Zukunft Apples für uns erlebbar. Inklusive anschließender Diskussion. \nZielgruppe: Vom einfachen Apple-User bis zum iOS-Entwickler ist jeder herzlich eingeladen sich über die neusten Apple-Funktionen zu informieren. \nFacts\n1. Veranstaltung: Mittwoch\, 05.06.2019\, 10:00 – 12:00 Uhr\n2. Veranstaltung: Dienstag\, 11.06.2019\, 18:00 – 20:00 Uhr \nAnmeldung erwünscht bei Düren.Digital Network-Manager Philipp Schlenkert per Mail an: p.schlenkert@windn.de
URL:https://www.aachen.digital/en/event/was-ist-neu-bei-ios-talk-mit-ios-entwickler-manuel-carrasco-molina/2022-07-06/
LOCATION:haupt|cw|artier\, Philippstr. 27\, Düren\, NRW\, 52349\, Deutschland
ATTACH;FMTTYPE=image/jpeg:https://www.aachen.digital/wp-content/uploads/2019/06/Hauptqwartier.jpg
END:VEVENT
BEGIN:VEVENT
DTSTART;TZID=Europe/Berlin:20220707T163000
DTEND;TZID=Europe/Berlin:20220707T180000
DTSTAMP:20260425T021558
CREATED:20220613T101852Z
LAST-MODIFIED:20220704T102349Z
UID:10006266-1657211400-1657216800@www.aachen.digital
SUMMARY:Open Innovation Lounge Vol.3
DESCRIPTION:Find Your Path: Different Approaches to Open Innovation.\nOpen Innovation ermöglicht zukunftsweisende Ideen auch außerhalb traditioneller Firmestrukturen. Wie das aussehen kann? \nZusammen mit RWTH Aachen sind wir Partner der virtuellen Eventreihe Open Innovation Lounge von German Entrepreneurship. Im Zentrum dieser Ausgabe stehen diesmal die verschiedenen Ansätze von Open Innovation\, die es Unternehmen ermöglicht\, zukunftsweisende Ideen\, Innovationen und Entwicklungen sowohl in als auch außerhalb der traditionellen Firmenstruktur zu finden. Die große Vielfalt an Möglichkeiten ermöglicht eine passgenaue Lösung für jedes Unternehmen. \nMit Venturing Partnership\, Venture Client und Corporate Venture Capital beleuchten wir drei dieser Kollaborationsmodelle genauer und thematisieren die Möglichkeiten\, sich darüber Open Innovation zu nähern so wie Chancen als auch Risiken der einzelnen Ansätze. \nINFORMATIONEN & ANMELDUNG
URL:https://www.aachen.digital/en/event/open-innovation-lounge-vol-3/
LOCATION:Jülicher Strasse 72a\, Aachen\, Nordrhein-Westfalen\, 52070\, Germany
ATTACH;FMTTYPE=image/png:https://www.aachen.digital/wp-content/uploads/2022/06/GE_2022_OIL_Visual_WS_Header-2.png
END:VEVENT
BEGIN:VEVENT
DTSTART;TZID=Europe/Berlin:20220707T170000
DTEND;TZID=Europe/Berlin:20220707T210000
DTSTAMP:20260425T021558
CREATED:20220614T114939Z
LAST-MODIFIED:20220615T114847Z
UID:10006269-1657213200-1657227600@www.aachen.digital
SUMMARY:Mitglieder ComeTogether & HUB-Geburtstagsparty
DESCRIPTION:5 Jahre digitalHUB in der digitalCHURCH\nBei unserem Mitglieder ComeTogether im Juli möchten wir mit unseren Mitgliedern den fünften Geburtstag des digitalHUB in der digitalCHURCH feiern! Wir laden euch zum gemeinsamen Grillen und Anstoßen im Hof der digitalCHURCH ein. \nAnmeldung über unsere Mitgliederplattform: hier\n \nBei Fragen melden Sie sich gerne unter: events@hubaachen.de
URL:https://www.aachen.digital/en/event/mitglieder-cometogether-geburtstagsparty-5-jahre-digitalhub-in-der-digitalchurch/
LOCATION:digitalHUB Aachen\, Jülicher Str. 72a\, Aachen\, Nordrhein-Westfalen\, 52070\, Germany
ATTACH;FMTTYPE=image/jpeg:https://www.aachen.digital/wp-content/uploads/2022/06/jubilaeum-stage.jpg
ORGANIZER;CN="digitalHUB Aachen":MAILTO:kontakt@hubaachen.de
END:VEVENT
BEGIN:VEVENT
DTSTART;TZID=Europe/Berlin:20220713T103000
DTEND;TZID=Europe/Berlin:20220713T123000
DTSTAMP:20260425T021558
CREATED:20220627T135038Z
LAST-MODIFIED:20220711T091953Z
UID:10006273-1657708200-1657715400@www.aachen.digital
SUMMARY:DWNRW-Online-Event: MathWorks (MATLAB) Presentation @ HubAachen
DESCRIPTION:In deinem Startup spielen Datenanalyse\, KI\, Machine Learning oder Signalverarbeitung eine Rolle? Ihr arbeitet bereits mit MATLAB und/oder Simulink oder möchtet die Programme kennenlernen? Dann solltet ihr dieses Online-Event auf keinen Fall verpassen! \n 
URL:https://www.aachen.digital/en/event/dwnrw-hybrid-event-mathworks-matlab-hubaachen/
LOCATION:online
ATTACH;FMTTYPE=image/jpeg:https://www.aachen.digital/wp-content/uploads/2022/06/MathWorks_stage.jpg
END:VEVENT
BEGIN:VEVENT
DTSTART;TZID=Europe/Berlin:20220713T180000
DTEND;TZID=Europe/Berlin:20220713T200000
DTSTAMP:20260425T021558
CREATED:20190604T094052Z
LAST-MODIFIED:20190604T094052Z
UID:10005206-1657735200-1657742400@www.aachen.digital
SUMMARY:Was ist neu bei iOS? Talk mit iOS-Entwickler Manuel Carrasco Molina
DESCRIPTION:Bei der WWDC 2019 (Worldwide Developers Conference) vom 3. bis 7. Juni in San Jose kommen die kreativsten und innovativsten Entwickler zusammen. Für Apple-Fans ist vor allem die Keynote interessant\, auf welcher die aktuellsten Neuheiten von Apple vorgestellt werden. \nIn Kooperation mit dem brandneuen Coworking-Space haupt|cw|artier veranstaltet Düren.Digital Network zwei Talks\, bei denen mit iOS-Entwickler Manuel Carrasco Molina in die Zukunft geblickt wird: Welche Möglichkeiten werden Machine Learning und Augmented Reality in Zukunft bieten? \nKurz und knackig fasst der Referent die Keynote zusammen und macht die Zukunft Apples für uns erlebbar. Inklusive anschließender Diskussion. \nZielgruppe: Vom einfachen Apple-User bis zum iOS-Entwickler ist jeder herzlich eingeladen sich über die neusten Apple-Funktionen zu informieren. \nFacts\n1. Veranstaltung: Mittwoch\, 05.06.2019\, 10:00 – 12:00 Uhr\n2. Veranstaltung: Dienstag\, 11.06.2019\, 18:00 – 20:00 Uhr \nAnmeldung erwünscht bei Düren.Digital Network-Manager Philipp Schlenkert per Mail an: p.schlenkert@windn.de
URL:https://www.aachen.digital/en/event/was-ist-neu-bei-ios-talk-mit-ios-entwickler-manuel-carrasco-molina/2022-07-13/
LOCATION:haupt|cw|artier\, Philippstr. 27\, Düren\, NRW\, 52349\, Deutschland
ATTACH;FMTTYPE=image/jpeg:https://www.aachen.digital/wp-content/uploads/2019/06/Hauptqwartier.jpg
END:VEVENT
BEGIN:VEVENT
DTSTART;TZID=Europe/Berlin:20220720T180000
DTEND;TZID=Europe/Berlin:20220720T200000
DTSTAMP:20260425T021558
CREATED:20190604T094052Z
LAST-MODIFIED:20190604T094052Z
UID:10005207-1658340000-1658347200@www.aachen.digital
SUMMARY:Was ist neu bei iOS? Talk mit iOS-Entwickler Manuel Carrasco Molina
DESCRIPTION:Bei der WWDC 2019 (Worldwide Developers Conference) vom 3. bis 7. Juni in San Jose kommen die kreativsten und innovativsten Entwickler zusammen. Für Apple-Fans ist vor allem die Keynote interessant\, auf welcher die aktuellsten Neuheiten von Apple vorgestellt werden. \nIn Kooperation mit dem brandneuen Coworking-Space haupt|cw|artier veranstaltet Düren.Digital Network zwei Talks\, bei denen mit iOS-Entwickler Manuel Carrasco Molina in die Zukunft geblickt wird: Welche Möglichkeiten werden Machine Learning und Augmented Reality in Zukunft bieten? \nKurz und knackig fasst der Referent die Keynote zusammen und macht die Zukunft Apples für uns erlebbar. Inklusive anschließender Diskussion. \nZielgruppe: Vom einfachen Apple-User bis zum iOS-Entwickler ist jeder herzlich eingeladen sich über die neusten Apple-Funktionen zu informieren. \nFacts\n1. Veranstaltung: Mittwoch\, 05.06.2019\, 10:00 – 12:00 Uhr\n2. Veranstaltung: Dienstag\, 11.06.2019\, 18:00 – 20:00 Uhr \nAnmeldung erwünscht bei Düren.Digital Network-Manager Philipp Schlenkert per Mail an: p.schlenkert@windn.de
URL:https://www.aachen.digital/en/event/was-ist-neu-bei-ios-talk-mit-ios-entwickler-manuel-carrasco-molina/2022-07-20/
LOCATION:haupt|cw|artier\, Philippstr. 27\, Düren\, NRW\, 52349\, Deutschland
ATTACH;FMTTYPE=image/jpeg:https://www.aachen.digital/wp-content/uploads/2019/06/Hauptqwartier.jpg
END:VEVENT
BEGIN:VEVENT
DTSTART;TZID=Europe/Berlin:20220726T190000
DTEND;TZID=Europe/Berlin:20220726T210000
DTSTAMP:20260425T021558
CREATED:20220210T094817Z
LAST-MODIFIED:20220715T081814Z
UID:10006117-1658862000-1658869200@www.aachen.digital
SUMMARY:Gründer:innen Stammtisch
DESCRIPTION:Am 26. Juli findet unser Gründer:innen Stammtisch am im neu eröffneten Gründungszentrum der FH Aachen statt. Der Stammtisch wird veranstaltet\, um die Aachener Gründer:innenwelt bei gemütlicher Atmosphäre zusammenzubringen. \nAb 19 Uhr treffen wir uns mit der Startup Community vom digitalHUB Aachen\, RWTH Innovation \, AC.E – Aachener Entrepreneurship Team e.V. und der Gründungszentrum FH Aachen. \nWie immer werden 2-3 Ideen von (zukünftigen) Gründer:Innen präsentiert. Es gibt ebenfalls die Möglichkeit\, spontan eine Idee zu präsentieren\, um Feedback von der Community zu erhalten. Ob spontan oder vorbereitet\, mit oder ohne Folien\, ist Euch überlassen. Während einer anschließenden Diskussionsrunde werden offene Fragen beantworten. \nJede:r\, der eine coole Idee hat und diese gerne teilen und diskutieren möchte\, ist beim Gründer:innen Stammtisch herzlich willkommen. \nSeid dabei! Wir freuen uns auf euch! \nWeitere Informationen folgen in Kürze. \nZUR ANMELDUNG \nOn July 26th\, the Gründer:innen Stammtisch for founders will take place. The Stammtisch is organized to bring together the founders of Aachen in a cozy atmosphere. The next Founders’ Roundtable will take place at the recently opened Gründungszentrum of the FH Aachen. \nStarting at 7 pm we will meet with the startup community from digitalHUB Aachen\, RWTH Innovation \, AC.E – Aachener Entrepreneurship Team e.V. and Gründungszentrum FH Aachen. \nAs always\, 2-3 ideas from (future) founders will be presented. There is also the possibility to spontaneously present an idea to get feedback from the community. Whether spontaneous or prepared\, with or without slides\, is up to you. During a subsequent discussion round\, open questions will be answered. \nEveryone who has a cool idea and would like to share and discuss it is welcome at the Stammtisch. \nWe are happy to meet you! \nMore information will follow soon. \nREGISTRATION
URL:https://www.aachen.digital/en/event/gruenderinnen-stammtisch-juli-2022/
LOCATION:Nordrhein-Westfalen
ATTACH;FMTTYPE=image/jpeg:https://www.aachen.digital/wp-content/uploads/2022/02/Gruenderinnen-Stammtisch_stage.jpg
ORGANIZER;CN="digitalHUB Aachen":MAILTO:kontakt@hubaachen.de
END:VEVENT
BEGIN:VEVENT
DTSTART;TZID=Europe/Berlin:20220727T123000
DTEND;TZID=Europe/Berlin:20220727T130000
DTSTAMP:20260425T021558
CREATED:20220210T115434Z
LAST-MODIFIED:20220715T110304Z
UID:10006132-1658925000-1658926800@www.aachen.digital
SUMMARY:sustainabilityBITS mit RecyCoal (Enactus)
DESCRIPTION:Die Fokusgruppe Sustainability & Social Entrepreneurship lädt zur neuen Ausgabe der „sustainabilityBITS“ ein. \nDas sustainabilityBIT richtet sich an alle\, die sich für die Themen nachhaltige Energieerzeugung\, Social Entrepreneurship und Entwicklungshilfe interessieren. \nRecyCoal hat ein kostengünstiges\, einfach zu bedienendes System entwickelt\, mit dem getrocknete Ernteabfälle in Biokohle umgewandelt werden können. Das Pyrolysesystem besteht hauptsächlich aus leicht verfügbaren Recyclingmaterialien. Die Anwendung ist besonders geeignet für afrikanische Länder\, da dort ein Großteil der Bevölkerung auf Feuerstellen kocht. \nDie produzierte Biokohle kann zum einen als alternatives Brennmittel und zum anderen als natürliche Bodenaufbesserung – Terra Preta – verwendet werden. Somit ermöglicht RecyCoal Menschen eine Alternative zu Brennholz\, dessen Nutzung immer stärker reguliert wird. Außerdem werden Wälder geschützt und damit CO2 eingespart. \n  \nAnmeldung für unsere Mitglieder über unsere\nMitgliederplattform \n  \n 
URL:https://www.aachen.digital/en/event/sustainabilitybits-juli-2022/
LOCATION:Jülicher Strasse 72a\, Aachen\, Nordrhein-Westfalen\, 52070\, Germany
ATTACH;FMTTYPE=image/jpeg:https://www.aachen.digital/wp-content/uploads/2022/03/220224_SDG_Edited.jpg
ORGANIZER;CN="digitalHUB Aachen":MAILTO:kontakt@hubaachen.de
END:VEVENT
BEGIN:VEVENT
DTSTART;TZID=Europe/Berlin:20220727T150000
DTEND;TZID=Europe/Berlin:20220727T170000
DTSTAMP:20260425T021558
CREATED:20220421T121249Z
LAST-MODIFIED:20220425T075715Z
UID:10006220-1658934000-1658941200@www.aachen.digital
SUMMARY:Sprechstunde: Steuerberatung by Frings
DESCRIPTION:Die FRINGS Steuerberatungsgesellschaft mbH bietet eine offene Sprechstunde im Bereich der Digitalisierung online an. \nDas Business ist längst digital. Steuerberatung und die Prozesse im Bereich „Finance“ werden es auch. Wir bei FRINGS zählen schon heute zu den Steuerberatern\, die das Geschäft ihrer Mandanten ganzheitlich auf digitalen Prozessen begleiten. Ganz selbstverständlich. Transparenz auf Knopfdruck\, ortsunabhängiges Arbeiten und Kommunizieren und die Erfahrung aus praktizierter Digitalisierung bei Mandanten macht uns zu einem Steuerberater\, der Digitalisierung nicht nur versteht\, sondern lebt. \nIn diesem Kontext zeigen wir den Mitgliedsunternehmen des digitalHUB Aachen e.V. in einem persönlichen Termin vor Ort in der digitalCHURCH unverbindlich auf\, welche Möglichkeiten sich heute bereits bieten\, um auch die Prozesse im Bereich der Buchhaltung und Steuerdeklaration von Beginn an zu digitalisieren. Hierbei geht es u.a. um Themen wie „papierloses Büro“\, Archivierungssysteme\, E-Rechnung\, Zahlungsverkehr\, ersetzendes Scannen usw. Auch erläutern wir\, welche gesetzliche Anforderungen bei der Schaffung digitaler Geschäftsmodelle insbesondere aus Sicht der sogenannten GoBD („Grundsätze zur ordnungsmäßigen Führung und Aufbewahrung von Büchern\, Aufzeichnungen und Unterlagen in elektronischer Form sowie Datenzugriff“) zu beachten sind. \nDie Termine werden von jeweils einer halben Stunde pro Beratung vergeben. \nSollten es uns die aktuellen Regelungen zur Corona-Pandemie nicht erlauben die Sprechstunde in Präsenz durchzuführen\, wird sie via Zoom stattfinden. Die Teilnehmenden werden zeitnah über Änderungen informiert. \nBitte beachten Sie auch\, dass der Zugang zur Veranstaltung gemäß der Coronaschutzverordnung des Landes NRW geregelt ist.
URL:https://www.aachen.digital/en/event/sprechstunde-steuerberatung-by-frings-2/
LOCATION:digitalHUB Aachen\, Jülicher Str. 72a\, Aachen\, Nordrhein-Westfalen\, 52070\, Germany
ATTACH;FMTTYPE=image/jpeg:https://www.aachen.digital/wp-content/uploads/2022/04/Sprechstunde-Frings_stage.jpg
ORGANIZER;CN="digitalHUB Aachen":MAILTO:kontakt@hubaachen.de
END:VEVENT
BEGIN:VEVENT
DTSTART;TZID=Europe/Berlin:20220727T180000
DTEND;TZID=Europe/Berlin:20220727T200000
DTSTAMP:20260425T021558
CREATED:20190604T094052Z
LAST-MODIFIED:20190604T094052Z
UID:10005208-1658944800-1658952000@www.aachen.digital
SUMMARY:Was ist neu bei iOS? Talk mit iOS-Entwickler Manuel Carrasco Molina
DESCRIPTION:Bei der WWDC 2019 (Worldwide Developers Conference) vom 3. bis 7. Juni in San Jose kommen die kreativsten und innovativsten Entwickler zusammen. Für Apple-Fans ist vor allem die Keynote interessant\, auf welcher die aktuellsten Neuheiten von Apple vorgestellt werden. \nIn Kooperation mit dem brandneuen Coworking-Space haupt|cw|artier veranstaltet Düren.Digital Network zwei Talks\, bei denen mit iOS-Entwickler Manuel Carrasco Molina in die Zukunft geblickt wird: Welche Möglichkeiten werden Machine Learning und Augmented Reality in Zukunft bieten? \nKurz und knackig fasst der Referent die Keynote zusammen und macht die Zukunft Apples für uns erlebbar. Inklusive anschließender Diskussion. \nZielgruppe: Vom einfachen Apple-User bis zum iOS-Entwickler ist jeder herzlich eingeladen sich über die neusten Apple-Funktionen zu informieren. \nFacts\n1. Veranstaltung: Mittwoch\, 05.06.2019\, 10:00 – 12:00 Uhr\n2. Veranstaltung: Dienstag\, 11.06.2019\, 18:00 – 20:00 Uhr \nAnmeldung erwünscht bei Düren.Digital Network-Manager Philipp Schlenkert per Mail an: p.schlenkert@windn.de
URL:https://www.aachen.digital/en/event/was-ist-neu-bei-ios-talk-mit-ios-entwickler-manuel-carrasco-molina/2022-07-27/
LOCATION:haupt|cw|artier\, Philippstr. 27\, Düren\, NRW\, 52349\, Deutschland
ATTACH;FMTTYPE=image/jpeg:https://www.aachen.digital/wp-content/uploads/2019/06/Hauptqwartier.jpg
END:VEVENT
BEGIN:VEVENT
DTSTART;TZID=Europe/Berlin:20220729T090000
DTEND;TZID=Europe/Berlin:20220729T140000
DTSTAMP:20260425T021558
CREATED:20220301T123127Z
LAST-MODIFIED:20220425T094518Z
UID:10005604-1659085200-1659103200@www.aachen.digital
SUMMARY:Sprechstunde: Umsetzung technologischer Ideen by AGIT
DESCRIPTION:Anspruchsvolle Projekte brauchen anspruchsvolle Vorbereitung und anspruchsvolle Partner! Kompetente Mitarbeiter:innen der AGIT – Aachener Gesellschaft für Innovation und Technologietransfer mbH – unterstützen euch dabei\, folgende Fragen zu klären damit ihr eure technologischen Ideen in eurem Unternehmen/Startup umsetzen könnt: \n\nIhr habt eine innovative Idee\, die auf digitalen Technologien basiert und möchtet diese vermarkten?\nGibt es einen Markt für eure Idee/euer Produkt?\nGibt es bereits einen Prototypen bzw. eine Beta-Version?\nWie erschließt ihr nützliche Forschungs- und Entwicklungspartner?\nKönnen auf eure „Ideen/Produkte“ Patente und/oder Gebrauchsmuster angemeldet werden?\nWie ist es mit Marken- und/oder Designschutz\, oder mit dem Urheberrecht?\nWie könnt ihr solche Schutzrechte erwerben?\nWer hilft euch bei der Selektion der passenden Finanzierungsmöglichkeiten?\nWelche Marketing-Strategie passt zu euch?\nPasst euer Geschäftssystem zu euren Zielen? Wie und mit welchen Ressourcen könnt ihr euer Vorhaben realisieren?\n\nWann: jeden letzten Freitag im Monat mit jeweils einer Stunde Beratung pro Person/Team \nDiese Veranstaltung ist exklusiv für Mitglieder des digitalHUB Aachen. Der Einladungslink wird per E-Mail an unsere Mitglieder gesendet. Bei Rückfragen wendet euch an: events@hubaachen.de \nALLE SPRECHSTUNDEN
URL:https://www.aachen.digital/en/event/sprechstunde-umsetzung-technologischer-ideen-by-agit-jul/
LOCATION:online
ATTACH;FMTTYPE=image/jpeg:https://www.aachen.digital/wp-content/uploads/2022/02/Sprechstunde-AGIT_stage.jpg
ORGANIZER;CN="digitalHUB Aachen":MAILTO:kontakt@hubaachen.de
END:VEVENT
END:VCALENDAR