BEGIN:VCALENDAR
VERSION:2.0
PRODID:-//digitalHUB Aachen - ECPv6.15.20//NONSGML v1.0//EN
CALSCALE:GREGORIAN
METHOD:PUBLISH
X-WR-CALNAME:digitalHUB Aachen
X-ORIGINAL-URL:https://www.aachen.digital/en/
X-WR-CALDESC:Events for digitalHUB Aachen
REFRESH-INTERVAL;VALUE=DURATION:PT1H
X-Robots-Tag:noindex
X-PUBLISHED-TTL:PT1H
BEGIN:VTIMEZONE
TZID:Europe/Berlin
BEGIN:DAYLIGHT
TZOFFSETFROM:+0100
TZOFFSETTO:+0200
TZNAME:CEST
DTSTART:20250330T010000
END:DAYLIGHT
BEGIN:STANDARD
TZOFFSETFROM:+0200
TZOFFSETTO:+0100
TZNAME:CET
DTSTART:20251026T010000
END:STANDARD
BEGIN:DAYLIGHT
TZOFFSETFROM:+0100
TZOFFSETTO:+0200
TZNAME:CEST
DTSTART:20260329T010000
END:DAYLIGHT
BEGIN:STANDARD
TZOFFSETFROM:+0200
TZOFFSETTO:+0100
TZNAME:CET
DTSTART:20261025T010000
END:STANDARD
BEGIN:DAYLIGHT
TZOFFSETFROM:+0100
TZOFFSETTO:+0200
TZNAME:CEST
DTSTART:20270328T010000
END:DAYLIGHT
BEGIN:STANDARD
TZOFFSETFROM:+0200
TZOFFSETTO:+0100
TZNAME:CET
DTSTART:20271031T010000
END:STANDARD
END:VTIMEZONE
BEGIN:VEVENT
DTSTART;TZID=Europe/Berlin:20260423T090000
DTEND;TZID=Europe/Berlin:20260423T133000
DTSTAMP:20260423T125036
CREATED:20250715T145036Z
LAST-MODIFIED:20260120T084706Z
UID:10007392-1776934800-1776951000@www.aachen.digital
SUMMARY:Innovation Journey – Verantwortung & Informationsfluss #7
DESCRIPTION:Kommunikation II\nTransparenz ist die Basis von Vertrauen.\n\n\nDieses Event ist Teil der Workshopreihe “Innovation Journey”. \nVerantwortung & Informationsfluss\nWir schließen die Journey mit einem Deep Dive in moderne Kommunikations- und Entscheidungsstrukturen. Wie verteilen wir Verantwortung sinnvoll? Wie bleibt Wissen im Fluss? Du lernst Frameworks und Prinzipien kennen\, die agiles Arbeiten auf der nächsten Ebene ermöglichen. \n\nInnovation Journey – Das Workshop-Programm der New Business Factory für zukunftsorientierte Unternehmen \nDie Innovation Journey ist dein Einstieg in die Welt unternehmerischer Erneuerung. In sieben intensiven Workshops erforschen wir gemeinsam\, wie innovative Denk- und Arbeitsweisen konkret im Unternehmensalltag gelebt werden können. Statt Buzzwords liefern wir Haltung\, statt kurzfristiger Tools vermitteln wir nachhaltige Strukturen. \nOb Mittelstand oder Startup: Diese Reise richtet sich an Menschen\, die Verantwortung übernehmen und die Zukunft aktiv mitgestalten wollen. \nWas dich erwartet: \n\nim digitalHUB Aachen\n7 Module (jeweils 1/2 Tag)\nMax. 14 Teilnehmer:innen\nkostenfrei im Rahmen der NBF\nSieben interaktive Workshops und konkrete Anwendungsbezüge\nImpulse\, Methoden und Austausch auf Augenhöhe\nReferentinnen sind: Dr. Miriam Zeichner und Petra Grossmann\n\nDie Journey richtet sich an Führungskräfte\, Innovationsmanager:innen\, Teamleads\, Projektverantwortliche\, Change Agents und alle\, die in ihrer Organisation mutig neue Wege gehen wollen. \nDie Innovation Journey ist an die ehemalige Masterclass “New Work” vom digitalHUB angelehnt. \nZUR ANMELDUNG
URL:https://www.aachen.digital/en/event/innovation-journey-verantwortung-informationsfluss-7/
LOCATION:digitalHUB Aachen e.V. in der digitalCHURCH\, Jülicher Straße 72a\, Aachen\, NRW\, 52070\, Germany
ATTACH;FMTTYPE=image/jpeg:https://www.aachen.digital/wp-content/uploads/2025/07/3f37855c7636eba60ebe83e8dc804199.jpg
END:VEVENT
BEGIN:VEVENT
DTSTART;TZID=Europe/Berlin:20260423T090000
DTEND;TZID=Europe/Berlin:20260423T170000
DTSTAMP:20260423T125036
CREATED:20251217T111734Z
LAST-MODIFIED:20260324T131950Z
UID:10007578-1776934800-1776963600@www.aachen.digital
SUMMARY:Girls'Day im digitalHUB
DESCRIPTION:Beim Girls’Day laden wir Mädchen der 5. bis 7. Klasse ein\, am 23. April 2026 einen unvergesslichen Tag im digitalHUB Aachen zu erleben! \nWir starten den Tag mit einem inspirierenden Vortrag von Dr. Jana Maria Weinand\, Co-Gründerin von leitspalt. leitspalt entwickelt Batteriesysteme der nächsten Generation auf Basis einer patentierten\, multifunktionalen Kühlstruktur\, die Performance\, Sicherheit und Kostenoptimierung verbindet. In ihrem Vortrag berichtet Jana von ihrer persönlichen Gründungsgeschichte\, Hürden und Mutmacher:innen\, die sie auf ihrem Weg begleitet haben. Anschließend bleibt ausreichend Zeit\, um Fragen zu stellen und erste spannende Einblicke in die Welt von Gründerinnen zu gewinnen. \nDanach wählen die Teilnehmerinnen einen praxisorientierten Workshop aus\, der vom digitalHUB\, IT4Kids und verschiedenen Aachener Unternehmen angeboten wird. In den Workshops wird spielerisch Wissen vermittelt – von den Grundlagen des Programmierens bis zur konkreten Umsetzung eigener Ideen: \n\nDeine eigene Website – von der Idee zur echten Seite (Interactive Pioneers)\nLass die Technik für dich arbeiten – Automatisiere dein Leben (nesseler Gruppe)\nDein eigenes Smart Home bauen (Bistum Aachen)\nFrisch gewässert! Wir entwickeln eine IoT-Bewässerungsanlage (ManageNow)\nDer Recycling-Bot – von deiner Mülltonne zur nachhaltigen Wiederverwendung (Eggersmann)\nOrigami trifft Mikroskop – Kreativität und Wissenschaft vereint (Johnson & Johnson MedTech)\n\nDen Abschluss des Tages bildet die Präsentation der Ergebnisse mit Prof. Dr. Constanze Chwallek\, Vorständin des digitalHUB Aachen und Professorin an der FH Aachen. Die Teilnehmerinnen stellen sich die Ergebnisse gegenseitig vor und erhalten eine Urkunde sowie eine Goodie-Bag\, die die Unternehmen zusammenstellen. Gemeinsam gestalten wir die Zukunft! \nJetzt anmelden! \n  \nUnsere teilnehmenden Unternehmen \n\nInteractive Pioneers GmbH\nManage Now GmbH\nAbiomed/Johnson & Johnson MedTech\nBistum Aachen\nEggersmann Anlagenbau Concept GmbH\nnesseler Gruppe\n\n  \nUnsere Flagship-Event-Sponsoren
URL:https://www.aachen.digital/en/event/girlsday-im-digitalhub/
LOCATION:digitalHUB Aachen e.V.\, Jülicher Straße 72a\, Aachen\, NRW\, 52070\, Germany
ATTACH;FMTTYPE=image/png:https://www.aachen.digital/wp-content/uploads/2025/12/GirlsDay-169.png
END:VEVENT
BEGIN:VEVENT
DTSTART;TZID=Europe/Berlin:20260427T093000
DTEND;TZID=Europe/Berlin:20260427T110000
DTSTAMP:20260423T125036
CREATED:20260324T125924Z
LAST-MODIFIED:20260324T125924Z
UID:10007701-1777282200-1777287600@www.aachen.digital
SUMMARY:Mompreneurs Impuls mit Prof. Tessa Flatten
DESCRIPTION:☀️ Mompreneurs-Treffen am 27. April! \nNach unserem letzten Fokusgruppentreffen freuen wir uns jetzt auf etwas anderes: Ein lockeres Zusammenkommen\, bei dem das Netzwerken im Mittelpunkt steht – echte Gespräche\, neue Gesichter\, vertraute Themen. \nEinen kleinen Impuls wird uns Prof. Tessa Flatten geben: Zwischen Rektorat und Realität. Sie wird über die Vereinbarkeit von Professur und Familie berichten und spannende Einblicke in ihren Lebensweg geben. \nUnd dann: einfach reden\, zuhören\, verbinden. \nWenn du selbstständig bist und Kinder hast – oder beides planst – bist du genau richtig hier. \nANMELDUNG
URL:https://www.aachen.digital/en/event/mompreneurs-impuls-mit-prof-tessa-flatten/
LOCATION:digitalHUB Aachen\, Jülicher Str. 72a\, Aachen\, Nordrhein-Westfalen\, 52070\, Germany
ATTACH;FMTTYPE=image/jpeg:https://www.aachen.digital/wp-content/uploads/2026/03/Design-ohne-Titel-5.jpg
ORGANIZER;CN="heartwork":MAILTO:hallo@thisisheartwork.de
END:VEVENT
BEGIN:VEVENT
DTSTART;TZID=Europe/Berlin:20260427T180000
DTEND;TZID=Europe/Berlin:20260427T210000
DTSTAMP:20260423T125036
CREATED:20260113T071245Z
LAST-MODIFIED:20260113T071245Z
UID:10007644-1777312800-1777323600@www.aachen.digital
SUMMARY:Founders' Roundtable
DESCRIPTION:The Founders’ Roundtable creates a relaxed atmosphere for the Aachen start-up community to exchange ideas.\n\n\nJoin the Monthly Founders’ Roundtable in Aachen! \nThe Founders’ Roundtable is a monthly gathering organized to bring Aachen’s startup community together in a relaxed and inspiring atmosphere. \nStarting at 6 PM\, we meet with the startup community of the AC.E\, Collective Incubator\, digitalHUB Aachen\, Enactus Aachen\, RWTH Innovation\, and Gründungszentrum FH Aachen to connect\, exchange ideas\, and support aspiring founders. \nAs always\, (future) founders will have the chance to pitch their ideas. After each presentation\, there will be time for discussion and feedback. If you have a great idea you’d like to share\, you’re more than welcome to join! \nNot pitching? No problem! Just come by\, grab a drink and some pizza\, and enjoy an evening full of inspiring ideas and great conversations with like-minded people. \nThis month’s Founders’ Roundtable is hosted by ENACTUS. \nBe part of it! We’d love to see you there! \nREGISTER NOW
URL:https://www.aachen.digital/en/event/founders-roundtable-19/
LOCATION:Gründungszentrum FH Aachen\, Eupener Straße 70 - Raum A103\, Aachen\, 52066
ATTACH;FMTTYPE=image/jpeg:https://www.aachen.digital/wp-content/uploads/2026/01/aca11a070e26a939e4f33a676d43581d.jpg
END:VEVENT
BEGIN:VEVENT
DTSTART;TZID=Europe/Berlin:20260428T130000
DTEND;TZID=Europe/Berlin:20260428T170000
DTSTAMP:20260423T125036
CREATED:20260219T125856Z
LAST-MODIFIED:20260331T125748Z
UID:10007687-1777381200-1777395600@www.aachen.digital
SUMMARY:5. Cross-Innovations-Werkstatt
DESCRIPTION:Cross-Innovations-Werkstatt geht in die nächste Runde!\nNach dem erfolgreichen Austausch der letzten Werkstätten heißt es bald wieder: Ideen bündeln\, Perspektiven vernetzen und Innovationen gestalten. \nIn der kommenden Cross-Innovations-Werkstatt treffen Expertinnen und Experten aus Gesundheitswirtschaft und Life Science\, Kreislaufwirtschaft\, Bioökonomie\, vernetzter Mobilität\, IT-Branche\, Energiewirtschaft und innovativem Bauen zusammen.\nZiel ist es\, in einem offenen und kreativen Umfeld neue Ansätze für praxisnahe und nachhaltige Lösungen zu entwickeln. \nDie Werkstätten bieten Raum für Austausch\, Co-Creation und Kooperation – über Branchengrenzen hinweg. Eingeladen sind Entwicklerinnen\, Anwenderinnen\, Forschende\, Gründende und alle\, die an echten Veränderungen arbeiten wollen. \nWeitere Details \nDas Innovationsprojekt Care for Sustainable Innovation wird im Rahmen des Förderaufrufes Regio.NRW – Transformation aus Mitteln des Europäischen Fonds für regionale Entwicklung (EFRE) und des Landes Nordrhein-Westfalen gefördert und baut auf den Ergebnissen des EFRE-Projektes Care and Mobility Innovation auf.
URL:https://www.aachen.digital/en/event/5-cross-innovations-werkstatt/
LOCATION:NRW
ATTACH;FMTTYPE=image/jpeg:https://www.aachen.digital/wp-content/uploads/2026/02/Design-ohne-Titel-3.jpg
END:VEVENT
BEGIN:VEVENT
DTSTART;TZID=Europe/Berlin:20260429T130000
DTEND;TZID=Europe/Berlin:20260429T180000
DTSTAMP:20260423T125036
CREATED:20260316T145147Z
LAST-MODIFIED:20260316T151031Z
UID:10007697-1777467600-1777485600@www.aachen.digital
SUMMARY:Digitalgipfel Pflege 2026
DESCRIPTION:Der Digitalgipfel Pflege bietet Einblicke in innovative digitale Produkte\, Prozesse und Projekte\, die bereits heute in Pflegeeinrichtungen zum Einsatz kommen. Die Teilnehmenden erfahren\, welche digitalen Lösungen aktuell verfügbar sind und welche Technologien und Trends die Pflege der Zukunft prägen werden. Expertinnen und Experten aus Praxis\, Wirtschaft und Technologie stellen konkrete Anwendungsbeispiele vor und diskutieren Herausforderungen sowie Chancen der digitalen Transformation in der Pflege. \nDigitale Technologien schaffen Transparenz\, steigern Effizienz und unterstützen Pflegekräfte im Arbeitsalltag. Gleichzeitig eröffnen sie neue Versorgungsformen\, verbessern die sektorenübergreifende Vernetzung und ermöglichen eine stärker datenbasierte Steuerung. Im Mittelpunkt steht die Frage\, wie digitale Lösungen so implementiert werden können\, dass sie im Alltag entlasten\, die Versorgungsqualität erhöhen und wirtschaftlich tragfähig bleiben. \nDer Digitalgipfel Pflege 2026  wird von der AOK Rheinland/Hamburg und dem Projekt Care for Sustainable Innovation (CSI) des Region Aachen Zweckverbands (RAZV) organisiert. \nDownload FLYER als PDF \n  \nZUR ANMELDUNG \nDas Innovationsprojekt Care for Sustainable Innovation wird im Rahmen des Förderaufrufes Regio.NRW – Transformation aus Mitteln des Europäischen Fonds für regionale Entwicklung (EFRE) und des Landes Nordrhein-Westfalen gefördert und baut auf den Ergebnissen des EFRE-Projektes Care and Mobility Innovation auf.
URL:https://www.aachen.digital/en/event/digitalgipfel-pflege-2026/
LOCATION:AOK- Haus Aachen\, Markt 45–47\, Aachen\, NRW\, 52062\, Germany
ATTACH;FMTTYPE=image/jpeg:https://www.aachen.digital/wp-content/uploads/2026/03/RAZV_DigGipf2026_SM2.jpg
END:VEVENT
BEGIN:VEVENT
DTSTART;TZID=Europe/Berlin:20260429T173000
DTEND;TZID=Europe/Berlin:20260429T200000
DTSTAMP:20260423T125036
CREATED:20260402T104150Z
LAST-MODIFIED:20260402T104404Z
UID:10007706-1777483800-1777492800@www.aachen.digital
SUMMARY:Usability Testessen
DESCRIPTION:Teste neue digitale Produkte in entspannter Atmosphäre\n\n\nDu hast Lust\, neue digitale Produkte auszuprobieren\, deine Meinung zu sagen – und dabei Pizza zu essen? \nWir veranstalten am 29. April unser erstes UX-Testessen im digitalHUB Aachen. Dabei dreht sich alles darum\, digitale Produkte wie Apps\, Websites oder Prototypen von echten Menschen testen zu lassen. Als Tester:in gehst du von Tisch zu Tisch\, probierst sechs verschiedene Produkte aus und gibst den Teams dahinter dein ehrliches Feedback. Vorkenntnisse brauchst du dafür keine. Deine Perspektive als Alltagsnutzer:in ist genau das\, was gefragt ist. \nDer Abend ist entspannt und die Atmosphäre locker. Ihr bekommt spannende Einblicke in die Produkte unserer Startups\, viele davon noch vor dem offiziellen Launch. Und dazu gibt es Pizza und Getränke. \nDie Teilnahme ist kostenlos. \n  \nJetzt anmelden! \n  \nIhr möchtet euer eigenes Produkt testen lassen? Meldet euch gerne direkt bei uns unter startup@hubaachen.de!
URL:https://www.aachen.digital/en/event/usability-testessen-2/
LOCATION:digitalHUB Aachen e.V. in der digitalCHURCH\, Jülicher Straße 72a\, Aachen\, NRW\, 52070\, Germany
ATTACH;FMTTYPE=image/jpeg:https://www.aachen.digital/wp-content/uploads/2026/04/8bcb39e19d6b82a9351b5ea76b773f89.jpg
END:VEVENT
BEGIN:VEVENT
DTSTART;TZID=Europe/Berlin:20260430T170000
DTEND;TZID=Europe/Berlin:20260430T180000
DTSTAMP:20260423T125036
CREATED:20260402T082540Z
LAST-MODIFIED:20260402T082540Z
UID:10007705-1777568400-1777572000@www.aachen.digital
SUMMARY:Die CDE-Plattform Konektor: Werkzeuge\, Schnittstellen und praktische Einsatzmöglichkeiten
DESCRIPTION:In diesem Webinar zeigt BIM-Manager Ivaylo Mehandzhiev anhand eines beispielhaften Projekts\, welche Werkzeuge Konektor für die tägliche Arbeit bereitstellt. Er geht auf zentrale Funktionen wie Modell- und Dokumentenverwaltung\, Filter- und Suchmöglichkeiten\, Berichte und Auswertungen sowie das Arbeiten mit Datenstrukturen ein. Zudem stellt er die wichtigsten Schnittstellen vor und demonstriert\, wie Informationen aus verschiedenen Systemen zusammengeführt werden können. Wenn Sie einen Überblick darüber bekommen möchten\, was Konektor konkret leisten kann und wie Sie Ihre Projekte damit datenkonsistent und sicher abwickeln können\, ist dieses Webinar der passende Einstieg. \nDauer: 1 Std. \nDozent: Ivaylo Mehandzhiev\, BIM-Manager der Formitas AG \nZUR ANMELDUNG
URL:https://www.aachen.digital/en/event/die-cde-plattform-konektor-werkzeuge-schnittstellen-und-praktische-einsatzmoeglichkeiten/
LOCATION:online
ATTACH;FMTTYPE=image/webp:https://www.aachen.digital/wp-content/uploads/2026/04/Design-ohne-Titel-43.webp
END:VEVENT
END:VCALENDAR