BEGIN:VCALENDAR
VERSION:2.0
PRODID:-//digitalHUB Aachen - ECPv6.15.20//NONSGML v1.0//EN
CALSCALE:GREGORIAN
METHOD:PUBLISH
X-ORIGINAL-URL:https://www.aachen.digital/en/
X-WR-CALDESC:Events for digitalHUB Aachen
REFRESH-INTERVAL;VALUE=DURATION:PT1H
X-Robots-Tag:noindex
X-PUBLISHED-TTL:PT1H
BEGIN:VTIMEZONE
TZID:Europe/Berlin
BEGIN:DAYLIGHT
TZOFFSETFROM:+0100
TZOFFSETTO:+0200
TZNAME:CEST
DTSTART:20240331T010000
END:DAYLIGHT
BEGIN:STANDARD
TZOFFSETFROM:+0200
TZOFFSETTO:+0100
TZNAME:CET
DTSTART:20241027T010000
END:STANDARD
BEGIN:DAYLIGHT
TZOFFSETFROM:+0100
TZOFFSETTO:+0200
TZNAME:CEST
DTSTART:20250330T010000
END:DAYLIGHT
BEGIN:STANDARD
TZOFFSETFROM:+0200
TZOFFSETTO:+0100
TZNAME:CET
DTSTART:20251026T010000
END:STANDARD
BEGIN:DAYLIGHT
TZOFFSETFROM:+0100
TZOFFSETTO:+0200
TZNAME:CEST
DTSTART:20260329T010000
END:DAYLIGHT
BEGIN:STANDARD
TZOFFSETFROM:+0200
TZOFFSETTO:+0100
TZNAME:CET
DTSTART:20261025T010000
END:STANDARD
END:VTIMEZONE
BEGIN:VEVENT
DTSTART;TZID=Europe/Berlin:20250222T130000
DTEND;TZID=Europe/Berlin:20250223T130000
DTSTAMP:20260423T153829
CREATED:20250213T131655Z
LAST-MODIFIED:20250213T131655Z
UID:10007220-1740229200-1740315600@www.aachen.digital
SUMMARY:Hackathon Mammothon Build Station 4: 24h Coding
DESCRIPTION:Join us at the final edition with the 24hr session for Mammothon 2025 build station!\nFocus on preparing you to code through the night\, with a treating breakfast. \n​Hop into our Partners Hackathon Discord to say hi\, and be part of the action. \n​Join the WhatsApp group to stay up-to-date. \nMake sure to be applied and familiar with our Website. \nWe’d love to have you – come say hello and be part of the fun! \n\n​Schedule\n\n13:00 – Door Open \n14:00 – Lunch Break (provided) \n15:00 – Project Polishing & Demo Prep \n20:00 – Dinner (provided) \n24:00 – Midnight Snack (provided) \n08:00 – Breakfast (provided) \n13:00 – End \n  \nWhat’s Included\nMeals and refreshments \nTechnical mentorship \nPresentation preparation support \n\n  \nLimited seats available! Each participant must register individually. \nRegister here!
URL:https://www.aachen.digital/en/event/hackathon-mammothon-build-station-4-24h-coding/
LOCATION:digitalHUB Aachen\, Jülicher Str. 72a\, Aachen\, Nordrhein-Westfalen\, 52070\, Germany
ATTACH;FMTTYPE=image/jpeg:https://www.aachen.digital/wp-content/uploads/2025/02/Kopie-von-Eventvisuals-169-1920x1080-1.jpg
END:VEVENT
BEGIN:VEVENT
DTSTART;TZID=Europe/Berlin:20250215T130000
DTEND;TZID=Europe/Berlin:20250215T130000
DTSTAMP:20260423T153829
CREATED:20250213T131116Z
LAST-MODIFIED:20250213T131807Z
UID:10007219-1739624400-1739624400@www.aachen.digital
SUMMARY:Hackathon Mammothon Build Station 3
DESCRIPTION:Join us for the third build station of Mammothon 2025!\n\n\n\n\n\n\n\n\nThis session focuses on advancing your project with ecosystem expert support and technical guidance. \n​Hop into our Partners Hackathon Discord to say hi\, and be part of the action. \n​Join the WhatsApp group to stay up-to-date. \nMake sure to be applied and familiar with our Website. \nWe’d love to have you – come say hello and be part of the fun! \n\n​Schedule\n​13:00 – Door Open \n​14:00 – Lunch Break (provided) \n​15:00 – Hacking \n​20:00 – Dinner (provided) \n​22:30 – After Hour \n​What’s Included\n​Meals and refreshments \n​Technical mentorship \n​Project development support \nLimited seats available! Each participant must register individually. \nRegister here!
URL:https://www.aachen.digital/en/event/hackathon-mammothon-build-station-3/
LOCATION:digitalHUB Aachen\, Jülicher Str. 72a\, Aachen\, Nordrhein-Westfalen\, 52070\, Germany
ATTACH;FMTTYPE=image/jpeg:https://www.aachen.digital/wp-content/uploads/2025/02/Kopie-von-Eventvisuals-169-1920x1080-1.jpg
END:VEVENT
END:VCALENDAR