BEGIN:VCALENDAR
VERSION:2.0
PRODID:-//digitalHUB Aachen - ECPv6.15.20//NONSGML v1.0//EN
CALSCALE:GREGORIAN
METHOD:PUBLISH
X-ORIGINAL-URL:https://www.aachen.digital/en/
X-WR-CALDESC:Events for digitalHUB Aachen
REFRESH-INTERVAL;VALUE=DURATION:PT1H
X-Robots-Tag:noindex
X-PUBLISHED-TTL:PT1H
BEGIN:VTIMEZONE
TZID:Europe/Berlin
BEGIN:DAYLIGHT
TZOFFSETFROM:+0100
TZOFFSETTO:+0200
TZNAME:CEST
DTSTART:20230326T010000
END:DAYLIGHT
BEGIN:STANDARD
TZOFFSETFROM:+0200
TZOFFSETTO:+0100
TZNAME:CET
DTSTART:20231029T010000
END:STANDARD
BEGIN:DAYLIGHT
TZOFFSETFROM:+0100
TZOFFSETTO:+0200
TZNAME:CEST
DTSTART:20240331T010000
END:DAYLIGHT
BEGIN:STANDARD
TZOFFSETFROM:+0200
TZOFFSETTO:+0100
TZNAME:CET
DTSTART:20241027T010000
END:STANDARD
BEGIN:DAYLIGHT
TZOFFSETFROM:+0100
TZOFFSETTO:+0200
TZNAME:CEST
DTSTART:20250330T010000
END:DAYLIGHT
BEGIN:STANDARD
TZOFFSETFROM:+0200
TZOFFSETTO:+0100
TZNAME:CET
DTSTART:20251026T010000
END:STANDARD
BEGIN:DAYLIGHT
TZOFFSETFROM:+0100
TZOFFSETTO:+0200
TZNAME:CEST
DTSTART:20260329T010000
END:DAYLIGHT
BEGIN:STANDARD
TZOFFSETFROM:+0200
TZOFFSETTO:+0100
TZNAME:CET
DTSTART:20261025T010000
END:STANDARD
BEGIN:DAYLIGHT
TZOFFSETFROM:+0100
TZOFFSETTO:+0200
TZNAME:CEST
DTSTART:20270328T010000
END:DAYLIGHT
BEGIN:STANDARD
TZOFFSETFROM:+0200
TZOFFSETTO:+0100
TZNAME:CET
DTSTART:20271031T010000
END:STANDARD
END:VTIMEZONE
BEGIN:VEVENT
DTSTART;TZID=Europe/Berlin:20260312T160000
DTEND;TZID=Europe/Berlin:20260312T183000
DTSTAMP:20260423T180144
CREATED:20260129T151343Z
LAST-MODIFIED:20260217T093229Z
UID:10007675-1773331200-1773340200@www.aachen.digital
SUMMARY:BE BIM-/KI-Café: Digitale Projektsteuerung - Fokusgruppe Planen & Bauen
DESCRIPTION:ABE bietet in diesem Event Einblicke in die Trends und Innovationen der digitalen Projektsteuerung sowie in die Synergien von BIM und KI. \nDas BIM-/KI-Café vereint die beiden erfolgreichen Veranstaltungsreihen „BIMcafé” und „KI-Café” und findet im Rahmen der Fokusgruppe „Planen & Bauen – Digitale Prozesse” des digitalHUB Aachen statt. \nIn dieser Ausgabe kommen spannende Impulse von Formitas\, Diederichs Projektmanagement und Hiventure. \nErgänzend gibt es Vorträge mit Insights in Use-Cases für intelligente Tools auf der Baustelle\, BIM & KI und das Betreiben von Gebäuden. \nEinen Dank an ABE-Mitglied Formitas für die Einladung in ihre Aachener Räumlichkeiten! \n➡️ Die Teilnahme ist kostenfrei – eine Anmeldung ist erforderlich! \n  \nANMELDUNG \n  \nDie Fokusgruppe „Planen & Bauen – Digitale Prozesse” ist eine gemeinsam betriebene Plattform des ABE und des digitalHUB Aachen e.V.
URL:https://www.aachen.digital/en/event/be-bim-ki-cafe-digitale-projektsteuerung/
LOCATION:FORMITAS\, Buchkremerstr. 4\, Aachen\, 52062\, Germany
ATTACH;FMTTYPE=application/pdf:https://www.aachen.digital/wp-content/uploads/2026/01/Design-ohne-Titel-1.pdf
ORGANIZER;CN="AACHEN BUILDING EXPERTS e.V.":MAILTO:info@aachenbuildingexperts.de
END:VEVENT
BEGIN:VEVENT
DTSTART;TZID=Europe/Berlin:20260219T150000
DTEND;TZID=Europe/Berlin:20260219T163000
DTSTAMP:20260423T180144
CREATED:20260108T165049Z
LAST-MODIFIED:20260129T153000Z
UID:10007641-1771513200-1771518600@www.aachen.digital
SUMMARY:ABE_i2 [Online]: Digitalisierung\, Automatisierung und KI
DESCRIPTION:Innovations-Impulse (i2) für die Praxis in den Bereichen Digitalisierung\, Automatisierung und Technischer Gebäudeausstattung (TGA): Das ist ABE_i2. \nBei dieser Ausgabe von ABE_i2 bekommst du Insights in die Bereiche Digitalisierung und Automatisierung von Planung\, Datenaufbereitung\, Gebäudesimulation\, Vorfertigung von TGA-Komponenten\, KI und WhatsApp auf der Baustelle. \nErhalte interessante und spannende Einblicke zu den Themen: \n\nAutomatisierung von Planungsleistungen und Engpasslösungen\nDatenaufbereitung bis zur Auslegung der Anlagentechnik\nthermische Gebäudesimulation\nVorfertigung im TGA-Bereich\ndigitale Planung und automatisierte Installation\, um Gebäudetechnik schneller und einfacher auf die Baustelle zu bringen\nDigitalisierung und KI auf der Baustelle\nWhatsApp als smarte Bau-Kommunikations-Software\n\nDie Anmeldung ist kostenlos. \nZUR ANMELDUNG
URL:https://www.aachen.digital/en/event/digitalisierung-automatisierung-und-ki/
LOCATION:online
ATTACH;FMTTYPE=image/jpeg:https://www.aachen.digital/wp-content/uploads/2026/01/Design-ohne-Titel-4.jpg
ORGANIZER;CN="AACHEN BUILDING EXPERTS e.V.":MAILTO:info@aachenbuildingexperts.de
END:VEVENT
BEGIN:VEVENT
DTSTART;TZID=Europe/Berlin:20241210T173000
DTEND;TZID=Europe/Berlin:20241210T200000
DTSTAMP:20260423T180144
CREATED:20240924T095006Z
LAST-MODIFIED:20241128T101527Z
UID:10006239-1733851800-1733860800@www.aachen.digital
SUMMARY:Finale des 7. ABE_Awards
DESCRIPTION:ABE verleiht seit 2017 jährlich den ABE_Award an ein besonders innovatives und mehrwertbringendes\, junges Startup. Mit der Verleihung dieses Awards möchten wir innovative Geschäftsideen und Ausgründungen aus den Hochschulen fördern und einem breiten Publikum in der Bau- und Immobilienwirtschaft vorstellen. Der ABE hat dabei bereits mehrfach seinen “guten Riecher” bewiesen: Viele der Nominierten und Gewinner:innen des ABE_Awards sind heute sehr erfolgreich. \nDie Gewinner des Awards werden nach einem Pitch der drei Finalisten durch das Publikum gewählt. \n\nBeginn & Begrüßung\nImpuls: Startups und Venture Capital in einem schwierigen Branchen- und Marktumfeld\nStefan Läufer\, Managing Partner\, Realyze Ventures Management GmbH\nImpuls: PERI Next: Disrupt yourself!\nFrank Ilg\, Head of Future Products & Technologies\, PERI SE\nPitches der Finalisten des 7. ABE_Award\nWissen deine Mitarbeitenden\, was dein Unternehmen weiß? Bastian Maiworm\, Co-Founder und CRO\, amberSearch\nDana Aleff\, Managing Director\, circonomit\nInnovative Baustoffe aus CO2\, Orlando Kleineberg\, Co-Founder und CTO\, Co-Reactive\nImpuls: Konkrete KI Anwendungsfälle für die Bau- und Immobilienwirtschaft\nCarlo Matic\, Geschäftsführer\, Interactive Pioneers\nVerleihung an den Gewinner des 7. ABE_Award 2024\nGetTogether & Austausch\n\nDie Teilnahme an der Verleihung ist kostenfrei – eine Anmeldung ist erforderlich! \nHier mehr erfahren und anmelden!
URL:https://www.aachen.digital/en/event/finale-des-7-abe_awards/
LOCATION:digitalHUB Aachen e.V. in der digitalCHURCH\, Jülicher Straße 72a\, Aachen\, NRW\, 52070\, Germany
ATTACH;FMTTYPE=image/jpeg:https://www.aachen.digital/wp-content/uploads/2024/09/Netsharqus-Sprechstunde-Stage-1.jpg
ORGANIZER;CN="AACHEN BUILDING EXPERTS e.V.":MAILTO:info@aachenbuildingexperts.de
END:VEVENT
BEGIN:VEVENT
DTSTART;TZID=Europe/Berlin:20240612T100000
DTEND;TZID=Europe/Berlin:20240613T160000
DTSTAMP:20260423T180144
CREATED:20240207T130532Z
LAST-MODIFIED:20240207T130532Z
UID:10006728-1718186400-1718294400@www.aachen.digital
SUMMARY:Baukongress 2024: Leitthema „Nachhaltigkeit entlang der Wertschöpfungskette Bau“
DESCRIPTION:Wo steht die Bau- und Immobilienbranche in Hinblick auf klimapositives Bauen? Welche Handlungsmöglichkeiten haben Städte und Kommunen angesichts von Starkregen\, Dürren und Hitze und was bedeutet dies für die Bauwirtschaft? Mit welchen innovativen Verbindungstechnologien arbeitet der moderne Holzbau? Unter anderem diese Schwerpunkte setzt der „Baukongress – Die Zukunft des Bauens“ in einem seiner drei Leitthemen\, Nachhaltigkeit. \nAußerdem behandeln die insgesamt zwölf Fachsessions an den zwei Veranstaltungstagen zentrale Herausforderungen der Branche bezogen auf Automatisierung und Digitalisierung entlang der gesamten Wertschöpfungskette. Hochkarätige Expert:innen präsentieren Trends und innovative Lösungsansätze für das Planen\, Bauen und Betreiben von Gebäuden und Infrastruktur. Das Konzept ist einzigartig: Die Vorträge in den Fachsessions werden vorab durch mehr als 120 Fachleute aus Praxis und Wissenschaft gemeinsam ausgearbeitet. \nZUR ANMELDUNG
URL:https://www.aachen.digital/en/event/baukongress-2024-leitthema-nachhaltigkeit-entlang-der-wertschoepfungskette-bau/
LOCATION:Eurogress Aachen\, Monheimsallee 48\, Aachen\, NRW\, 52062\, Deutschland
ATTACH;FMTTYPE=image/jpeg:https://www.aachen.digital/wp-content/uploads/2024/02/Baukongress_Stage-scaled.jpeg
ORGANIZER;CN="AACHEN BUILDING EXPERTS e.V.":MAILTO:info@aachenbuildingexperts.de
END:VEVENT
END:VCALENDAR