BEGIN:VCALENDAR
VERSION:2.0
PRODID:-//digitalHUB Aachen - ECPv6.15.20//NONSGML v1.0//EN
CALSCALE:GREGORIAN
METHOD:PUBLISH
X-ORIGINAL-URL:https://www.aachen.digital/en/
X-WR-CALDESC:Events for digitalHUB Aachen
REFRESH-INTERVAL;VALUE=DURATION:PT1H
X-Robots-Tag:noindex
X-PUBLISHED-TTL:PT1H
BEGIN:VTIMEZONE
TZID:Europe/Berlin
BEGIN:DAYLIGHT
TZOFFSETFROM:+0100
TZOFFSETTO:+0200
TZNAME:CEST
DTSTART:20220327T010000
END:DAYLIGHT
BEGIN:STANDARD
TZOFFSETFROM:+0200
TZOFFSETTO:+0100
TZNAME:CET
DTSTART:20221030T010000
END:STANDARD
BEGIN:DAYLIGHT
TZOFFSETFROM:+0100
TZOFFSETTO:+0200
TZNAME:CEST
DTSTART:20230326T010000
END:DAYLIGHT
BEGIN:STANDARD
TZOFFSETFROM:+0200
TZOFFSETTO:+0100
TZNAME:CET
DTSTART:20231029T010000
END:STANDARD
BEGIN:DAYLIGHT
TZOFFSETFROM:+0100
TZOFFSETTO:+0200
TZNAME:CEST
DTSTART:20240331T010000
END:DAYLIGHT
BEGIN:STANDARD
TZOFFSETFROM:+0200
TZOFFSETTO:+0100
TZNAME:CET
DTSTART:20241027T010000
END:STANDARD
END:VTIMEZONE
BEGIN:VEVENT
DTSTART;TZID=Europe/Berlin:20231115T183000
DTEND;TZID=Europe/Berlin:20231115T230000
DTSTAMP:20260423T203014
CREATED:20231109T123046Z
LAST-MODIFIED:20231109T123046Z
UID:10006621-1700073000-1700089200@www.aachen.digital
SUMMARY:Monthly Meetup of Makers\, Artists\, Hackers
DESCRIPTION:Lithophanes – 3D Printing – Lasercutting – Pizza \nDo you like doing “strange things with elecricity?” Then come to the informal monthly Meetup! Bring a project if you like and chat with likeminded people. \nThis month they are going to show you the secret of lithophanes: How can you create a lithophane on your favorite photo? \nIf you would like to join please bring your favorite photo and your laptop and install Cura on your laptop beforehand. \nLooking forward seeing you! \nREGISTRATION
URL:https://www.aachen.digital/en/event/monthly-meetup-of-makers-artists-hackers-2/
LOCATION:RWTH-Informatikzentrum\, Ahornstr. 55\, Aachen\, 52074
ATTACH;FMTTYPE=image/jpeg:https://www.aachen.digital/wp-content/uploads/2023/10/meetup-stage.jpg
END:VEVENT
BEGIN:VEVENT
DTSTART;TZID=Europe/Berlin:20231018T163000
DTEND;TZID=Europe/Berlin:20231018T230000
DTSTAMP:20260423T203014
CREATED:20231012T093529Z
LAST-MODIFIED:20231012T095452Z
UID:10006608-1697646600-1697670000@www.aachen.digital
SUMMARY:Monthly Meetup of Makers\, Artists\, Hackers
DESCRIPTION:Meetup every 3rd Wednesday of the month from 18:30 until late. Special topics and any special guests for each month will be posted. \nThis month there are several topics to discuss: \n\nFirst look at the Arduino Uno R4 WiFi: The successor to the most successful microcontroller board of all time\, the Arduino Uno R3\, is here. We got a copy to play around with\, and Jan Borchers briefly explains what the newcomer can do.\nNews about the Öcheruhr: The project is picking up speed and there are a few first prototypes on display.\nThe deodorant lamp: If you have an empty deodorant roller\, Birgit Stolte has a chic upcycling idea.\n\nAs always\, your own projects are welcome! \nThey are DIY makers\, product designers\, electronics hackers\, artists\, 3D printer builders\, geek dads and their daughters – anybody from 9 to 99 doing “strange things with electricity”! \nThe meetups are very informal; just sign up for the evening here and bring a project you’ve been working on if you like. Usually most folks come from Germany\, but also people from the Netherlands and Belgium\, thanks to Aachen’s unique location\, plus frequently other nationalities. If you speak German or English you’ll be fine! Additionally\, there will be uploads of reports on the meetups to the website. \nREGISTRATION
URL:https://www.aachen.digital/en/event/monthly-meetup-of-makers-artists-hackers/
LOCATION:RWTH-Informatikzentrum\, Ahornstr. 55\, Aachen\, 52074
ATTACH;FMTTYPE=image/jpeg:https://www.aachen.digital/wp-content/uploads/2023/10/meetup-stage.jpg
END:VEVENT
END:VCALENDAR