BEGIN:VCALENDAR
VERSION:2.0
PRODID:-//digitalHUB Aachen - ECPv6.15.20//NONSGML v1.0//EN
CALSCALE:GREGORIAN
METHOD:PUBLISH
X-WR-CALNAME:digitalHUB Aachen
X-ORIGINAL-URL:https://www.aachen.digital/en/
X-WR-CALDESC:Events for digitalHUB Aachen
REFRESH-INTERVAL;VALUE=DURATION:PT1H
X-Robots-Tag:noindex
X-PUBLISHED-TTL:PT1H
BEGIN:VTIMEZONE
TZID:Europe/Berlin
BEGIN:DAYLIGHT
TZOFFSETFROM:+0100
TZOFFSETTO:+0200
TZNAME:CEST
DTSTART:20230326T010000
END:DAYLIGHT
BEGIN:STANDARD
TZOFFSETFROM:+0200
TZOFFSETTO:+0100
TZNAME:CET
DTSTART:20231029T010000
END:STANDARD
BEGIN:DAYLIGHT
TZOFFSETFROM:+0100
TZOFFSETTO:+0200
TZNAME:CEST
DTSTART:20240331T010000
END:DAYLIGHT
BEGIN:STANDARD
TZOFFSETFROM:+0200
TZOFFSETTO:+0100
TZNAME:CET
DTSTART:20241027T010000
END:STANDARD
BEGIN:DAYLIGHT
TZOFFSETFROM:+0100
TZOFFSETTO:+0200
TZNAME:CEST
DTSTART:20250330T010000
END:DAYLIGHT
BEGIN:STANDARD
TZOFFSETFROM:+0200
TZOFFSETTO:+0100
TZNAME:CET
DTSTART:20251026T010000
END:STANDARD
END:VTIMEZONE
BEGIN:VEVENT
DTSTART;TZID=Europe/Berlin:20241207T100000
DTEND;TZID=Europe/Berlin:20241207T180000
DTSTAMP:20260423T180114
CREATED:20241014T100055Z
LAST-MODIFIED:20241128T100841Z
UID:10006886-1733565600-1733594400@www.aachen.digital
SUMMARY:Aachen\, was geht?! - Plenum Junge Kultur
DESCRIPTION:Was braucht Aachens Kultur- und Kreativszene\, um zu wachsen und ihr ganzes Potential auszuschöpfen? Was fehlt an Unterstützung\, Finanzierung\, Räumlichkeiten und anderen Rahmenbedingungen? Wie können insbesondere junge Kulturschaffende gefördert werden? Und welche Ideen und Kooperationen warten darauf\, gemeinsam umgesetzt zu werden? \nUm diese und weitere Fragen geht es im ersten Plenum Junge Kultur. \nDas Event besteht zwei Teilen:  \nTeil 1: Der „Ausschuss“ – 10-16 Uhr \nDer erste Teil besteht aus einem Barcamp und Ideenworkshop\, in dem Anliegen gesammelt und Vorschläge entwickelt werden.\nDer erste Teil richtet sich an jungen Kultur- und Kreativschaffenden (unter 30 Jahre) und Menschen/Organisationen\, die mit dieser Zielgruppe arbeiten. \nTeil 2: Das „Plenum“ – 16-18 Uhr \nDer zweite Teil bietet ein Bühnenprogramm\, Diskussionsformate und offenes Networking.\nDer zweite Teil richtet sich zusätzlich an Akteur*innen der Stadtgesellschaft – Politik\, Verwaltung\, Wirtschaft\, Hochschulen\, etc. \nAnmeldung & Mehr Informationen\nZum Plenum Junge Kultur \nDas Plenum Junge Kultur ist die Auftaktveranstaltung des neuen Projekts PLENUM.AC\, in dem Akteur*innen der Aachener Stadtgesellschaft in unregelmäßigen Abständen zu einem wichtigen und aktuellen Thema zusammenkommen. Das Ziel: Akteur*innen vernetzen und den Gemeinschaftssinn stärken\, damit wir in wichtigen Fragen unserer Stadt an einem Strang ziehen. \n 
URL:https://www.aachen.digital/en/event/aachen-was-geht-plenum-junge-kultur/
LOCATION:digitalHUB Aachen e.V. in der digitalCHURCH\, Jülicher Straße 72a\, Aachen\, NRW\, 52070\, Germany
ATTACH;FMTTYPE=image/jpeg:https://www.aachen.digital/wp-content/uploads/2024/10/Aachen-was-geht-Stage-1920-x-1080.jpg
END:VEVENT
END:VCALENDAR