BEGIN:VCALENDAR
VERSION:2.0
PRODID:-//digitalHUB Aachen - ECPv6.15.20//NONSGML v1.0//EN
CALSCALE:GREGORIAN
METHOD:PUBLISH
X-WR-CALNAME:digitalHUB Aachen
X-ORIGINAL-URL:https://www.aachen.digital/en/
X-WR-CALDESC:Events for digitalHUB Aachen
REFRESH-INTERVAL;VALUE=DURATION:PT1H
X-Robots-Tag:noindex
X-PUBLISHED-TTL:PT1H
BEGIN:VTIMEZONE
TZID:Europe/Berlin
BEGIN:DAYLIGHT
TZOFFSETFROM:+0100
TZOFFSETTO:+0200
TZNAME:CEST
DTSTART:20180325T010000
END:DAYLIGHT
BEGIN:STANDARD
TZOFFSETFROM:+0200
TZOFFSETTO:+0100
TZNAME:CET
DTSTART:20181028T010000
END:STANDARD
BEGIN:DAYLIGHT
TZOFFSETFROM:+0100
TZOFFSETTO:+0200
TZNAME:CEST
DTSTART:20190331T010000
END:DAYLIGHT
BEGIN:STANDARD
TZOFFSETFROM:+0200
TZOFFSETTO:+0100
TZNAME:CET
DTSTART:20191027T010000
END:STANDARD
BEGIN:DAYLIGHT
TZOFFSETFROM:+0100
TZOFFSETTO:+0200
TZNAME:CEST
DTSTART:20200329T010000
END:DAYLIGHT
BEGIN:STANDARD
TZOFFSETFROM:+0200
TZOFFSETTO:+0100
TZNAME:CET
DTSTART:20201025T010000
END:STANDARD
BEGIN:DAYLIGHT
TZOFFSETFROM:+0100
TZOFFSETTO:+0200
TZNAME:CEST
DTSTART:20210328T010000
END:DAYLIGHT
BEGIN:STANDARD
TZOFFSETFROM:+0200
TZOFFSETTO:+0100
TZNAME:CET
DTSTART:20211031T010000
END:STANDARD
BEGIN:DAYLIGHT
TZOFFSETFROM:+0100
TZOFFSETTO:+0200
TZNAME:CEST
DTSTART:20220327T010000
END:DAYLIGHT
BEGIN:STANDARD
TZOFFSETFROM:+0200
TZOFFSETTO:+0100
TZNAME:CET
DTSTART:20221030T010000
END:STANDARD
BEGIN:DAYLIGHT
TZOFFSETFROM:+0100
TZOFFSETTO:+0200
TZNAME:CEST
DTSTART:20230326T010000
END:DAYLIGHT
BEGIN:STANDARD
TZOFFSETFROM:+0200
TZOFFSETTO:+0100
TZNAME:CET
DTSTART:20231029T010000
END:STANDARD
END:VTIMEZONE
BEGIN:VEVENT
DTSTART;TZID=Europe/Berlin:20220923T153000
DTEND;TZID=Europe/Berlin:20220923T200000
DTSTAMP:20260423T235826
CREATED:20220919T075049Z
LAST-MODIFIED:20220919T084656Z
UID:10006312-1663947000-1663963200@www.aachen.digital
SUMMARY:9. Aachener Firmenlauf 2022
DESCRIPTION:Der größte Betriebsausflug der Euregio geht zum 9. Mal an den Start\n„Der Aachener Firmenlauf sucht die sportlichste Firma der Euregio“ – Das seid IHR? Dann nehmt am 23.09.2022 beim Aachener Firmenlauf am Campus Melaten teil. \nAuch das digitalHUB Aachen-Team wird mit dabei sein. GO AACHEN! \nIhr könnt euch zwischen einer Streckenlänge von 3\,3km\, 6\,6km oder 9\,9km entscheiden. \nINFORMATIONEN UND ANMELDUNG
URL:https://www.aachen.digital/en/event/9-aachener-firmenlauf-2022/
LOCATION:Campus Melaten\, RWTH Aachen\, Deutschland
ATTACH;FMTTYPE=image/jpeg:https://www.aachen.digital/wp-content/uploads/2022/09/firmenlauf_stage-1.jpg
ORGANIZER;CN="Aachener Firmenlauf":MAILTO:info@aachener-firmenlauf.de
END:VEVENT
BEGIN:VEVENT
DTSTART;VALUE=DATE:20190927
DTEND;VALUE=DATE:20190928
DTSTAMP:20260423T235826
CREATED:20190815T075640Z
LAST-MODIFIED:20190827T075136Z
UID:10004819-1569542400-1569628799@www.aachen.digital
SUMMARY:8. Aachener Firmenlauf 2019
DESCRIPTION:
URL:https://www.aachen.digital/en/event/8-aachener-firmenlauf-2019/
LOCATION:Campus Melaten\, RWTH Aachen\, Deutschland
ATTACH;FMTTYPE=image/jpeg:https://www.aachen.digital/wp-content/uploads/2019/08/Firmenlauf-2019_stage_final.jpg
ORGANIZER;CN="Aachener Firmenlauf":MAILTO:info@aachener-firmenlauf.de
END:VEVENT
END:VCALENDAR