BEGIN:VCALENDAR
VERSION:2.0
PRODID:-//digitalHUB Aachen - ECPv6.15.20//NONSGML v1.0//EN
CALSCALE:GREGORIAN
METHOD:PUBLISH
X-ORIGINAL-URL:https://www.aachen.digital/en/
X-WR-CALDESC:Events for digitalHUB Aachen
REFRESH-INTERVAL;VALUE=DURATION:PT1H
X-Robots-Tag:noindex
X-PUBLISHED-TTL:PT1H
BEGIN:VTIMEZONE
TZID:Europe/Berlin
BEGIN:DAYLIGHT
TZOFFSETFROM:+0100
TZOFFSETTO:+0200
TZNAME:CEST
DTSTART:20180325T010000
END:DAYLIGHT
BEGIN:STANDARD
TZOFFSETFROM:+0200
TZOFFSETTO:+0100
TZNAME:CET
DTSTART:20181028T010000
END:STANDARD
BEGIN:DAYLIGHT
TZOFFSETFROM:+0100
TZOFFSETTO:+0200
TZNAME:CEST
DTSTART:20190331T010000
END:DAYLIGHT
BEGIN:STANDARD
TZOFFSETFROM:+0200
TZOFFSETTO:+0100
TZNAME:CET
DTSTART:20191027T010000
END:STANDARD
BEGIN:DAYLIGHT
TZOFFSETFROM:+0100
TZOFFSETTO:+0200
TZNAME:CEST
DTSTART:20200329T010000
END:DAYLIGHT
BEGIN:STANDARD
TZOFFSETFROM:+0200
TZOFFSETTO:+0100
TZNAME:CET
DTSTART:20201025T010000
END:STANDARD
BEGIN:DAYLIGHT
TZOFFSETFROM:+0100
TZOFFSETTO:+0200
TZNAME:CEST
DTSTART:20210328T010000
END:DAYLIGHT
BEGIN:STANDARD
TZOFFSETFROM:+0200
TZOFFSETTO:+0100
TZNAME:CET
DTSTART:20211031T010000
END:STANDARD
BEGIN:DAYLIGHT
TZOFFSETFROM:+0100
TZOFFSETTO:+0200
TZNAME:CEST
DTSTART:20220327T010000
END:DAYLIGHT
BEGIN:STANDARD
TZOFFSETFROM:+0200
TZOFFSETTO:+0100
TZNAME:CET
DTSTART:20221030T010000
END:STANDARD
BEGIN:DAYLIGHT
TZOFFSETFROM:+0100
TZOFFSETTO:+0200
TZNAME:CEST
DTSTART:20230326T010000
END:DAYLIGHT
BEGIN:STANDARD
TZOFFSETFROM:+0200
TZOFFSETTO:+0100
TZNAME:CET
DTSTART:20231029T010000
END:STANDARD
BEGIN:DAYLIGHT
TZOFFSETFROM:+0100
TZOFFSETTO:+0200
TZNAME:CEST
DTSTART:20240331T010000
END:DAYLIGHT
BEGIN:STANDARD
TZOFFSETFROM:+0200
TZOFFSETTO:+0100
TZNAME:CET
DTSTART:20241027T010000
END:STANDARD
BEGIN:DAYLIGHT
TZOFFSETFROM:+0100
TZOFFSETTO:+0200
TZNAME:CEST
DTSTART:20250330T010000
END:DAYLIGHT
BEGIN:STANDARD
TZOFFSETFROM:+0200
TZOFFSETTO:+0100
TZNAME:CET
DTSTART:20251026T010000
END:STANDARD
BEGIN:DAYLIGHT
TZOFFSETFROM:+0100
TZOFFSETTO:+0200
TZNAME:CEST
DTSTART:20260329T010000
END:DAYLIGHT
BEGIN:STANDARD
TZOFFSETFROM:+0200
TZOFFSETTO:+0100
TZNAME:CET
DTSTART:20261025T010000
END:STANDARD
END:VTIMEZONE
BEGIN:VEVENT
DTSTART;TZID=Europe/Berlin:20251202T160000
DTEND;TZID=Europe/Berlin:20251202T220000
DTSTAMP:20260423T192426
CREATED:20251126T141950Z
LAST-MODIFIED:20251126T142114Z
UID:10007545-1764691200-1764712800@www.aachen.digital
SUMMARY:9. Unternehmertag Aachener Industrie-Dialog
DESCRIPTION:„Weltmeisterlich wie die Reiter – aber mit Business statt Pferd“ \nDer Aachener Industrie-Dialog lädt am 2. Dezember 2025 zum 9. Unternehmertag in den Krönungssaal des Aachener Rathauses – mit neuem Konzept\, starken Impulsen und viel Raum für Networking.\nNetzwerken auf Weltklasseniveau. \nKommen Sie vorbei und tauschen Sie sich aus! \n📅 2.12.2025 – ab 16:00 Uhr\n 📍Aachen\, Krönungssaal\n 🎧 Headsets für parallel verfolgbares Programm \n➡️ Jetzt anmelden bis 28.11.2025: \nHier anmelden
URL:https://www.aachen.digital/en/event/9-unternehmertag-aachener-industrie-dialog/
LOCATION:Krönungssaal des Aachener Rathauses\, Markt\, Aachen\, 52062\, Deutschland
ATTACH;FMTTYPE=image/jpeg:https://www.aachen.digital/wp-content/uploads/2023/08/Industrie-Dialog-Stage-2.jpg
END:VEVENT
BEGIN:VEVENT
DTSTART;TZID=Europe/Berlin:20241128T170000
DTEND;TZID=Europe/Berlin:20241128T193000
DTSTAMP:20260423T192426
CREATED:20241014T105949Z
LAST-MODIFIED:20241128T100112Z
UID:10006887-1732813200-1732822200@www.aachen.digital
SUMMARY:8. Unternehmertag Aachener Industrie-Dialog
DESCRIPTION:„Erfolgskonzepte in bewegten Zeiten“ \nZum 8. Unternehmertag des Aachener Industrie-Dialogs kommen in diesem Jahr über 70 Industrie- und Handwerksunternehmen aus dem produzierenden Gewerbe mit Produktionsstandort Aachen zusammen\, um sich auszutauschen und miteinander ins Gespräch zu kommen. \nEin besonderes Thema ist die künstliche Intelligenz “KI”. Während ChatGPT und Co. bereits in der Online-Nutzung von Unternehmen etabliert sind\, sind deutsche Unternehmen sogenannter generativer KI gegenüber noch skeptisch. Wie sieht es bei uns in der Region aus? \nUnsere Region ist innovativ\, attraktiv und lebenswert. Gestalten wir unsere Region gemeinsam mit Begeisterung\, Mut und Pragmatismus. Lassen Sie uns mit viel lokaler Power für Erfolge sorgen. \nKommen Sie vorbei und tauschen Sie sich aus! \nHier anmelden \nAnmelden können Sie sich bis zum 18.11.2024.
URL:https://www.aachen.digital/en/event/aachener-industrie-dialog-2/
LOCATION:Krönungssaal des Aachener Rathauses\, Markt\, Aachen\, 52062\, Deutschland
ATTACH;FMTTYPE=image/jpeg:https://www.aachen.digital/wp-content/uploads/2023/08/Industrie-Dialog-Stage-2.jpg
END:VEVENT
BEGIN:VEVENT
DTSTART;TZID=Europe/Berlin:20240605T180000
DTEND;TZID=Europe/Berlin:20240605T193000
DTSTAMP:20260423T192426
CREATED:20240508T092037Z
LAST-MODIFIED:20240508T095831Z
UID:10006788-1717610400-1717615800@www.aachen.digital
SUMMARY:Verleihung des Gütesiegels „Made in Aachen“ des Aachener Industrie-Dialogs
DESCRIPTION:Bereits zum sechsten Mal wird der Aachener Industrie-Dialog sein Gütesiegel „Made in Aachen“ verleihen.\nAusgezeichnet werden Industrieunternehmen aus der Aachener Region\, die in der Region produzieren\, ausbilden\,\nmit regionalen Unternehmen kooperieren und sich aktiv in den Industrie-Dialog einbringen. Wir freuen uns\, Sie zur\nfeierlichen Verleihung des Gütesiegels 2024 herzlich einzuladen. \nWir freuen uns auf Ihre Anmeldung per Mail an:\ndw@3win.de \n 
URL:https://www.aachen.digital/en/event/verleihung-des-guetesiegels-made-in-aachen-des-aachener-industrie-dialogs/
LOCATION:Haus der Städteregion\, Zollernstraße 16\, Aachen\, Nordrhein-Westfalen\, 52070\, Germany
ATTACH;FMTTYPE=image/jpeg:https://www.aachen.digital/wp-content/uploads/2024/05/Industrie-Dialog-Stage-3.jpg
END:VEVENT
BEGIN:VEVENT
DTSTART;TZID=Europe/Berlin:20231130T170000
DTEND;TZID=Europe/Berlin:20231130T193000
DTSTAMP:20260423T192426
CREATED:20230831T095554Z
LAST-MODIFIED:20231031T124818Z
UID:10006535-1701363600-1701372600@www.aachen.digital
SUMMARY:7. Unternehmertag "Aachener IndustrieDialog"
DESCRIPTION:Das Motto lautet in diesem Jahr „Eine Region mit Power“\, denn unsere Region hat einen weit über unsere Grenzen hinaus geachteten\, starken industriellen Kern. Damit dies auch in Zukunft so bleibt\, müssen wir weiterhin in allen Bereichen an der Spitze stehen. Die Kombination aus industrieller Kompetenz und technologischem Know-how\, aus Spitzenforschung und bestens ausgebildeten Talenten\, zeichnet unsere Region aus. Diese Kombination ist die beste Voraussetzung für Lösungen\, die Wirtschaft und Gesellschaft voranbringen. Die Industrie bleibt der Treiber für künftiges Wachstum. Gestalten wir unsere Region gemeinsam mit Begeisterung\, Mut und Pragmatismus. \n65 Firmen stehen für die Zukunftder Industrie und des Handwerks in Aachen. Sie zeigen eindrucksvoll eine Region\, die sich mit Power entwickelt und sich den Herausforderungen der 2020er-Jahre mit Mut\, Zuversicht und Begeisterung stellen.Gemeinsam präsentieren sie auch in diesem Jahr eindrucksvoll die Wirtschaftsregion Aachen. \nWir freuen uns auf Sie beim 7. Unternehmertag des Aachener Industrie-Dialogs. \nZUR ANMELDUNG \nAnmelden können Sie sich bis zum 20.11.2023.
URL:https://www.aachen.digital/en/event/7-unternehmertag-aachener-industriedialog/
LOCATION:Krönungssaal des Aachener Rathauses\, Markt\, Aachen\, 52062\, Deutschland
ATTACH;FMTTYPE=image/jpeg:https://www.aachen.digital/wp-content/uploads/2023/08/Industrie-Dialog-Stage-2.jpg
END:VEVENT
BEGIN:VEVENT
DTSTART;TZID=Europe/Berlin:20220330T090000
DTEND;TZID=Europe/Berlin:20220330T170000
DTSTAMP:20260423T192426
CREATED:20220217T140322Z
LAST-MODIFIED:20220328T084820Z
UID:10006138-1648630800-1648659600@www.aachen.digital
SUMMARY:Aachener Industrie-Dialog: Die Euregionale Kongress-Messe
DESCRIPTION:Ein „Markt der Möglichkeiten“ für Industrie und Handwerk\n\n\nIn bewegten Zeiten stellen sich gerade kleinen und mittleren Unternehmen Fragen und Aufgaben\, die im Tagesgeschäft untergehen\, weil die Lösungen nicht einfach auf der Hand liegen. Mit der EKM hat der Aachener Industrie-Dialog ein Format entwickelt\, das die wichtigsten aktuellen Unternehmerfragen aufgreifen und konkrete Unterstützung bei der Lösung der Herausforderungen an einem Tag an einem Ort bieten möchte\, physisch oder online. \n\n\n\n\n\nDie Fachforen\n\n\nDie Mischung aus Kongress- und Ausstellungskonzept schafft in sehr kompakter Form den idealen Rahmen für Informationen\, Diskussionen\, Antworten auf eigene Fragestellungen. Diverse Fachforen geben jedem Teilnehmer die Möglichkeit\, sich auf die individuell relevanten Themen und Kontakte zu fokussieren und die richtigen Ansprechpartner zu finden. \n\n\n  \n  \nWeitere Informationen & Anmeldung unter www.industrie-dialog.de
URL:https://www.aachen.digital/en/event/aachener-industrie-dialog-die-euregionale-kongress-messe/
LOCATION:Halle 60\, Metzgerstr. 60\, Aachen\, 52070\, Deutschland
ATTACH;FMTTYPE=image/jpeg:https://www.aachen.digital/wp-content/uploads/2021/03/AdobeStock_124996331-scaled-1.jpeg
END:VEVENT
BEGIN:VEVENT
DTSTART;TZID=Europe/Berlin:20201209T153000
DTEND;TZID=Europe/Berlin:20201209T180000
DTSTAMP:20260423T192426
CREATED:20201130T120429Z
LAST-MODIFIED:20221213T132254Z
UID:10005729-1607527800-1607536800@www.aachen.digital
SUMMARY:Aachener Industrie-Dialog: Die Euregionale Kongress-Messe (EKMonline)
DESCRIPTION:Innovativ trotz Krise: Weiter- und Vordenken!\nDies ist eine online Veranstaltung per ZOOM live aus der digitalCHURCH. \nAgenda: \nDer Industrie-Dialog zeigt Aktivität und Kompetenz \n\n15.30 bis 17.00 Uhr (Online-Einwahl ab 15.15)\n17.00 bis 17.30 Uhr Der Arbeitskreis INNO/FACH bleibt live im Dialog (Chat)\n\n1. Wo genau steht der Industrie-Dialog? Eine Bestandsaufnahme!\nKernkompetenzen in der EUREGIO kennen\, nutzen und ausbauen\nQuo vadis COVID-19? – Praxisbeispiele aus der Region \n2. Fachforen in virtuellen Räumen (drei parallele Breakout-Sessions)\n– Präsentation ausgewählter Start-Ups\, Jung-Unternehmer\n– Kompakter Vortrag zum Thema Fachkräfte und Qualifizierung\n– Gemeinsam Innovation gestalten: Unternehmen trifft Wissenschaft und Forschung \n3. Gütesiegelverleihung und Ausblick 2021\nErleben Sie die gebündelte Kompetenz des Aachener Industrie-Dialogs (ID) in einer zentralen Veranstaltung! Die EKMonline bietet Ihnen Diskussionen zur aktuellen Wirtschaftslage\, inspirierende Fach-Foren und individuelle Netzwerkmöglichkeiten. Aktives „Matching“ findet im „Hauptraum“ während der gesamten EKM im Hintergrund und im persönlichen Dialog statt. \nRegistrieren Sie sich ab dem 30.11.2020: \nZUR REGISTRIERUNG \nAlle Teilnehmenden erhalten kostenfreien Zugang und können gerne im Vorfeld persönliche Fragen oder Anliegen benennen; so kann ein realistisches Bild der aktuellen Bedarfe gezeichnet werden\, das während der Veranstaltung oder im Nachgang thematisiert wird. \nEs ist klar\, dass eine klassische Messe digital nicht völlig kompensiert werden kann. Wir beziehen aber auf diese Weise Stellung\, bieten ein Forum und haben das Ziel\, die Inhalte der EKM 2021 zu optimieren! \nSie werden persönlich registriert und erhalten als erstes die Informationen zur Registrierung für die EKM im Jahr 2021\, deren Besucherzahl voraussichtlich limitiert sein wird. \nAuf Wunsch werden Sie in einer Teilnehmerliste mit LOGO später auf der Website genannt\, auf der Auszüge der Veranstaltung abrufbar sind. \nSie werden persönlich angesprochen und kommunizieren direkt mit den kompetenten Gesprächspartnern aus dem Aachener Industrie-Dialog. \nIndividuelle Fragestellungen können Sie im Vorfeld adressieren\, und im Nachgang erhalten Sie sämtliche relevanten Informationen noch einmal zur Reflexion und für weiterführende Diskussionen. \n  \nKontakt\nOliver Schürings (Industrie-Dialog)\nTelefon: +49-241-15077 \nIris Wilhelmi (digitalHUB Aachen)\nTelefon: +49-241-8943850
URL:https://www.aachen.digital/en/event/aachener-industrie-dialog/
LOCATION:Jülicher Strasse 72a\, Aachen\, 52070\, Germany
ATTACH;FMTTYPE=image/jpeg:https://www.aachen.digital/wp-content/uploads/2020/11/AdobeStock_124996331-scaled.jpeg
END:VEVENT
BEGIN:VEVENT
DTSTART;TZID=Europe/Berlin:20191127T170000
DTEND;TZID=Europe/Berlin:20191127T200000
DTSTAMP:20260423T192426
CREATED:20191121T105007Z
LAST-MODIFIED:20191121T105007Z
UID:10005464-1574874000-1574884800@www.aachen.digital
SUMMARY:5. Unternehmertag des Aachener Industrie-Dialogs
DESCRIPTION:Digitalisierung\, Künstliche Intelligenz\, Nachhaltigkeit\, Umweltschutz – unsere Industrie steht vor den größten Veränderungen in der Arbeitswelt.\n“Zu alt\, zu unflexibel\, zu teuer – hat Industrie noch Zukunft?” in unserer sich ständig verändernden Welt? Die Herausforderungen der deutschen Industrie sind bereits allgegenwärtig. Wie schaffen wir die nötige Akzeptanz der Industrie in unserer Gesellschaft? Wie sieht die Zukunft der Industrie in Aachen aus? \nAm Mittwoch\, 27. November 2019\, sagen wir beim 5. Unternehmertag des Aachener Industrie-Dialogs von 17 bis 20 Uhr im Aachener Krönungssaal gemeinsam “Ja\, Industrie hat Zukunft – weil wir diese zusammen gestalten!” \nNeu\, innovativ und ganz anders wird die 5. Auflage unseres Unternehmertags. Der Unternehmertag 2019 soll die Aachener Unternehmen verbinden und motivieren\, gemeinsam eine “Aachener Zukunftsmaschine” zu entwerfen. Er bringt Industrie und Lösungsanbieter aus der Region zusammen\, um gemeinsam die Herausforderungen zu gestalten. Der Krönungssaal wird in 4 Themenschwerpunkte aufgeteilt: Industrie\, Digitalisierung\, Nachhaltigkeit und Matchmaking. Präsentieren Sie Ihre Lösungen auf die Fragen der Zukunft und finden Sie Partner\, um sich gemeinsam den Anforderungen zu stellen und unsere Region nachhaltig zu stärken. \nMachen Sie wieder oder neu mit beim 5. Unternehmertag des Industrie-Dialogs im Aachener Krönungssaal. Über 65 Industrie- und Handwerksunternehmen aus dem produzierenden Gewerbe mit Produktionsstandort im Raum Aachen werden wieder miteinander ins Gespräch kommen. Gestalten Sie gemeinsam mit uns eine innovative Zukunft der Aachener Industrie! \nAnmelden können Sie sich bis zum 22.11.2019 unter dw@3win.de.
URL:https://www.aachen.digital/en/event/5-unternehmertag-des-aachener-industrie-dialogs/
LOCATION:Krönungssaal des Aachener Rathauses\, Markt\, Aachen\, 52062\, Deutschland
ATTACH;FMTTYPE=image/jpeg:https://www.aachen.digital/wp-content/uploads/2019/08/AachenerDom.jpg
END:VEVENT
END:VCALENDAR