BEGIN:VCALENDAR
VERSION:2.0
PRODID:-//digitalHUB Aachen - ECPv6.15.20//NONSGML v1.0//EN
CALSCALE:GREGORIAN
METHOD:PUBLISH
X-WR-CALNAME:digitalHUB Aachen
X-ORIGINAL-URL:https://www.aachen.digital/en/
X-WR-CALDESC:Events for digitalHUB Aachen
REFRESH-INTERVAL;VALUE=DURATION:PT1H
X-Robots-Tag:noindex
X-PUBLISHED-TTL:PT1H
BEGIN:VTIMEZONE
TZID:Europe/Berlin
BEGIN:DAYLIGHT
TZOFFSETFROM:+0100
TZOFFSETTO:+0200
TZNAME:CEST
DTSTART:20230326T010000
END:DAYLIGHT
BEGIN:STANDARD
TZOFFSETFROM:+0200
TZOFFSETTO:+0100
TZNAME:CET
DTSTART:20231029T010000
END:STANDARD
BEGIN:DAYLIGHT
TZOFFSETFROM:+0100
TZOFFSETTO:+0200
TZNAME:CEST
DTSTART:20240331T010000
END:DAYLIGHT
BEGIN:STANDARD
TZOFFSETFROM:+0200
TZOFFSETTO:+0100
TZNAME:CET
DTSTART:20241027T010000
END:STANDARD
BEGIN:DAYLIGHT
TZOFFSETFROM:+0100
TZOFFSETTO:+0200
TZNAME:CEST
DTSTART:20250330T010000
END:DAYLIGHT
BEGIN:STANDARD
TZOFFSETFROM:+0200
TZOFFSETTO:+0100
TZNAME:CET
DTSTART:20251026T010000
END:STANDARD
END:VTIMEZONE
BEGIN:VEVENT
DTSTART;TZID=Europe/Berlin:20241007T083000
DTEND;TZID=Europe/Berlin:20241009T150000
DTSTAMP:20260423T201553
CREATED:20240124T132832Z
LAST-MODIFIED:20240131T110515Z
UID:10006712-1728289800-1728486000@www.aachen.digital
SUMMARY:33. Aachen Colloquium Sustainable Mobility
DESCRIPTION:Das Aachen Colloquium Sustainable Mobility führt die lange Tradition des Aachener Kolloquium Fahrzeug- und Motorentechnik fort\, aber legt einen klaren Schwerpunkt auf nachhaltige Lösungen im Bereich Mobilität. Bereits zum 33. Mal werden in diesem Jahr international renommierte Expert:innen aus Forschung und Industrie zusammenkommen\, um die Zukunft der Mobilität zu diskutieren und die neuesten Innovationen zu erleben. \nDie Veranstaltung findet im Eurogress Aachen statt und verspricht ein aufregendes Vortragsprogramm mit ausgewählten Fachvorträgen und Plenarreden. Außerhalb der Konferenzsäle werden namhafte Unternehmen präsent sein\, um ihre Innovationen persönlich vorzustellen und Ihre Fragen zu beantworten. Zudem haben Sie die Gelegenheit\, neue Mobilitätskonzepte hautnah im Circus Minimus zu erleben. \nJedes Jahr bietet das Aachen Colloquium zahlreiche Möglichkeiten für Diskussionen und den direkten Austausch mit Expertinnen und Experten aus der ganzen Welt. Ganz gleich\, ob Sie als Referent:in\, Aussteller:in oder Teilnehmer:in teilnehmen – wir heißen Sie herzlich willkommen und freuen uns darauf\, Sie in Aachen begrüßen zu dürfen! \nSie haben ausgewiesene Fachkenntnisse im Bereich der Sustainable Mobility? Dann nutzen Sie die Gelegenheit\, sich mit einem Vortragsvorschlag am Aachen Colloquium zu beteiligen. Ihre Kurzfassung können Sie bis zum 15. Februar einreichen. \nInfos und Anmeldung
URL:https://www.aachen.digital/en/event/33-aachen-colloquium-sustainable-mobility/
LOCATION:Eurogress Aachen\, Monheimsallee 48\, Aachen\, NRW\, 52062\, Deutschland
ATTACH;FMTTYPE=image/jpeg:https://www.aachen.digital/wp-content/uploads/2024/01/33.-Aachen-Colloquium-1632x644_Stage.jpg
ORGANIZER;CN="Aachener Kolloquium GbR":MAILTO:http://www.aachener-kolloquium.de/
END:VEVENT
END:VCALENDAR