BEGIN:VCALENDAR
VERSION:2.0
PRODID:-//digitalHUB Aachen - ECPv6.15.20//NONSGML v1.0//EN
CALSCALE:GREGORIAN
METHOD:PUBLISH
X-WR-CALNAME:digitalHUB Aachen
X-ORIGINAL-URL:https://www.aachen.digital/en/
X-WR-CALDESC:Events for digitalHUB Aachen
REFRESH-INTERVAL;VALUE=DURATION:PT1H
X-Robots-Tag:noindex
X-PUBLISHED-TTL:PT1H
BEGIN:VTIMEZONE
TZID:Europe/Berlin
BEGIN:DAYLIGHT
TZOFFSETFROM:+0100
TZOFFSETTO:+0200
TZNAME:CEST
DTSTART:20170326T010000
END:DAYLIGHT
BEGIN:STANDARD
TZOFFSETFROM:+0200
TZOFFSETTO:+0100
TZNAME:CET
DTSTART:20171029T010000
END:STANDARD
BEGIN:DAYLIGHT
TZOFFSETFROM:+0100
TZOFFSETTO:+0200
TZNAME:CEST
DTSTART:20180325T010000
END:DAYLIGHT
BEGIN:STANDARD
TZOFFSETFROM:+0200
TZOFFSETTO:+0100
TZNAME:CET
DTSTART:20181028T010000
END:STANDARD
BEGIN:DAYLIGHT
TZOFFSETFROM:+0100
TZOFFSETTO:+0200
TZNAME:CEST
DTSTART:20190331T010000
END:DAYLIGHT
BEGIN:STANDARD
TZOFFSETFROM:+0200
TZOFFSETTO:+0100
TZNAME:CET
DTSTART:20191027T010000
END:STANDARD
BEGIN:DAYLIGHT
TZOFFSETFROM:+0100
TZOFFSETTO:+0200
TZNAME:CEST
DTSTART:20200329T010000
END:DAYLIGHT
BEGIN:STANDARD
TZOFFSETFROM:+0200
TZOFFSETTO:+0100
TZNAME:CET
DTSTART:20201025T010000
END:STANDARD
BEGIN:DAYLIGHT
TZOFFSETFROM:+0100
TZOFFSETTO:+0200
TZNAME:CEST
DTSTART:20210328T010000
END:DAYLIGHT
BEGIN:STANDARD
TZOFFSETFROM:+0200
TZOFFSETTO:+0100
TZNAME:CET
DTSTART:20211031T010000
END:STANDARD
BEGIN:DAYLIGHT
TZOFFSETFROM:+0100
TZOFFSETTO:+0200
TZNAME:CEST
DTSTART:20220327T010000
END:DAYLIGHT
BEGIN:STANDARD
TZOFFSETFROM:+0200
TZOFFSETTO:+0100
TZNAME:CET
DTSTART:20221030T010000
END:STANDARD
BEGIN:DAYLIGHT
TZOFFSETFROM:+0100
TZOFFSETTO:+0200
TZNAME:CEST
DTSTART:20230326T010000
END:DAYLIGHT
BEGIN:STANDARD
TZOFFSETFROM:+0200
TZOFFSETTO:+0100
TZNAME:CET
DTSTART:20231029T010000
END:STANDARD
BEGIN:DAYLIGHT
TZOFFSETFROM:+0100
TZOFFSETTO:+0200
TZNAME:CEST
DTSTART:20240331T010000
END:DAYLIGHT
BEGIN:STANDARD
TZOFFSETFROM:+0200
TZOFFSETTO:+0100
TZNAME:CET
DTSTART:20241027T010000
END:STANDARD
BEGIN:DAYLIGHT
TZOFFSETFROM:+0100
TZOFFSETTO:+0200
TZNAME:CEST
DTSTART:20250330T010000
END:DAYLIGHT
BEGIN:STANDARD
TZOFFSETFROM:+0200
TZOFFSETTO:+0100
TZNAME:CET
DTSTART:20251026T010000
END:STANDARD
END:VTIMEZONE
BEGIN:VEVENT
DTSTART;TZID=Europe/Berlin:20241125T190000
DTEND;TZID=Europe/Berlin:20241125T220000
DTSTAMP:20260423T180034
CREATED:20240110T105208Z
LAST-MODIFIED:20241108T112151Z
UID:10006702-1732561200-1732572000@www.aachen.digital
SUMMARY:Gründer:innen Stammtisch
DESCRIPTION:Am 25. November findet unser Gründer:innen Stammtisch statt. Der Stammtisch wird veranstaltet\, um die Aachener Gründer:innenwelt in entspannter und ungezwungener Atmosphäre zusammenzubringen. \nAb 19 Uhr treffen wir uns mit der Startup Community vom digitalHUB Aachen\, RWTH Innovation \, AC.E – Aachener Entrepreneurship Team e.V.\, dem Gründungszentrum FH Aachen und dem Collective Incubator. \nWie immer werden 2-3 Ideen von (zukünftigen) Gründer:innen präsentiert. Es gibt ebenfalls die Möglichkeit\, spontan eine Idee zu präsentieren\, um Feedback von der Community zu erhalten. Ob spontan oder vorbereitet\, mit oder ohne Folien\, ist Euch überlassen. Während einer anschließenden Diskussionsrunde werden offene Fragen beantworten. \nJede:r\, der eine coole Idee hat und diese gerne teilen und diskutieren möchte\, ist beim Gründer:innen Stammtisch herzlich willkommen. Zudem bietet der Stammtisch eine perfekte Möglichkeit\, um zu networken bzw. Erfahrungen auszutauschen bei kalten Drinks und Pizza. \nSeid dabei! Wir freuen uns auf euch! \nKostenlose Anmeldung
URL:https://www.aachen.digital/en/event/gruenderinnen-stammtisch-23/
LOCATION:digitalHUB Aachen\, Jülicher Str. 72a\, Aachen\, Nordrhein-Westfalen\, 52070\, Germany
ATTACH;FMTTYPE=image/jpeg:https://www.aachen.digital/wp-content/uploads/2024/01/Gruenderinnen-Stammtisch-2024-Stage.jpg
END:VEVENT
BEGIN:VEVENT
DTSTART;TZID=Europe/Berlin:20240930T190000
DTEND;TZID=Europe/Berlin:20240930T220000
DTSTAMP:20260423T180034
CREATED:20240110T102839Z
LAST-MODIFIED:20240927T071805Z
UID:10006700-1727722800-1727733600@www.aachen.digital
SUMMARY:Gründer:innen Stammtisch
DESCRIPTION:Am 30. September findet unser Gründer:innen Stammtisch statt. Der Stammtisch wird veranstaltet\, um die Aachener Gründer:innenwelt in entspannter und ungezwungener Atmosphäre zusammenzubringen. \nAb 19 Uhr treffen wir uns mit der Startup Community vom digitalHUB Aachen\, RWTH Innovation \, AC.E – Aachener Entrepreneurship Team e.V.\, dem Gründungszentrum FH Aachen und dem Collective Incubator. \nWie immer werden 2-3 Ideen von (zukünftigen) Gründer:innen präsentiert. Es gibt ebenfalls die Möglichkeit\, spontan eine Idee zu präsentieren\, um Feedback von der Community zu erhalten. Ob spontan oder vorbereitet\, mit oder ohne Folien\, ist Euch überlassen. Während einer anschließenden Diskussionsrunde werden offene Fragen beantworten. \nJede:r\, der eine coole Idee hat und diese gerne teilen und diskutieren möchte\, ist beim Gründer:innen Stammtisch herzlich willkommen. Zudem bietet der Stammtisch eine perfekte Möglichkeit\, um zu networken bzw. Erfahrungen auszutauschen bei kalten Drinks und Pizza. \nSeid dabei! Wir freuen uns auf euch! \nHier anmelden!
URL:https://www.aachen.digital/en/event/gruenderinnen-stammtisch-21/
LOCATION:digitalHUB Aachen\, Jülicher Str. 72a\, Aachen\, Nordrhein-Westfalen\, 52070\, Germany
ATTACH;FMTTYPE=image/jpeg:https://www.aachen.digital/wp-content/uploads/2024/01/Gruenderinnen-Stammtisch-2024-Stage.jpg
END:VEVENT
BEGIN:VEVENT
DTSTART;TZID=Europe/Berlin:20240926T150000
DTEND;TZID=Europe/Berlin:20240926T180000
DTSTAMP:20260423T180034
CREATED:20240919T093626Z
LAST-MODIFIED:20240919T110537Z
UID:10006231-1727362800-1727373600@www.aachen.digital
SUMMARY:Meet the Founder - Dr. Andreas & Dr. Thomas Strüngmann (HEXAL / BioNTech)
DESCRIPTION:AC.E läd euch herzlich zur Veranstaltung “Meet the Founder” ein. Dieses Event bietet die Gelegenheit\, die renommierten Unternehmer Dr. Andreas und Dr. Thomas Strüngmann persönlich kennenzulernen\, die an diesem Tag mit dem Unternehmerpreis 2024 ausgezeichnet werden. Außerdem habt ihr die Chance als Startup oder Organisation mit einem Stand vertreten zu sein. \nÜber das Event:\n\nQ&A-Session mit den Preisträgern: Nutzt die Chance\, Eure Fragen direkt an Dr. Andreas und Dr. Thomas Strüngmann zu stellen und Einblicke in ihre beeindruckende unternehmerische Reise zu gewinnen.\nStartup-Stände: Präsentiert Eure innovativen Projekte vor einem interessierten Publikum und knüpft wertvolle Kontakte. Diese Plattform bietet Euch die Möglichkeit\, Eure Ideen und Produkte vorzustellen und direkte Rückmeldungen zu erhalten.\n\nDas Event richtet sich dabei an Studenten und das Startup-Ökosystem in den Regionen Köln\, Düsseldorf\, Maastricht und Aachen. \nÜber die Preisträger:\nDr. Andreas und Dr. Thomas Strüngmann\, Zwillingsbrüder und visionäre Unternehmer\, haben ihr unternehmerisches Leben eng miteinander verknüpft. Sie begannen ihre Karriere\, indem sie das Pharmaunternehmen ihres Vaters übernahmen und später die Hexal AG gründeten\, ein führendes Unternehmen in der Generikaherstellung. Nach dem Verkauf von Hexal im Jahr 2005 investierten die Brüder in zukunftsweisende Startups\, insbesondere im Bereich der medizinischen Gentechnik.\nEine ihrer bemerkenswertesten Investitionen war die Gründung der BioNTech SE zusammen mit Prof. Dr. med. Ugur Sahin. BioNTech spielte eine zentrale Rolle bei der Entwicklung des mRNA-Impfstoffs zur Bekämpfung der COVID-19-Pandemie.\nFür ihre langfristigen Investitionen in Startups und ihre Unterstützung der wissenschaftlichen Forschung werden die Brüder mit dem Unternehmerpreis des Business Club Aachen Maastricht ausgezeichnet. \nStartup-Präsentationen und Standmöglichkeiten:\nStartups aus den Regionen Köln\, Düsseldorf\, Maastricht und Aachen sind herzlich eingeladen\, ihre Projekte auf der Veranstaltung zu präsentieren. Bei Interesse an einem eigenen Stand kontaktiert bitte info@ac-e.org.\nWir stehen Euch gerne für alle Fragen zur Verfügung und freuen uns auf Eure innovativen Ideen. \nHier anmelden und mehr erfahren
URL:https://www.aachen.digital/en/event/ace-meet-the-founder-biontech/
LOCATION:Krönungssaal des Aachener Rathauses\, Markt\, Aachen\, 52062\, Deutschland
ATTACH;FMTTYPE=image/jpeg:https://www.aachen.digital/wp-content/uploads/2024/09/Stage-ACE-Meet-the-founder.jpg
END:VEVENT
BEGIN:VEVENT
DTSTART;TZID=Europe/Berlin:20240527T190000
DTEND;TZID=Europe/Berlin:20240527T220000
DTSTAMP:20260423T180034
CREATED:20240110T092632Z
LAST-MODIFIED:20240524T133324Z
UID:10006696-1716836400-1716847200@www.aachen.digital
SUMMARY:Gründer:innen Stammtisch
DESCRIPTION:Am 27. Mai findet unser Gründer:innen Stammtisch statt. Der Stammtisch wird veranstaltet\, um die Aachener Gründer:innenwelt in entspannter und ungezwungener Atmosphäre zusammenzubringen. \nAb 19 Uhr treffen wir uns mit der Startup Community vom digitalHUB Aachen\, RWTH Innovation \, AC.E – Aachener Entrepreneurship Team e.V.\, dem Gründungszentrum FH Aachen und dem Collective Incubator. \nWie immer werden 2-3 Ideen von (zukünftigen) Gründer:innen präsentiert. Es gibt ebenfalls die Möglichkeit\, spontan eine Idee zu präsentieren\, um Feedback von der Community zu erhalten. Ob spontan oder vorbereitet\, mit oder ohne Folien\, ist Euch überlassen. Während einer anschließenden Diskussionsrunde werden offene Fragen beantworten. \nJede:r\, der eine coole Idee hat und diese gerne teilen und diskutieren möchte\, ist beim Gründer:innen Stammtisch herzlich willkommen. Zudem bietet der Stammtisch eine perfekte Möglichkeit\, um zu networken bzw. Erfahrungen auszutauschen bei kalten Drinks und Pizza. \nSeid dabei! Wir freuen uns auf euch! \nANMELDUNG HIER
URL:https://www.aachen.digital/en/event/gruenderinnen-stammtisch-17/
LOCATION:digitalHUB Aachen\, Jülicher Str. 72a\, Aachen\, Nordrhein-Westfalen\, 52070\, Germany
ATTACH;FMTTYPE=image/jpeg:https://www.aachen.digital/wp-content/uploads/2024/01/Gruenderinnen-Stammtisch-2024-Stage.jpg
END:VEVENT
BEGIN:VEVENT
DTSTART;TZID=Europe/Berlin:20231108T180000
DTEND;TZID=Europe/Berlin:20231108T210000
DTSTAMP:20260423T180034
CREATED:20231031T083647Z
LAST-MODIFIED:20231031T122720Z
UID:10005970-1699466400-1699477200@www.aachen.digital
SUMMARY:Barcamp - Mentoring in Aachen
DESCRIPTION:Das AC.E Team lädt herzlich zum Brainstorming-Event am 08.11.2023 um 18 Uhr in der digitalCHURCH ein. Ziel ist die Entwicklung eines zugänglichen Mentoring-Systems für gründungsinteressierte Menschen in Aachen. Diskussionspunkte sind die effektive Vernetzung von Mentoren und Gründer:innen\, die Motivation der Mentoren\, Finanzierungsmöglichkeiten\, Nutzung bestehender Ressourcen in Aachen\, sowie die Organisation des Netzwerks. Wir freuen uns auf einen spannenden Austausch und viele Anregungen aus der Community\, denn nur mit der Community funktioniert ein derartiges Vorhaben. Um eine vorherige Anmeldung wird aus organisatorischen Gründen gebeten. \nInfos & kostenlose Anmeldung \nIn Kooperation mit dem digitalHUB Aachen.
URL:https://www.aachen.digital/en/event/barcamp-mentoring-in-aachen/
LOCATION:digitalHUB Aachen\, Jülicher Str. 72a\, Aachen\, Nordrhein-Westfalen\, 52070\, Germany
ATTACH;FMTTYPE=image/jpeg:https://www.aachen.digital/wp-content/uploads/2023/10/barcamp_adobe-1632x644-1.jpg
END:VEVENT
BEGIN:VEVENT
DTSTART;TZID=Europe/Berlin:20231012T153000
DTEND;TZID=Europe/Berlin:20231012T170000
DTSTAMP:20260423T180034
CREATED:20231002T080423Z
LAST-MODIFIED:20231002T103558Z
UID:10005965-1697124600-1697130000@www.aachen.digital
SUMMARY:Meet the Founder X Daniel Krauss (Flixbus)
DESCRIPTION:Willkommen zum neuen Format „ Meet the Founder“ \nHierbei wird AC.E euch ins Gespräch mit erfolgreichen Gründer:innen bringen\, denen ihr eure Fragen stellen könnt. \nDen Auftakt dieser neuen Reihe macht Daniel Krauss von Flixbus.\nDaniel Krauss kommt im Rahmen des Unternehmerpreises nach Aachen\, um die Laudatio für Susanne Klatten (BMW Großaktionärin) zu halten. Freut euch also auf eine spannende Q&A Runde mit Daniel Krauss im Krönungssaal der Stadt Aachen. \nWichtig !!! Die ersten 12 Personen\, die ein Ticket buchen\, haben die Chance\, ein exklusives Kombiticket für beide Veranstaltungen zu erhalten. \nZUR ANMELDUNG
URL:https://www.aachen.digital/en/event/meet-the-founder-x-daniel-krauss-flixbus/
LOCATION:Rathaus Aachen\, Markt\, Aachen\, 52062
ATTACH;FMTTYPE=image/jpeg:https://www.aachen.digital/wp-content/uploads/2023/10/meet-the-founder-stage.jpg
END:VEVENT
BEGIN:VEVENT
DTSTART;TZID=Europe/Berlin:20230925T190000
DTEND;TZID=Europe/Berlin:20230925T220000
DTSTAMP:20260423T180034
CREATED:20230703T091239Z
LAST-MODIFIED:20230720T083518Z
UID:10006500-1695668400-1695679200@www.aachen.digital
SUMMARY:Gründer:innen Stammtisch
DESCRIPTION:Am 25. September findet unser Gründer:innen Stammtisch statt. Der Stammtisch wird veranstaltet\, um die Aachener Gründer:innenwelt in entspannter und ungezwungener Atmosphäre zusammenzubringen. \nAb 19 Uhr treffen wir uns mit der Startup Community vom digitalHUB Aachen\, RWTH Innovation\, AC.E – Aachener Entrepreneurship Team e.V. und dem Gründungszentrum FH Aachen. \nWie immer werden 2-3 Ideen von (zukünftigen) Gründer:innen präsentiert. Es gibt ebenfalls die Möglichkeit\, spontan eine Idee zu präsentieren\, um Feedback von der Community zu erhalten. Ob spontan oder vorbereitet\, mit oder ohne Folien\, ist Euch überlassen. Während einer anschließenden Diskussionsrunde werden offene Fragen beantworten. \nJede:r\, der eine coole Idee hat und diese gerne teilen und diskutieren möchte\, ist beim Gründer:innen Stammtisch herzlich willkommen. Zudem bietet der Stammtisch eine perfekte Möglichkeit\, um zu networken bzw. Erfahrungen auszutauschen bei kalten Drinks und Pizza. \nSeid dabei! Wir freuen uns auf euch! \nANMELDUNG FOLGT \nVeranstalter ist dieses Mal der AC.E Aachen e.V.
URL:https://www.aachen.digital/en/event/gruenderinnen-stammtisch-9/
LOCATION:digitalHUB Aachen\, Jülicher Str. 72a\, Aachen\, Nordrhein-Westfalen\, 52070\, Germany
ATTACH;FMTTYPE=image/jpeg:https://www.aachen.digital/wp-content/uploads/2023/01/Gruenderinnen-Stammtisch_stage.jpg
END:VEVENT
BEGIN:VEVENT
DTSTART;TZID=Europe/Berlin:20221206T180000
DTEND;TZID=Europe/Berlin:20221206T220000
DTSTAMP:20260423T180034
CREATED:20220210T095440Z
LAST-MODIFIED:20221202T131129Z
UID:10006122-1670349600-1670364000@www.aachen.digital
SUMMARY:Gründer:innen Stammtisch
DESCRIPTION:Am 6. Dezember findet unser Gründer:innen Stammtisch statt. Der Stammtisch wird veranstaltet\, um die Aachener Gründer:innenwelt bei gemütlicher Atmosphäre zusammenzubringen. \nAb 18 Uhr treffen wir uns mit der Startup Community vom digitalHUB Aachen\, RWTH Innovation \, AC.E – Aachener Entrepreneurship Team e.V. und der Gründungszentrum FH Aachen. \nWie immer werden 2-3 Ideen von (zukünftigen) Gründer:Innen präsentiert. Es gibt ebenfalls die Möglichkeit\, spontan eine Idee zu präsentieren\, um Feedback von der Community zu erhalten. Ob spontan oder vorbereitet\, mit oder ohne Folien\, ist Euch überlassen. Während einer anschließenden Diskussionsrunde werden offene Fragen beantworten. \nJede:r\, der eine coole Idee hat und diese gerne teilen und diskutieren möchte\, ist beim Gründer:innen Stammtisch herzlich willkommen. \nSeid dabei! Wir freuen uns auf euch! \nVeranstalter ist dieses Mal AC.E. \nZUR ANMELDUNG \nOn December 6th\, the Gründer:innen Stammtisch for founders will take place. The Stammtisch is organized to bring together the founders of Aachen in a cozy atmosphere. \nStarting at 6 pm we will meet with the startup community from digitalHUB Aachen\, RWTH Innovation \, AC.E – Aachener Entrepreneurship Team e.V. and Gründungszentrum FH Aachen. \nAs always\, 2-3 ideas from (future) founders will be presented. There is also the possibility to spontaneously present an idea to get feedback from the community. Whether spontaneous or prepared\, with or without slides\, is up to you. During a subsequent discussion round\, open questions will be answered. \nEveryone who has a cool idea and would like to share and discuss it is welcome at the Stammtisch. \nWe are happy to meet you! \nThis edition is organized by AC.E. \nREGISTRATION
URL:https://www.aachen.digital/en/event/gruenderinnen-stammtisch-dezember-2022/
LOCATION:Jülicher Strasse 72a\, Aachen\, 52070\, Germany
ATTACH;FMTTYPE=image/jpeg:https://www.aachen.digital/wp-content/uploads/2022/02/Gruenderinnen-Stammtisch_stage.jpg
END:VEVENT
BEGIN:VEVENT
DTSTART;TZID=Europe/Berlin:20220618T150000
DTEND;TZID=Europe/Berlin:20220618T170000
DTSTAMP:20260423T180034
CREATED:20220331T074241Z
LAST-MODIFIED:20220331T074241Z
UID:10006185-1655564400-1655571600@www.aachen.digital
SUMMARY:Prokrastination: Wie du dich selbst besiegen kannst
DESCRIPTION:Prokrastination hat dich im Griff? Wehr dich! \nOb Klausurvorbereitung\, die Start-up-Idee oder eine Interrail-Reise. Oft macht uns Prokrastination einen Strich durch unsere Ambitionen.\nDeswegen stellen wir euch Methoden vor\, mit denen ihr euer Prokrastinations-Monster bekämpfen könnt. \nSo wird der Workshop eine Mischung aus Storytelling und Zusammenarbeit:\nEin Speaker nimmt euch mit auf eine kurze Story\, wie er/sie es geschafft hat\, Prokrastination zu überwinden.\nDanach wird eine Tool-Box vorgestellt\, die euch hilft\, das Gleiche zu schaffen. Von der Pomodoro-Technik und einer klaren Zieldefinition bis zur Golden Rule – für alle ist etwas dabei.\nNach einer kurzen Vorstellung der Methoden kannst du dein Werkzeug direkt ausprobieren. Damit du weißt\, wie es funktioniert und gut vorbereitet in die Klausurphase gehst! \nFür gute Stimmung ist gesorgt\, denn es gibt kostenlose Getränke für euch\nMelde dich jetzt an\, denn der Workshop ist auf 35 TeilnehmerInnen begrenzt. So wird gute Zusammenarbeit sichergestellt. \nAnmeldung
URL:https://www.aachen.digital/en/event/prokrastination-wie-du-dich-selbst-besiegen-kannst/
LOCATION:digitalHUB Aachen\, Jülicher Str. 72a\, Aachen\, Nordrhein-Westfalen\, 52070\, Germany
ATTACH;FMTTYPE=image/jpeg:https://www.aachen.digital/wp-content/uploads/2021/07/AdobeStock_102558088-scaled.jpeg
END:VEVENT
BEGIN:VEVENT
DTSTART;TZID=Europe/Berlin:20220531T190000
DTEND;TZID=Europe/Berlin:20220531T203000
DTSTAMP:20260423T180034
CREATED:20220210T093850Z
LAST-MODIFIED:20220531T073637Z
UID:10006113-1654023600-1654029000@www.aachen.digital
SUMMARY:Gründer:innen Stammtisch
DESCRIPTION:Am 31.Mai findet unser Gründer:innen Stammtisch  statt. Der Stammtisch wird veranstaltet\, um die Aachener Gründer:innenwelt bei gemütlicher Atmosphäre zusammenzubringen. \nAb 19 Uhr treffen wir uns mit der Startup Community vom digitalHUB Aachen\, RWTH Innovation \, AC.E – Aachener Entrepreneurship Team e.V. und der FH-Aachen. \nWie immer werden 2-3 Ideen von (zukünftigen) Gründer:innen präsentiert. Es gibt ebenfalls die Möglichkeit\, spontan eine Idee zu präsentieren\, um Feedback von der Community zu erhalten. Ob spontan oder vorbereitet\, mit oder ohne Folien\, ist Euch überlassen. Während einer anschließenden Diskussionsrunde werden offene Fragen beantworten. \nJede:r\, der eine coole Idee hat und diese gerne teilen und diskutieren möchte\, ist beim Gründer:innen Stammtisch herzlich willkommen. Diesmal wird der Gründer:innen Stammtisch vom digitalHUB Aachen ausgerichtet. \nSeid dabei! Wir freuen uns auf euch! \nZUR ANMELDUNG \nOn May 31th\, the Gründer:innen Stammtisch for founders will take place. The Stammtisch is organized to bring together the founders of Aachen in a cozy atmosphere. \nStarting at 7 pm we will meet virtually with the startup community from digitalHUB Aachen\, RWTH Innovation \, AC.E – Aachener Entrepreneurship Team e.V. and FH-Aachen. \nAs always\, 2-3 ideas from (future) founders will be presented. There is also the possibility to spontaneously present an idea to get feedback from the community. Whether spontaneous or prepared\, with or without slides\, is up to you. During a subsequent discussion round\, open questions will be answered. \nEveryone who has a cool idea and would like to share and discuss it is welcome at the Stammtisch. \nWe are happy to meet you! \nREGISTRATION
URL:https://www.aachen.digital/en/event/gruenderinnen-stammtisch-mai-2022/
LOCATION:Cafe Papillon\, Pontstraße 151\, Aachen\, 52062\, Deutschland
ATTACH;FMTTYPE=image/jpeg:https://www.aachen.digital/wp-content/uploads/2022/02/Gruenderinnen-Stammtisch_stage.jpg
END:VEVENT
BEGIN:VEVENT
DTSTART;TZID=Europe/Berlin:20210508T120000
DTEND;TZID=Europe/Berlin:20210508T180000
DTSTAMP:20260423T180034
CREATED:20210505T074738Z
LAST-MODIFIED:20210505T075622Z
UID:10005899-1620475200-1620496800@www.aachen.digital
SUMMARY:Baklava Meets Printen - Ein deutsch-türkisches Startup-Event
DESCRIPTION:Baklava Meets Printen ist ein deutsch-türkisches Startup-Event\, das junge Menschen aus Deutschland und der Türkei zusammenbringen will\, um sie über Entrepreneurship\, Intrapreneurship und die Startup-Ökosysteme aufzuklären. \nWann:\n08.05.2021 / von 13.00 – 19.00 Uhr Istanbul-Zeit / von 12.00 – 18.00 Uhr Berlin-Zeit \nWo:\nDie Veranstaltung findet online über wonder.me statt. Dort haben wir die Möglichkeit\, unseren Rednern zuzuhören\, Fragen zu stellen und uns nach dem Zufallsprinzip zu vernetzen. \nWie:\nWir suchen Teilnehmer zwischen 18 und 30 Jahren. Die Veranstaltung ist kostenlos. Die Veranstaltung findet in englischer Sprache statt. Sie brauchen keine perfekten Englischkenntnisse. Gut ist besser als perfekt. \nAgenda \n\n12:00 – 12:15 | Eröffnung\n12-15 – 12:45 | Wie Aachen innoviert\n12:45 – 13:15 | Wie Istanbul innoviert\n13:15 – 13:30 | Pause / Networking\n13:30 – 14:00 | Start mit Next Generation Mindset\n14:00 – 14:30 | Wie man Ideen mit Design Prints validiert\n14:30 – 15:00 | Pause / Networking\n15:00 – 15:30 | Wie man ein Tech-Startup baut\, ohne ein Techie zu sein\n15:30 – 16:00 | Wie man ein B2B-Tech-Startup baut\n16:00 – 16:15 | Pause / Networking\n16:15 – 16:45 | Wie man die Entreprenerschaft diversifiziert\n16:45 – 17:30 | Wie man ein Soziales Netzwerk Startup startet\, schnell\n17:30 – Open End | Networking\n\nWeitere Informationen finden Sie unter baklavameetsprinten.com \nJETZT REGISTRIEREN \nOrganisiert von:\nhttps://ac-e.org\nhttps://bostand.com\nhttps://dsc.community.dev/turkish-german-university \nGesponsert von:\nhttps://jugendbruecke.de/
URL:https://www.aachen.digital/en/event/baklava-meets-printen-ein-deutsch-tuerkisches-startup-event/
LOCATION:Jülicher Strasse 72a\, Aachen\, 52070\, Germany
ATTACH;FMTTYPE=image/jpeg:https://www.aachen.digital/wp-content/uploads/2021/05/baklavameetsprinten.jpeg
END:VEVENT
BEGIN:VEVENT
DTSTART;TZID=Europe/Berlin:20210216T183000
DTEND;TZID=Europe/Berlin:20210216T210000
DTSTAMP:20260423T180034
CREATED:20210129T112644Z
LAST-MODIFIED:20210305T102657Z
UID:10005808-1613500200-1613509200@www.aachen.digital
SUMMARY:AC.Elerator Online Demo Day
DESCRIPTION:Erfahre wie aus einer Gruppe von 35 Studierenden\, die sich vorher nicht kannten\, innerhalb von drei Monaten 6 Startups entstanden.\n\n\n\n\n\n\n\nProgramm: \n\n18:30 – Live DJ und Networking\n19:00 – Begrüßung\n19:15 – Vorstellung der 6 Teams (5 Minuten Pitch\, 5 Minuten Q&A)\n20:30 – Offenes Ende\n\n\n\nBeim AC.Elerator Online Demo Day bekommt ihr nicht nur innovative Startups präsentiert\, sondern erhaltet auch einen Blick hinter die Kulissen. Wir wollen den Abschluss des Programms\, welches von über 20 Freiwilligen geplant und organisiert wurde gebührend feiern. \n\n\n\nMit dem Beginn des 2. Lockdowns im November letzten Jahres startete das AC.Elerator Programm mit 35 motivierten Studierenden und Young Professionals. Nach dem Auftaktwochenende\, welches der Ideenfindung und -entwicklung gewidmet wurde\, formten sich 6 Teams. Über den Zeitraum von 3 Monate wurden die Teams von erfahrenen Gründer:innen\, Choaches und Experten unterstützt. \n\n\n\n Hier geht es zu den kostenlosen Tickets \nMit Unterstützung von \ndigitalHUB Aachen – Gründerregion Aachen – RWTH Innovation – TechVision Fond
URL:https://www.aachen.digital/en/event/ac-elerator-online-demo-day/
LOCATION:Jülicher Strasse 72a\, Aachen\, 52070\, Germany
ATTACH;FMTTYPE=image/jpeg:https://www.aachen.digital/wp-content/uploads/2021/02/demoday-ace_stage.jpg
END:VEVENT
BEGIN:VEVENT
DTSTART;TZID=Europe/Berlin:20201118T180000
DTEND;TZID=Europe/Berlin:20201118T210000
DTSTAMP:20260423T180034
CREATED:20201008T112117Z
LAST-MODIFIED:20201103T115645Z
UID:10005008-1605722400-1605733200@www.aachen.digital
SUMMARY:Meet the Startups: Original - Online Edition
DESCRIPTION:Erlebe spannende Pitches von innovativen Startups bei unserer nächsten Online-Edition von Meet the Startups!\n\n\n\n\n\n\n\n\nDu hast Interesse an Entrepreneurship und spielst mit dem Gedanken ein Startup zu gründen\, oder du hast einfach Lust zukunftsorientierte Kontakte (Jobs\, Praktika\, Abschlussarbeiten) zu knüpfen? \nDann laden wir Dich herzlich zu unserem nächsten „Meet The Startups“ ein. \nHier lernst du in messeähnlicher Atmosphäre Vertreter aus Unternehmen\, Startups und Vereinen der Gründerszene kennen. \nHIER GEHT’S ZU DEN TICKETS \n  \nCORONA-SAFE: \nDas Event wird online stattfinden. Wir werden die Pitches der Startups streamen und du kannst interaktiv Fragen stellen. Genaue Informationen zur Agenda und zur Durchführung folgen. \nNutze diese Chance! Wir freuen uns auf Dich! \nSchreib uns doch einfach\, falls du noch Fragen oder Anregungen hast. \nFolgende Startups sind dabei: \n\nDetelling\nCityscaper\nBobbie\nHeuremo\nCircuit Booking\n..ein Startup im Gespräch…\n\n  \nGastgeber sind: \nAachener Entrepreneureship Team e.V. ( AC.E. ) \ndigitalHUB Aachen e.V. \n  \nSprache: \nDie Eventsprache ist Deutsch. Ausnahmen wird es z.B. bei englischsprachigen Pitches geben. Auch die Interaktion mit dem Team oder den Startups kann auf Englisch erfolgen.
URL:https://www.aachen.digital/en/event/meet-the-startups-online-edition/
LOCATION:Jülicher Strasse 72a\, Aachen\, 52070\, Germany
ATTACH;FMTTYPE=image/jpeg:https://www.aachen.digital/wp-content/uploads/2020/10/https___cdn.evbuc_.com_images_113865981_379118911689_1_original.jpg
END:VEVENT
BEGIN:VEVENT
DTSTART;TZID=Europe/Berlin:20200217T193000
DTEND;TZID=Europe/Berlin:20200217T210000
DTSTAMP:20260423T180034
CREATED:20200211T154753Z
LAST-MODIFIED:20200213T091500Z
UID:10005526-1581967800-1581973200@www.aachen.digital
SUMMARY:AC.E Skillfactory - Nicht jeder Mensch ist anders
DESCRIPTION:Menschen unterscheiden sich – und sind in manchen Punkten doch immer wieder ähnlich. Wieso sonst gibt es Klischees wie “den Nerd” oder “die Laberbacke”? Erfahre in einem interaktiven Workshop die professionelle Sicht auf verschiedene Persönlichkeiten und welche Bedeutung das für dich haben kann. \nGehalten wird der Workshop von einem Experten\, der jahrelange Erfahrung bei der Beratung unterschiedlichster Persönlichkeiten hat. \nInhalt \nDie bekannte AEC-Potenzialanalyse spiegelt die Persönlichkeit und deckt eigene Verhaltenspräferenzen auf. \n\nReflektion Eigenbild – Fremdbild\nKommunikationsverhalten und -hinweise mit dem nächsten Umfeld\nEigene Antriebsmuster erkennen\n\nInfo und Anmeldung über eventbrite
URL:https://www.aachen.digital/en/event/ac-e-skillfactory-nicht-jeder-mensch-ist-anders/
LOCATION:digitalHUB Aachen\, Jülicher Str. 72a\, Aachen\, Nordrhein-Westfalen\, 52070\, Germany
ATTACH;FMTTYPE=image/jpeg:https://www.aachen.digital/wp-content/uploads/2020/02/Skillfactory-AC.E.jpeg
END:VEVENT
BEGIN:VEVENT
DTSTART;TZID=Europe/Berlin:20181110T100000
DTEND;TZID=Europe/Berlin:20181110T180000
DTSTAMP:20260423T180034
CREATED:20181022T105146Z
LAST-MODIFIED:20181107T142158Z
UID:10004655-1541844000-1541872800@www.aachen.digital
SUMMARY:Jodel - Act with AC.E
DESCRIPTION:Du interessierst dich für das Thema Gründung?\nDu willst dich an echten Problemstellungen von Startups beweisen?\nDann melde dich bei “ACT with AC.E” an und tauche ein in die Welt der Gründer! Das Event dauert drei Wochen\, ab dem 10.11.! \nAnmeldung unter diesem Link: Jodel – Act with AC.E \nWas dich erwartet:\n-arbeite aktiv an der Entwicklung und Ausarbeitung der Channel Funktion\n-begleitet durch unsere Mentoren und Workshops\n-ein Kick-Off-Event\, zwei Workshop-Wochenenden\, wöchentliche Möglichkeiten zum Co-Working \n-lerne Design-Thinking und weitere Methoden kennen\n-treffe verschiedene Gründer\n-partizipiere an spannenden Thementalks \nFür das Gewinnerteam gibt’s: 500€ und eine Urkunde für jeden Teilnehmer. \n!!!Es besteht Anwesenheitspflicht an den Wochenenden !!! \nAnmeldeschluss: 2.11.\, Teilnehmerzahl begrenzt\nWeitere Fragen über FB\, Instagram\, info@ac-e.org oder an unserem Infoabend.\n\nHier geht’s zur Facebook-Veranstaltung: Jodel – Act with AC.E \nVeranstalter: AC.E – Aachener Entrepreneurship Team e.V. und digitalHUB Aachen
URL:https://www.aachen.digital/en/event/jodel-act-with-ac-e/
LOCATION:digitalHUB Aachen\, Jülicher Str. 72a\, Aachen\, Nordrhein-Westfalen\, 52070\, Germany
ATTACH;FMTTYPE=image/jpeg:https://www.aachen.digital/wp-content/uploads/2018/10/44515328_10156897227418814_990490724849942528_n.jpg
END:VEVENT
END:VCALENDAR