BEGIN:VCALENDAR
VERSION:2.0
PRODID:-//digitalHUB Aachen - ECPv6.15.20//NONSGML v1.0//EN
CALSCALE:GREGORIAN
METHOD:PUBLISH
X-ORIGINAL-URL:https://www.aachen.digital/en/
X-WR-CALDESC:Events for digitalHUB Aachen
REFRESH-INTERVAL;VALUE=DURATION:PT1H
X-Robots-Tag:noindex
X-PUBLISHED-TTL:PT1H
BEGIN:VTIMEZONE
TZID:Europe/Berlin
BEGIN:DAYLIGHT
TZOFFSETFROM:+0100
TZOFFSETTO:+0200
TZNAME:CEST
DTSTART:20170326T010000
END:DAYLIGHT
BEGIN:STANDARD
TZOFFSETFROM:+0200
TZOFFSETTO:+0100
TZNAME:CET
DTSTART:20171029T010000
END:STANDARD
BEGIN:DAYLIGHT
TZOFFSETFROM:+0100
TZOFFSETTO:+0200
TZNAME:CEST
DTSTART:20180325T010000
END:DAYLIGHT
BEGIN:STANDARD
TZOFFSETFROM:+0200
TZOFFSETTO:+0100
TZNAME:CET
DTSTART:20181028T010000
END:STANDARD
BEGIN:DAYLIGHT
TZOFFSETFROM:+0100
TZOFFSETTO:+0200
TZNAME:CEST
DTSTART:20190331T010000
END:DAYLIGHT
BEGIN:STANDARD
TZOFFSETFROM:+0200
TZOFFSETTO:+0100
TZNAME:CET
DTSTART:20191027T010000
END:STANDARD
BEGIN:DAYLIGHT
TZOFFSETFROM:+0100
TZOFFSETTO:+0200
TZNAME:CEST
DTSTART:20200329T010000
END:DAYLIGHT
BEGIN:STANDARD
TZOFFSETFROM:+0200
TZOFFSETTO:+0100
TZNAME:CET
DTSTART:20201025T010000
END:STANDARD
BEGIN:DAYLIGHT
TZOFFSETFROM:+0100
TZOFFSETTO:+0200
TZNAME:CEST
DTSTART:20210328T010000
END:DAYLIGHT
BEGIN:STANDARD
TZOFFSETFROM:+0200
TZOFFSETTO:+0100
TZNAME:CET
DTSTART:20211031T010000
END:STANDARD
END:VTIMEZONE
BEGIN:VEVENT
DTSTART;TZID=Europe/Berlin:20200213T140000
DTEND;TZID=Europe/Berlin:20200213T180000
DTSTAMP:20260423T204335
CREATED:20200127T103956Z
LAST-MODIFIED:20200127T103956Z
UID:10005504-1581602400-1581616800@www.aachen.digital
SUMMARY:Interaktiver KMU-Workshop: Entwicklung von Innovationsstrategien
DESCRIPTION:Führende Unternehmen jeder Größe haben eine klare Innovationsstrategie\, die definiert\, wie Innovationen zum Erreichen ihrer Ziele beitragen. In der Veranstaltung führen wir Sie in unseren erprobten 10-Schritte Ansatz zur Entwicklung von Innovationsstrategien ein\, welcher mit verschiedenen Praxisbeispielen untermalt wird und sich an den speziellen Bedürfnissen kleiner und mittelständischer Unternehmen ausrichtet. Verschiedene Techniken und Werkzeuge werden vorgestellt und angewandt\, die sowohl zur Analyse der Unternehmensumwelt\, als auch der internen Anforderungen an eine Innovationsstrategie dienen\, um so ein solides Fundament für die eigene Innovationsstrategie zu entwickeln. \n\nProgramm:\n• Begrüßung: Vorstellung der Referenten und Teilnehmer und Einführung in das Thema \n• Impuls: Grundlagen der Innovationsstrategie und unternehmerische Bedeutung \n• Austausch: Innovationsstrategien in der Praxis \n• Workshop: Die externe Unternehmensanalyse als Fundament der Innovationsstrategie \n• Workshop: Die interne Unternehmensanalyse als Strukturgeber der Innovationsstrategie \n• Impuls: Die Innovationsstrategie – zentrale Bestandteile und Ihre Herleitung \n• Imbiss und Austausch \nReferent:\nMarius Müller\, IMP³rove Academy \nDie Veranstaltung ist kostenfrei!\nZur Anmeldung geht´s hier. \nBei Fragen wenden Sie sich bitte an Daniela Pollin\, AGIT mbH\, entweder telefonisch über die 0241/963-1028 oder per E-Mail an d.pollin@agit.de.
URL:https://www.aachen.digital/en/event/interaktiver-kmu-workshop-entwicklung-von-innovationsstrategien/
LOCATION:Restaurant Indemann\, Zum Indemann 1\, Inden\, 52459\, Deutschland
ATTACH;FMTTYPE=image/jpeg:https://www.aachen.digital/wp-content/uploads/2020/01/AdobeStock_93452229.jpeg
ORGANIZER;CN="AGIT mbH":MAILTO:info@agit.de
END:VEVENT
BEGIN:VEVENT
DTSTART;VALUE=DATE:20200206
DTEND;VALUE=DATE:20200207
DTSTAMP:20260423T204335
CREATED:20200127T104255Z
LAST-MODIFIED:20200127T104255Z
UID:10005505-1580947200-1581033599@www.aachen.digital
SUMMARY:Patent- und Finanzierungssprechtag im Technologiezentrum Aachen
DESCRIPTION:Beratung zu allen wichtigen Themen in der wirtschaftlichen Umsetzung einer Erfindung\, z.B. Qualtität der Idee\, F&E-Kooperationen für die Prototypenphase\, Geschäftsmodell\, Vermarktung\, Kooperationen\, Finanzierung (Förderungen z.B. durch das Patentpogramm WIPANO\, das ZIM Programm u.a. sowie anderer Finanzierungsquellen wie Business Angels und Venture Capital). Vorbereitung von Vermarktungs- und/oder Gründungskonzepten. \nErstberatung zu allen Fragen im gewerblichen Rechtschutz\, z. B. Patentfähigkeit einer Idee\, Neuheitskriterien\, Stand der Technik\, Patentstrategien\, andere flankierende Schutzrechte wie Gebrauchsmuster\, Marken\, Geschmaksmuster (Designs) und die Unterschiede\, Patentierungsverfahren (national\, europäisch\, international)\, Kosten und Fristen\, Anmeldung\, Verwaltung\, Verteidigung und Durchsetzung von Schutzrechten sowie Fragen zur Gestaltung eines Lizenzvertrages. \nWir informieren und beraten zu gewerblichen Schutzrechten (Patent\, Marke\, Design) und Normen. Dies beinhaltet die begleitete Recherche in Fachdatenbanken\, die professionelle Auftragsrecherche und Monitoring. Wir sind Annahmestelle für Schutzrechtsanmeldung des DPMA und DIN Normen-Infopoint mit kostenfreier Einsichtnahme in das deutsche Normenwerk. Das PNZ ist offitieller Kooperationspartner des Deutschen Patent- und Markenamts DPMA und Mitglied dei PIZnet\, der Arbeitsgemeinschaft Deutscher Patent-Informationszentren. \nInformationen über aktuelle Fördermöglichkeiten der EU\, Ersteinschätzung Ihrer Projektideen\, gemeinsame Erstellung des Fahrplans für das weitere Vorgehen\, Information und Unterstützung zu den Themen Internationalisierung/Geschäftpartnersuche über NRW.Europa. \nTermine können bis zum 05.02.2020 vereinbart werden. \nKontaktieren Sie hierfür Daniela Pollin entweder telefonisch unter 0241/963-1028 oder per E-Mail d.pollin@agit.de. \nWeitere Informationen hier.
URL:https://www.aachen.digital/en/event/patent-und-finanzierungssprechtag-im-technologiezentrum-aachen/
LOCATION:TZA Technologiezentrum Aachen\, Dennewartstr. 25-27\, Aachen\, 52068\, Deutschland
ATTACH;FMTTYPE=image/jpeg:https://www.aachen.digital/wp-content/uploads/2020/01/AdobeStock_86653082.jpeg
ORGANIZER;CN="AGIT mbH":MAILTO:info@agit.de
END:VEVENT
BEGIN:VEVENT
DTSTART;TZID=Europe/Berlin:20200123T174500
DTEND;TZID=Europe/Berlin:20200123T200000
DTSTAMP:20260423T204335
CREATED:20200114T122138Z
LAST-MODIFIED:20200114T122138Z
UID:10004901-1579801500-1579809600@www.aachen.digital
SUMMARY:AC²-Innovationsabend
DESCRIPTION:Der Innovationsabend im Rahmen der Businessplanwettbewerbe AC²-GRÜNDUNG\,WACHSTUM\, INNOVATION widmet sich dem Thema der Ideenentwicklung mit Hilfe von Kreativitätstechniken. \nProgramm:\n17:45 Einlass \n18:00 Begrüßung\nHavva Coskun-Dogan\, AGIT mbH\, Aachen\nPeter Kampmeier\, GründerRegion Aachen \n18:10 Ideenworkshop: Entfalten Sie Ihre Kreativität mit Methode!\nSonja Labitzke\, Geschäftsführerin Boneguard GmbH \n19:00 IPR – Chancen und Risiken beim Schutz Ihrer Ideen\nDr. Susanne Ruffert\, Patent- und Normenzentrum\, RWTH Aachen \n19:30 Fragen und Diskussion\nanschließend Get together \n  \nOrt:\nTZA\, Technologiezentrum am Europaplatz Aachen\, Saal 1\,\nDennewartstraße 25-27\, 52068 Aachen \nDie Veranstaltung ist kostenlos! \nAnmeldung bis zum 22. Januar 2020 erforderlich. \nBei Fragen wenden Sie sich bitte an Daniela Pollin über  d.pollin@agit.de \n 
URL:https://www.aachen.digital/en/event/ac%c2%b2-innovationsabend/
LOCATION:TZA Technologiezentrum Aachen\, Dennewartstr. 25-27\, Aachen\, 52068\, Deutschland
ATTACH;FMTTYPE=image/png:https://www.aachen.digital/wp-content/uploads/2020/01/AC_2.png
ORGANIZER;CN="AGIT mbH":MAILTO:info@agit.de
END:VEVENT
BEGIN:VEVENT
DTSTART;TZID=Europe/Berlin:20191205T133000
DTEND;TZID=Europe/Berlin:20191205T173000
DTSTAMP:20260423T204335
CREATED:20191111T131008Z
LAST-MODIFIED:20191111T131008Z
UID:10005450-1575552600-1575567000@www.aachen.digital
SUMMARY:AC²-Innovationstag Chancen erkennen\, Zukunft gestalten!
DESCRIPTION:Unternehmen mit neuen\, innovativen Ideen\, sei es in der Gründung oder im Wachstum\, stehen häufig vor besonderen Herausforderungen. Die technologischen Herausforderungen sind „nur“ die Spitze des Eisbergs. Wie kann man ein neues Produkt in den Markt einführen\, wie sich vor Nachahmung anderer schützen\, wie die unternehmerisch notwendigen Strukturen und Netzwerke aufbauen und\, letztlich\, wie den Markt erobern und die Finanzierung von alldem stemmen? \nDer diesjährige AC²-Innovationstag widmet sich der unternehmerischen Umsetzung von innovativen Ideen und der Marktdurchdringung von neuen Produkten: \nZwei erfolgreiche Unternehmer aus unterschiedlichen Branchen und mit zwei unterschiedlichen Methoden gewähren in Ihren Vorträgen Einblicke in die Praxis von Innovationsunternehmen. Zwei exzellente Fachfrauen vermitteln in Ihren praxisnahen Vorträgen\, wie Unternehmen im Ideenschutz und in der Durchsetzung der Schutzrechte erfolgreich agieren können. \nIm Anschluss gibt es noch die Gelegenheit\, sich mit den Experten vertiefter zu unterhalten und zu vernetzen. \nPROGRAMM  \n13:30 Registrierung \n14:00 Begrüßung & Intro \nHavva Coskun-Dogan\, AGIT mbH\, Christina Jansen\, GründerRegion Aachen \n14:10 Wie aus Herausforderungen Innovationen generieren? \nDr. Klaus Vossenkaul\, Membion GmbH\, Roetgen \n14:45 Mit sicheren Schutzrechten zu konkurrenzfähigen Produkten! \nClara Sattler de Sousa e Brito\, European Patent Attorney\, Partner Arroba IP Attorneys\, München \n15:30 Kaffeepause \n16:00 Mein Produkt\, Dein Produkt? Alles nur geklaut? Maßnahmen im Kampf gegen Plagiate und Fälschungen! \nChristine Lacroix\, Aktion Plagiarius e.V.\, Elchingen \n16:45 Keynote: Transformation durch Disruption Warum man Regeln brechen muss\, um Märkte zu erobern! \nDr. Christian Coppeneur-Gülz\, Geschäftsführer WWM GmbH & Co. KG\, Monschau \n17:30 Fragen & Diskussion\, Get Together \n  \nEine Anmeldung ist bis zum 04.12.2019 erforderlich! \n  \n 
URL:https://www.aachen.digital/en/event/ac%c2%b2-innovationstag-chancen-erkennen-zukunft-gestalten/
LOCATION:TZA Technologiezentrum Aachen\, Dennewartstr. 25-27\, Aachen\, 52068\, Deutschland
ATTACH;FMTTYPE=image/jpeg:https://www.aachen.digital/wp-content/uploads/2019/11/AC2-Informationstag12zu5.jpg
ORGANIZER;CN="AGIT mbH":MAILTO:info@agit.de
END:VEVENT
BEGIN:VEVENT
DTSTART;TZID=Europe/Berlin:20191015T081500
DTEND;TZID=Europe/Berlin:20191015T101500
DTSTAMP:20260423T204335
CREATED:20190926T093415Z
LAST-MODIFIED:20190926T093415Z
UID:10005428-1571127300-1571134500@www.aachen.digital
SUMMARY:"EarlyBirds Technology Breakfast" bei MeteoViva
DESCRIPTION:Früh aufstehen\nund an morgen denken!\n\nBesuchen Sie MeteoViva – Smart Data für ein komfortables Klima\nErhalten Sie neue Impulse von Wissenschaftlern und Unternehmern\nProfitieren Sie von neuen grenzüberschreitenden Kooperationen und erhalten Sie einen Zuschuss von 6.000 €\n\nMit der Veranstaltungsreihe “EarlyBirds Technology Breakfast” laden wir Sie gemeinsam mit unseren Partnern des euregionalen Projekts “HYPEREGIO – EarlyTech” ein\, frühzeitig über zukünftige Themen zu diskutieren. Wir möchten Sie zum Nachdenken anregen und Ihnen eine Networking-Plattform in entspannter (Frühstücks-)Atmosphäre mit einem Gastunternehmer bieten. \nDiesmal gibt uns das Jülicher Unternehmen MeteoViva einen Einblick hinter die Kulissen.\nLassen Sie sich von der Vision des Geschäftsführers Markus Werner inspirieren und erfahren Sie\, wie auch das Raumklima in Ihrem Gebäude mit einem Modell im Voraus klimaoptimiert gesteuert werden kann. \nIn seiner Analyse energieeffizienter Gebäudekonzepte entdeckte Markus Werner\, dass Heizen\, Kühlen und Lüften in jedem Gebäude optimiert werden kann\, wenn ein dynamisch berechnendes Modell verwendet wird\, das nicht nur das Wetter\, sondern auch die Nutzung und das physikalische Verhalten des Gebäudes einschließlich seiner Systemtechnik berücksichtigt – der Startschuss für die Entwicklung einer Schlüsseltechnologie. \nMit MeteoViva Climate bietet das Unternehmen eine europaweit patentierte Smart Data Lösung\, die die Gebäudetechnik ohne großen Aufwand intelligenter und effizienter macht. MeteoViva Climate wird europaweit bisher in über 70 großen Gebäuden mit ca. 1\,5 Mio. qm und fast 13 Mio. Euro Energiekosten eingesetzt. \nNutzen Sie die Gelegenheit\, einen Blick hinter die Kulissen der Firma zu werfen sowie Unternehmer und Wissenschaftler aus der Euregio Maas-Rhein kennenzulernen. \nWeitere Informationen finden Sie hier. \nBitte melden Sie sich bis zum 8. Oktober 2019 an.\nDie Teilnehmerzahl ist begrenzt.\nBitte registrieren Sie sich mit diesem Link oder senden Sie eine E-Mail an Doris Müller\, AGIT mbH. \nWir freuen uns\, Sie auf dem EarlyBirds Technologiefrühstück bei dem Jülicher Unternehmen MeteoViva begrüßen zu dürfen.
URL:https://www.aachen.digital/en/event/earlybirds-technology-breakfast-bei-meteoviva/
LOCATION:MeteoViva\, Karl-Heinz-Beckurts-Str. 13\, Jülich\, 52428\, Deutschland
ATTACH;FMTTYPE=image/jpeg:https://www.aachen.digital/wp-content/uploads/2019/09/EarlyBirds-TechnologyBreakfast.jpg
ORGANIZER;CN="AGIT mbH":MAILTO:info@agit.de
END:VEVENT
BEGIN:VEVENT
DTSTART;TZID=Europe/Berlin:20191008T150000
DTEND;TZID=Europe/Berlin:20191008T180000
DTSTAMP:20260423T204335
CREATED:20190910T091417Z
LAST-MODIFIED:20190910T091417Z
UID:10005412-1570546800-1570557600@www.aachen.digital
SUMMARY:ScienceLink: F&E ONSITE! zu Gast am IBB der FH Aachen
DESCRIPTION:Im IBB – Institut für Baustoffe und Baukostruktionen der FH Aachen werden die Kompetenzen des konstruktiven Ingenieurbaus im Bauingenieurwesen von Stahl-\, Holz- und Betonbau über allgemeine Baukonstruktionen bis zur Gebäudetechnik gebündelt. Durch anwendungsorientierte Forschung und zahlreiche Kooperationen werden neue Baustoffe und Baukonstruktionen laborgestützt entwickelt und in der Baupraxis eingesetzt. \nInfos zum Institut sowie Infos zum detaillierten Programm. \nDie Veranstaltungsreihe “F&E ONSITE!” \nFür kleine und mittlere Unternehmen (KMU) ist der Zugang zur regionalen Hochschul- und Forschungslandschaft oft nicht selbstverständlich bzw. einfach. Die Möglichkeiten\, die die Institute an RWTH Aachen und an FH Aachen sowie weitere Forschungseinrichtungen bieten\, bleiben oft unbeachtet. \nDies möchte ScienceLink ändern! \nScienceLink lädt ausgesuchte Unternehmen aus verschiedenen Branchen ein\, sich über die anwendungsnahe Forschung vor Ort zu informieren. Kleine Teilnehmergruppen ermöglichen einen besonders intensiven Austausch. Dabei können Sie Ihr persönliches Netzwerk optimal erweitern! Nutzen auch Sie die Gelegenheit\, „ONSITE“ Kontakte zu knüpfen\, gemeinsame Themen zu entdecken und neue Kooperationen zu schließen! \nANMELDUNG
URL:https://www.aachen.digital/en/event/sciencelink-fe-onsite-ibb/
LOCATION:IBB der FH Aachen\, Bayernallee 9\, Aachen\, NRW\, 52066\, Deutschland
ATTACH;FMTTYPE=image/jpeg:https://www.aachen.digital/wp-content/uploads/2019/05/agit.jpg
ORGANIZER;CN="AGIT mbH":MAILTO:info@agit.de
END:VEVENT
BEGIN:VEVENT
DTSTART;TZID=Europe/Berlin:20190903T160000
DTEND;TZID=Europe/Berlin:20190903T193000
DTSTAMP:20260423T204335
CREATED:20190716T104000Z
LAST-MODIFIED:20190723T101802Z
UID:10005355-1567526400-1567539000@www.aachen.digital
SUMMARY:ScienceLink: Networking 4.0 "Cybersicherheit"
DESCRIPTION:NETWORKING 4.0 “Cybersicherheit” am 3. September 2019\nDas Risiko\, durch Cyberattacken getroffen zu werden\, steigt vor allem für Unternehmen\, öffentliche Einrichtungen und Energieversorger kontinuierlich. Erfahren Sie nicht nur mehr über die aktuellen Herausforderungen und darüber\, was Sie gegen Angriffe tun können\, sondern tauschen Sie sich aktiv mit den Vortragenden aus und nutzen Sie die Kooperationsmöglichkeiten. \nProgramm: \n\n16:00 Registrierung\n16:30 Begrüßung durch Iris Poth\, Leiterin Stabsstelle Struktur- und Wirtschaftsförderung\, Kreis Euskirchen\n16:40 ScienceLink: Unterstützung regionaler KMU\, Dr. Lothar Mahnke\, AGIT mbH\n16:50 IT-Sicherheit – Probleme und Lösungen für KMUs\, Sacha Hack\, Fachhochschule Aachen\n17:15 Cybersecurity zukunftssicher und ökonomisch managen\, Arne Helemann\, TÜV Rheinland i-sec GmbH\n17:40 Live-Hacking\, Team “hacking4” der FH Aachen\n18:00 Kaffeepause\n18:30 Wie man Vertrauen in einer digitalen Wertschöpfungskette herstellt\, Malte Pollmann\, Utimaco GmbH\n18:55 Get-Together\n19:30 Ende\n\nScienceLink fördert den Dialog und aktiven Austausch zwischen regionalen kleinen und mittleren Unternehmen (KMU) und Forschungseinrichtungen in der Technologieregion Aachen. Bei der Veranstaltungsreihe„NETWORKING 4.0“ stellen ausgewählte Institute und Unternehmen aus der Region ihre Dienstleistungs- und Kooperationsangebote vor. Die Teilnahme ist kostenfrei. \nEine formlose Anmeldung ist erforderlich bis zum 27. August 2019 per E-Mail an anmeldung@sciencelink.de oder telefonisch unter: 0241 963-1020 (Doris Müller\, AGIT mbH).
URL:https://www.aachen.digital/en/event/sciencelink-networking-4-0-cybersicherheit/
ATTACH;FMTTYPE=image/jpeg:https://www.aachen.digital/wp-content/uploads/2019/07/fb-Veranstaltungsbild_NETWORKING-4.0_end.jpg
ORGANIZER;CN="AGIT mbH":MAILTO:info@agit.de
END:VEVENT
BEGIN:VEVENT
DTSTART;TZID=Europe/Berlin:20190508T153000
DTEND;TZID=Europe/Berlin:20190508T173000
DTSTAMP:20260423T204335
CREATED:20190206T152606Z
LAST-MODIFIED:20190214T142108Z
UID:10004741-1557329400-1557336600@www.aachen.digital
SUMMARY:ScienceLink: F&E ONSITE! zu Gast bei... IAW an der RWTH Aachen
DESCRIPTION:Als ältestes arbeitswissenschaftliches Institut in Deutschland kann das Institut für Arbeitswissenschaft (IAW) auf eine lange Forschungstradition zurückblicken. In enger Kooperation mit Partnern aus Industrie und Forschung entwickelt das IAW Methoden und Werkzeuge zur integrierten Arbeitsgestaltung auf technischer\, organisationaler und personaler Ebene. \nAnmeldungen: anmeldung@sciencelink.de\nDie Teilnehmerzahl ist begrenzt auf 50 Personen.\nDas detaillierte Programm wird ca. 6 Wochen vor der Veranstaltung bekannt gegeben.\nDie Veranstaltung ist kostenfrei und auf gut 2 Std. angelegt. Sie erhalten ca. 7 Tage vor dem jeweiligen Termin eine Anmeldebestätigung. Sollten Sie verhindert sein\, benachrichtigen Sie uns bitte frühzeitig\, damit ein anderer Interessent teilnehmen kann. Vielen Dank! \nDie Veranstaltungsreihe “F&E ONSITE!” \nFür kleine und mittlere Unternehmen (KMU) ist der Zugang zur regionalen Hochschul- und Forschungslandschaft oft nicht selbstverständlich bzw. einfach. Die Möglichkeiten\, die die Institute an RWTH Aachen und an FH Aachen sowie weitere Forschungseinrichtungen bieten\, bleiben oft unbeachtet. \nDies möchte ScienceLink ändern! \nScienceLink lädt ausgesuchte Unternehmen aus verschiedenen Branchen ein\, sich über die anwendungsnahe Forschung vor Ort zu informieren. Kleine Teilnehmergruppen ermöglichen einen besonders intensiven Austausch. Dabei können Sie Ihr persönliches Netzwerk optimal erweitern! Nutzen auch Sie die Gelegenheit\, „ONSITE“ Kontakte zu knüpfen\, gemeinsame Themen zu entdecken und neue Kooperationen zu schließen! \nWeitere Informationen finden Sie hier. \n 
URL:https://www.aachen.digital/en/event/sciencelink-fe-onsite-zu-gast-bei-iaw-an-der-rwth-aachen/
LOCATION:Institut für Arbeitswissenschaft der RWTH Aachen\, Bergdriesch 27\, Aachen\, 52062\, Deutschland
ORGANIZER;CN="AGIT mbH":MAILTO:info@agit.de
END:VEVENT
BEGIN:VEVENT
DTSTART;TZID=Europe/Berlin:20190402T140000
DTEND;TZID=Europe/Berlin:20190402T180000
DTSTAMP:20260423T204335
CREATED:20190326T150315Z
LAST-MODIFIED:20190326T150315Z
UID:10004987-1554213600-1554228000@www.aachen.digital
SUMMARY:KMU-Praxisworkshop Geschäftsmodellinnovation
DESCRIPTION:Stetige Veränderungen wie Digitalisierung oder Globalisierung führen dazu\, dass Unternehmen ihre Geschäftsmodelle regelmäßig hinterfragen und auf ihre Zukunftsfähigkeit testen müssen. Dieser Workshop soll Ihnen helfen Ihr Geschäftsmodell zu prüfen\, zu verbessern\, zu erweitern oder zu erneuern. \nAufbauend auf einem grundsätzlichen Verständnis von Geschäftsmodellen\, werden Sie Konzepte zur Entwicklung neuer Geschäftsmodelle kennenlernen und zusammen mit erfahrenen Coaches individuell anwenden. Ziel ist nicht nur\, dass Sie die Veranstaltung mit einem vielversprechenden Konzept für ein neues Geschäftsmodel verlassen\, sondern darüber hinaus auch einen konkreten Plan bekommen\, wie dieses Konzept kosteneffizient weiter getestet und umgesetzt werden kann. \n  \nWeitere Infos finden Sie hier: \nKMU-Praxisworkshop Geschäftsmodellinnovation 
URL:https://www.aachen.digital/en/event/kmu-praxisworkshop-geschaeftsmodellinnovation/
LOCATION:TZA Technologiezentrum Aachen\, Dennewartstr. 25-27\, Aachen\, 52068\, Deutschland
ATTACH;FMTTYPE=image/jpeg:https://www.aachen.digital/wp-content/uploads/2019/01/AGIT-Logo_cmyk.jpg
ORGANIZER;CN="AGIT mbH":MAILTO:info@agit.de
END:VEVENT
BEGIN:VEVENT
DTSTART;TZID=Europe/Berlin:20190311T170000
DTEND;TZID=Europe/Berlin:20190311T210000
DTSTAMP:20260423T204335
CREATED:20190206T152606Z
LAST-MODIFIED:20190214T142129Z
UID:10004740-1552323600-1552338000@www.aachen.digital
SUMMARY:ScienceLink: Networking 4.0 - Vorsprung durch Kooperation "NEUE ENERGIESPEICHER"
DESCRIPTION:ScienceLink fördert den Dialog und aktiven Austausch zwischen regionalen kleinen und mittleren Unternehmen (KMU) und Forschungseinrichtungen in der Technologieregion Aachen. \nBei unserer Veranstaltungsreihe „Networking 4.0“ stellen ausgewählte Institute und Unternehmen aus der Region ihre Dienstleistungs- und Kooperationsangebote vor. Die Teilnehmer haben im Anschluss die Gelegenheit\, persönlich mit den Vortragenden in Kontakt zu treten und sich informell über Herausforderungen und Projektideen auszutauschen.
URL:https://www.aachen.digital/en/event/sciencelink-networking-4-0-vorsprung-durch-kooperation-neue-energiespeicher/
LOCATION:TZJ Technologiezentrum Jülich\, Karl-Heinz-Beckurts-Str. 13\, Jülich\, 52428\, Deutschland
ATTACH;FMTTYPE=image/jpeg:https://www.aachen.digital/wp-content/uploads/2019/02/Unbenannt.jpg
ORGANIZER;CN="AGIT mbH":MAILTO:info@agit.de
END:VEVENT
BEGIN:VEVENT
DTSTART;VALUE=DATE:20190221
DTEND;VALUE=DATE:20190222
DTSTAMP:20260423T204335
CREATED:20190206T140931Z
LAST-MODIFIED:20190214T142216Z
UID:10004950-1550707200-1550793599@www.aachen.digital
SUMMARY:Patent- und Finanzierungssprechtag im TZA
DESCRIPTION:Individuelle kostenlose Beratung durch die AGIT mbH (Frau Coskun-Dogan)\, die ZENIT GmbH (Herr Benno Weißner)\, die Patentanwältin Frau Dr. Nicole Griebel (RCD-Patent Giesen) und das Patent- und Normenzentrum an der RWTH Aachen PNZ\, z. B. zur wirtschaftlichen Umsetzung einer Erfindung und schutzrechtsrechtlichen Fragen\, Beratung zur Durchführung professioneller Patentrecherchen. \n  \nTerminvereinbarung spätestens bis zum 20.02.2019 bei:\nAGIT mbH\, Daniela Pollin\, 0241/963-1028\, d.pollin@agit.de. \n  \nWeitere Infos sowie den Flyer zur Veranstaltung finden Sie hier: \nPatent- und Finanzierungssprechtag im TZA
URL:https://www.aachen.digital/en/event/patent-und-finanzierungssprechtag-im-tza/
LOCATION:TZA Technologiezentrum Aachen\, Dennewartstr. 25-27\, Aachen\, 52068\, Deutschland
ATTACH;FMTTYPE=image/jpeg:https://www.aachen.digital/wp-content/uploads/2019/02/AGIT_Paten-und-Finanzierungssprechtag_125.jpg
ORGANIZER;CN="AGIT mbH":MAILTO:info@agit.de
END:VEVENT
BEGIN:VEVENT
DTSTART;TZID=Europe/Berlin:20181011T060000
DTEND;TZID=Europe/Berlin:20181011T083000
DTSTAMP:20260423T204335
CREATED:20180921T081311Z
LAST-MODIFIED:20180925T081031Z
UID:10004804-1539237600-1539246600@www.aachen.digital
SUMMARY:Mit Sicherheit! - IT-Veranstaltung
DESCRIPTION:Mit Sicherheit! – Offener Austausch und Diskussion mit dem IT-Sicherheitsexperten Jens Liebchen von RedTeam Pentesting GmbH\n\nIT-Sicherheitsveranstaltung in Kooperation mit der IHK Aachen und der HWK Aachen \n\n\n\nNicht nur in den großen\, internationalen Konzernen\, sondern auch in vielen mittelständischen Unternehmen lässt sich durch die fortschreitende Digitalisierung ein permanenter Anstieg von Cyber-Attacken beobachten. Die Systeme und Daten der Unternehmen sind ohne eine angepasste Sicherheitsstrategie einer steigenden Bedrohung ausgesetzt\, die jedes Unternehmen treffen und nachhaltig schädigen kann. \nWir wollen Ihnen helfen\, einen Überblick über die Gefahren von Cyber-Attacken zu erhalten\, um sichere und passende Abwehrmöglichkeiten in Ihrem Unternehmen etablieren zu können. \nWir laden Sie daher herzlich zu einer offenen Diskussionsrunde mit dem IT-Sicherheitsexperten Jens Liebchen\, Geschäftsführer der RedTeam Pentesting GmbH\, ein. Nutzen Sie die Gelegenheit\, um in lockerer Atmosphäre spannende Beispiele und Erfahrungsberichte aus der Praxis der IT-Sicherheit zu erfahren und konkrete Fragestellungen zu besprechen\, die sich in Ihrem Unternehmen in Bezug auf IT-Sicherheit stellen. Der Erfahrungsaustausch wird moderiert von Robert Esser\, Aachener Zeitung. \nModeration: Robert Esser\, Aachener Zeitung\nDie Teilnahme ist kostenfrei. Da die Teilnehmerzahl begrenzt ist\, bitten wir um Ihre Anmeldung bis zum 08. Oktober 2018 an: k.mickart@agit.de
URL:https://www.aachen.digital/en/event/mit-sicherheit-it-veranstaltung/
ATTACH;FMTTYPE=image/jpeg:https://www.aachen.digital/wp-content/uploads/2018/09/AdobeStock_137342426-web-Ko.jpg
ORGANIZER;CN="AGIT mbH":MAILTO:info@agit.de
END:VEVENT
END:VCALENDAR