BEGIN:VCALENDAR
VERSION:2.0
PRODID:-//digitalHUB Aachen - ECPv6.15.20//NONSGML v1.0//EN
CALSCALE:GREGORIAN
METHOD:PUBLISH
X-WR-CALNAME:digitalHUB Aachen
X-ORIGINAL-URL:https://www.aachen.digital/en/
X-WR-CALDESC:Events for digitalHUB Aachen
REFRESH-INTERVAL;VALUE=DURATION:PT1H
X-Robots-Tag:noindex
X-PUBLISHED-TTL:PT1H
BEGIN:VTIMEZONE
TZID:Europe/Berlin
BEGIN:DAYLIGHT
TZOFFSETFROM:+0100
TZOFFSETTO:+0200
TZNAME:CEST
DTSTART:20200329T010000
END:DAYLIGHT
BEGIN:STANDARD
TZOFFSETFROM:+0200
TZOFFSETTO:+0100
TZNAME:CET
DTSTART:20201025T010000
END:STANDARD
BEGIN:DAYLIGHT
TZOFFSETFROM:+0100
TZOFFSETTO:+0200
TZNAME:CEST
DTSTART:20210328T010000
END:DAYLIGHT
BEGIN:STANDARD
TZOFFSETFROM:+0200
TZOFFSETTO:+0100
TZNAME:CET
DTSTART:20211031T010000
END:STANDARD
BEGIN:DAYLIGHT
TZOFFSETFROM:+0100
TZOFFSETTO:+0200
TZNAME:CEST
DTSTART:20220327T010000
END:DAYLIGHT
BEGIN:STANDARD
TZOFFSETFROM:+0200
TZOFFSETTO:+0100
TZNAME:CET
DTSTART:20221030T010000
END:STANDARD
END:VTIMEZONE
BEGIN:VEVENT
DTSTART;TZID=Europe/Berlin:20210621T090000
DTEND;TZID=Europe/Berlin:20210621T170000
DTSTAMP:20260423T230432
CREATED:20210531T111957Z
LAST-MODIFIED:20211201T090751Z
UID:10005928-1624266000-1624294800@www.aachen.digital
SUMMARY:Sprechstunde von Allianz/Stollenwerk: Effektive und zeitgemäße Absicherung der Unternehmensrisiken von Startup bis KMU
DESCRIPTION:21.06.2021; 09:00 bis 17:00 Uhr\n8 Slots à 1 Stunde\nOnline via Zoom \nAuch bei jungen und dynamischen Unternehmen ist die effektive und kostengünstige Absicherung der wesentlichen Risiken essenziell für den nachhaltigen Geschäftserfolg. Achim Stollenwerk von Allianz/Stollenwerk gibt Ihnen im Zuge der Sprechstunde die Gelegenheit\, in einen ersten offenen und unverbindlichen Austausch über die spezifische Absicherungslage in Ihrem Unternehmen\, egal ob alt oder jung\, zu kommen. \nAnmeldung für Mitglieder unter events@hubaachen.de
URL:https://www.aachen.digital/en/event/sprechstunde-von-allianz-stollenwerk-effektive-und-zeitgemaesse-absicherung-der-unternehmensrisiken-von-startup-bis-kmu/
LOCATION:Jülicher Strasse 72a\, Aachen\, 52070\, Germany
ATTACH;FMTTYPE=image/jpeg:https://www.aachen.digital/wp-content/uploads/2021/05/Open-Office-Allianz_KickOff_stage.jpg
END:VEVENT
BEGIN:VEVENT
DTSTART;TZID=Europe/Berlin:20210614T160000
DTEND;TZID=Europe/Berlin:20210614T170000
DTSTAMP:20260423T230432
CREATED:20210531T105942Z
LAST-MODIFIED:20210531T123334Z
UID:10005926-1623686400-1623690000@www.aachen.digital
SUMMARY:Info-Webinar von Allianz/Stollenwerk: Effektive und zeitgemäße Absicherung der Unternehmensrisiken von Startup bis KMU
DESCRIPTION:Auch bei jungen und dynamischen Unternehmen ist die effektive und kostengünstige Absicherung der wesentlichen Risiken essenziell für den nachhaltigen Geschäftserfolg. Achim Stollenwerk\, Geschäftsführer und Inhaber von Stollenwerk – Allianz\, stellt Ihnen in dem Info-Webinar wesentliche Inhalte zur Absicherungslage in Unternehmen und Startups vor. Interessierte haben dann eine Woche später die Gelegenheit\, sich individuell und unverbindlich in der Sprechstunde von Achim Stollenwerk beraten zu lassen. \nDas Event findet online via Zoom statt.\nAnmeldung für Mitglieder unter:events@hubaachen.de
URL:https://www.aachen.digital/en/event/info-webinar-von-allianz-stollenwerk-effektive-und-zeitgemaesse-absicherung-der-unternehmensrisiken-von-startup-bis-kmu/
LOCATION:Jülicher Strasse 72a\, Aachen\, 52070\, Germany
ATTACH;FMTTYPE=image/jpeg:https://www.aachen.digital/wp-content/uploads/2021/05/Open-Office-Allianz_KickOff_stage.jpg
END:VEVENT
END:VCALENDAR