BEGIN:VCALENDAR
VERSION:2.0
PRODID:-//digitalHUB Aachen - ECPv6.15.20//NONSGML v1.0//EN
CALSCALE:GREGORIAN
METHOD:PUBLISH
X-WR-CALNAME:digitalHUB Aachen
X-ORIGINAL-URL:https://www.aachen.digital/en/
X-WR-CALDESC:Events for digitalHUB Aachen
REFRESH-INTERVAL;VALUE=DURATION:PT1H
X-Robots-Tag:noindex
X-PUBLISHED-TTL:PT1H
BEGIN:VTIMEZONE
TZID:Europe/Berlin
BEGIN:DAYLIGHT
TZOFFSETFROM:+0100
TZOFFSETTO:+0200
TZNAME:CEST
DTSTART:20220327T010000
END:DAYLIGHT
BEGIN:STANDARD
TZOFFSETFROM:+0200
TZOFFSETTO:+0100
TZNAME:CET
DTSTART:20221030T010000
END:STANDARD
BEGIN:DAYLIGHT
TZOFFSETFROM:+0100
TZOFFSETTO:+0200
TZNAME:CEST
DTSTART:20230326T010000
END:DAYLIGHT
BEGIN:STANDARD
TZOFFSETFROM:+0200
TZOFFSETTO:+0100
TZNAME:CET
DTSTART:20231029T010000
END:STANDARD
BEGIN:DAYLIGHT
TZOFFSETFROM:+0100
TZOFFSETTO:+0200
TZNAME:CEST
DTSTART:20240331T010000
END:DAYLIGHT
BEGIN:STANDARD
TZOFFSETFROM:+0200
TZOFFSETTO:+0100
TZNAME:CET
DTSTART:20241027T010000
END:STANDARD
END:VTIMEZONE
BEGIN:VEVENT
DTSTART;TZID=Europe/Berlin:20230603T170000
DTEND;TZID=Europe/Berlin:20230603T200000
DTSTAMP:20260423T202700
CREATED:20230517T105324Z
LAST-MODIFIED:20230517T132210Z
UID:10005905-1685811600-1685822400@www.aachen.digital
SUMMARY:„Klimaneutral 2030 – gemeinsam für Aachen“
DESCRIPTION:Unsere Stadt ist Vorreiterin – in NRW\, in Deutschland und in Europa. Bis 2030 soll Aachen klimaneutral und damit zukunftssicher und lebenswert sein. \nWas heißt das?\nWas brauchen wir dafür?\nWas läuft bereits?\nWie kann sich jede*r aktiv beteiligen? \nZusammen mit Aachens Nachhaltigkeits- und Klimainitiativen laden wir alle interessierten Unternehmer*innen\, Forscher*innen\, Student*innen\, Bürger*innen herzlich in den Krönungssaal des Aachener Rathauses ein. \n\n16:30 Uhr | Einlass\n17:00 Uhr | Begrüßung\n17:10 Uhr | Willkommensbotschaft\nFrau Oberbürgermeisterin Sibylle Keupen\n17:20 Uhr | Was bedeutet „Klimaneutrales Aachen 2030“?\nHeiko Thomas\, Beigeordneter für Klima und Umwelt\, Stadtbetrieb und Gebäude und\nFrauke Burgdorff\, Beigeordnete für Stadtentwicklung\, Bau und Mobilität\n17:35 Uhr | Die Bühne den Klimanitiativen – Pitches Teil 1\n18:00 Uhr | Intermezzo\n18:10 Uhr | Austausch / Ausstellung der Initiativen\n18:40 Uhr | Die Bühne den Klimanitiativen – Pitches Teil 2\n19:05 Uhr | Die nächsten Schritte zu Aachen Klimaneutral 2030\n19:15 Uhr | Austausch / Ausstellung der Initiativen\n20:00 Uhr | Ende\n\nZUR ANMELDUNG
URL:https://www.aachen.digital/en/event/klimaneutral-2030-gemeinsam-fuer-aachen/
LOCATION:Krönungssaal des Aachener Rathauses\, Markt\, Aachen\, 52062\, Deutschland
ATTACH;FMTTYPE=image/jpeg:https://www.aachen.digital/wp-content/uploads/2023/05/General_Visuals_sustainabilityMonth_stage_ohneBalken-1.jpg
END:VEVENT
END:VCALENDAR