BEGIN:VCALENDAR
VERSION:2.0
PRODID:-//digitalHUB Aachen - ECPv6.15.20//NONSGML v1.0//EN
CALSCALE:GREGORIAN
METHOD:PUBLISH
X-ORIGINAL-URL:https://www.aachen.digital/en/
X-WR-CALDESC:Events for digitalHUB Aachen
REFRESH-INTERVAL;VALUE=DURATION:PT1H
X-Robots-Tag:noindex
X-PUBLISHED-TTL:PT1H
BEGIN:VTIMEZONE
TZID:Europe/Berlin
BEGIN:DAYLIGHT
TZOFFSETFROM:+0100
TZOFFSETTO:+0200
TZNAME:CEST
DTSTART:20240331T010000
END:DAYLIGHT
BEGIN:STANDARD
TZOFFSETFROM:+0200
TZOFFSETTO:+0100
TZNAME:CET
DTSTART:20241027T010000
END:STANDARD
BEGIN:DAYLIGHT
TZOFFSETFROM:+0100
TZOFFSETTO:+0200
TZNAME:CEST
DTSTART:20250330T010000
END:DAYLIGHT
BEGIN:STANDARD
TZOFFSETFROM:+0200
TZOFFSETTO:+0100
TZNAME:CET
DTSTART:20251026T010000
END:STANDARD
BEGIN:DAYLIGHT
TZOFFSETFROM:+0100
TZOFFSETTO:+0200
TZNAME:CEST
DTSTART:20260329T010000
END:DAYLIGHT
BEGIN:STANDARD
TZOFFSETFROM:+0200
TZOFFSETTO:+0100
TZNAME:CET
DTSTART:20261025T010000
END:STANDARD
END:VTIMEZONE
BEGIN:VEVENT
DTSTART;TZID=Europe/Berlin:20250310T180000
DTEND;TZID=Europe/Berlin:20250310T200000
DTSTAMP:20260423T165247
CREATED:20250304T111528Z
LAST-MODIFIED:20250304T111528Z
UID:10007253-1741629600-1741636800@www.aachen.digital
SUMMARY:Tech & Tapas – AI in Startups: What Really Works and Where Are the Limits?
DESCRIPTION:Sei Teil des spannenden Abends über AI in Startups: What Really Works and Where Are the Limits?. \nAnhand von Vitera.ai als Fallstudie zeigen die Veranstalter\, wie ihre KI-gestützte Plattform die Projektakquise für IT-Freelancer revolutioniert. Ihre Algorithmen analysieren Freelancer-Profile und Projektangebote anhand verschiedener Kriterien wie Programmiersprachen\, Verfügbarkeit\, Stundensätze\, Standort und Sprachkenntnisse. \nDurch eine intelligente Matching-Score-Berechnung werden nur die besten Übereinstimmungen vorgeschlagen. (Vitera.ai) \nEgal\, ob du gerade erst in das Thema KI einsteigst oder bereits Erfahrungen sammelst – dieses Event liefert dir wertvolle Einblicke in praktische KI-Anwendungen in Unternehmen und zeigt\, wie sie Prozesse optimieren und Effizienz steigern kann. \nAgenda-Highlights\n18:00–18:15 Uhr: Ankunft & Begrüßung \nStarte den Abend entspannt mit einem Welcome-Drink und nutze die Gelegenheit\, andere Tech-Profis\, Startup-Gründer und KI-Enthusiasten kennenzulernen. \n18:15–18:45 Uhr: Keynote-Session \n📌 KI in Startups: Erkenntnisse aus der Praxis  \nSpeaker: Amadeus Küppers \nAmadeus teilt seine Learnings zu: \n\nWie KI den Rekrutierungsprozess in Startups verändert\nWas wirklich funktioniert und wo die Herausforderungen liegen\nPraxisbeispiele aus Vitera.ai\n\nAnschließend gibt es eine Q&A-Session\, in der du deine wichtigsten Fragen stellen kannst. \n18:45–19:00 Uhr: Übergang zum Abendessen \nKurze Pause\, bevor es zum Networking-Dinner geht. \n19:00–20:00 Uhr: Dinner & Networking \nGenieße leckeres Essen und Drinks\, während du dich mit Branchenexperten\, Startup-Gründern und KI-Spezialisten austauschst. Diskutiere über mögliche Kooperationen\, teile deine eigenen Erfahrungen mit KI und lerne von anderen in einer entspannten Atmosphäre. \nWarum teilnehmen? \n✅ KI in Startups verstehen – Erhalte praxisnahe Einblicke\, welche KI-Anwendungen wirklich funktionieren und wo die Grenzen liegen. \n✅ Lernen aus echten Beispielen – Sieh\, wie Vitera.ai KI nutzt\, um Freelancer mit passenden Projekten zu connecten. \n✅ Netzwerk erweitern – Triff Experten\, Gründer und KI-Enthusiasten aus der Branche. \n✅ Gutes Essen & spannende Diskussionen – Ein lockerer Abend mit wertvollen Erkenntnissen. \nVerpasse nicht die Chance\, neue Perspektiven zu gewinnen\, wertvolle Kontakte zu knüpfen und die echte Wirkung von KI in Startups zu verstehen. \nZUR ANMELDUNG
URL:https://www.aachen.digital/en/event/tech-tapas-ai-in-startups-what-really-works-and-where-are-the-limits/
LOCATION:digitalHUB Aachen\, Jülicher Str. 72a\, Aachen\, Nordrhein-Westfalen\, 52070\, Germany
ATTACH;FMTTYPE=image/jpeg:https://www.aachen.digital/wp-content/uploads/2025/03/tech-and-tapas-meetup.jpg
END:VEVENT
END:VCALENDAR