BEGIN:VCALENDAR
VERSION:2.0
PRODID:-//digitalHUB Aachen - ECPv6.15.20//NONSGML v1.0//EN
CALSCALE:GREGORIAN
METHOD:PUBLISH
X-WR-CALNAME:digitalHUB Aachen
X-ORIGINAL-URL:https://www.aachen.digital/en/
X-WR-CALDESC:Events for digitalHUB Aachen
REFRESH-INTERVAL;VALUE=DURATION:PT1H
X-Robots-Tag:noindex
X-PUBLISHED-TTL:PT1H
BEGIN:VTIMEZONE
TZID:Europe/Berlin
BEGIN:DAYLIGHT
TZOFFSETFROM:+0100
TZOFFSETTO:+0200
TZNAME:CEST
DTSTART:20220327T010000
END:DAYLIGHT
BEGIN:STANDARD
TZOFFSETFROM:+0200
TZOFFSETTO:+0100
TZNAME:CET
DTSTART:20221030T010000
END:STANDARD
BEGIN:DAYLIGHT
TZOFFSETFROM:+0100
TZOFFSETTO:+0200
TZNAME:CEST
DTSTART:20230326T010000
END:DAYLIGHT
BEGIN:STANDARD
TZOFFSETFROM:+0200
TZOFFSETTO:+0100
TZNAME:CET
DTSTART:20231029T010000
END:STANDARD
BEGIN:DAYLIGHT
TZOFFSETFROM:+0100
TZOFFSETTO:+0200
TZNAME:CEST
DTSTART:20240331T010000
END:DAYLIGHT
BEGIN:STANDARD
TZOFFSETFROM:+0200
TZOFFSETTO:+0100
TZNAME:CET
DTSTART:20241027T010000
END:STANDARD
END:VTIMEZONE
BEGIN:VEVENT
DTSTART;TZID=Europe/Berlin:20230522T180000
DTEND;TZID=Europe/Berlin:20230522T200000
DTSTAMP:20260423T235833
CREATED:20230426T093404Z
LAST-MODIFIED:20230508T094106Z
UID:10006464-1684778400-1684785600@www.aachen.digital
SUMMARY:Generative AI Models: Supercharged with internal Data
DESCRIPTION:Die Veranstaltungssprache ist Deutsch. \nGenerative KI-Modelle haben den Mainstream erreicht. Aber reicht es aus\, dass sie nur Inhalte aus dem Internet durchsuchen können? Wir untersuchen\, wie sich die Integration interner Inhalte auf die künftige Arbeitsweise von Unternehmen auswirken wird.\nEin großer Teil des Büroalltags kann mit Hilfe von generativen KI-Modellen zur Text- und Bilderzeugung effizienter gestaltet werden. Derzeit werden diese Modelle ausschließlich auf Web-Inhalte trainiert und sind somit nicht auf internen Sprachgebrauch oder Informationen angepasst. In einem Vortrag von Bastian Maiworm und der anschließenden Diskussion wollen wir aufzeigen\, was schon bald möglich sein wird. \nZUR ANMELDUNG \nDieses Event findet im Rahmen der STARTUP WEEK AACHEN 2023 statt.
URL:https://www.aachen.digital/en/event/generative-ai-models-supercharged-with-internal-data/
LOCATION:digitalHUB Aachen\, Jülicher Str. 72a\, Aachen\, Nordrhein-Westfalen\, 52070\, Germany
ATTACH;FMTTYPE=image/jpeg:https://www.aachen.digital/wp-content/uploads/2023/03/SUW-Stage-1632-×-644-px.jpg
END:VEVENT
END:VCALENDAR