BEGIN:VCALENDAR
VERSION:2.0
PRODID:-//digitalHUB Aachen - ECPv6.15.20//NONSGML v1.0//EN
CALSCALE:GREGORIAN
METHOD:PUBLISH
X-WR-CALNAME:digitalHUB Aachen
X-ORIGINAL-URL:https://www.aachen.digital/en/
X-WR-CALDESC:Events for digitalHUB Aachen
REFRESH-INTERVAL;VALUE=DURATION:PT1H
X-Robots-Tag:noindex
X-PUBLISHED-TTL:PT1H
BEGIN:VTIMEZONE
TZID:Europe/Berlin
BEGIN:DAYLIGHT
TZOFFSETFROM:+0100
TZOFFSETTO:+0200
TZNAME:CEST
DTSTART:20240331T010000
END:DAYLIGHT
BEGIN:STANDARD
TZOFFSETFROM:+0200
TZOFFSETTO:+0100
TZNAME:CET
DTSTART:20241027T010000
END:STANDARD
BEGIN:DAYLIGHT
TZOFFSETFROM:+0100
TZOFFSETTO:+0200
TZNAME:CEST
DTSTART:20250330T010000
END:DAYLIGHT
BEGIN:STANDARD
TZOFFSETFROM:+0200
TZOFFSETTO:+0100
TZNAME:CET
DTSTART:20251026T010000
END:STANDARD
BEGIN:DAYLIGHT
TZOFFSETFROM:+0100
TZOFFSETTO:+0200
TZNAME:CEST
DTSTART:20260329T010000
END:DAYLIGHT
BEGIN:STANDARD
TZOFFSETFROM:+0200
TZOFFSETTO:+0100
TZNAME:CET
DTSTART:20261025T010000
END:STANDARD
END:VTIMEZONE
BEGIN:VEVENT
DTSTART;TZID=Europe/Berlin:20250630T123000
DTEND;TZID=Europe/Berlin:20250630T143000
DTSTAMP:20260423T220019
CREATED:20250627T092708Z
LAST-MODIFIED:20250627T092708Z
UID:10007350-1751286600-1751293800@www.aachen.digital
SUMMARY:Skalierung à la Amazon – Supersize my startup!
DESCRIPTION:Skalierung à la Amazon – Supersize my Startup! \nWie man sein Startup mit den Prinzipien der Tech-Giganten aufs nächste Level bringt \nIn diesem praxisorientierten Workshop mit Prof Dr. Andreas Moosdorf wird darauf geschaut\, wie Amazon es geschafft hat\, vom Garagenbetrieb zum globalen Tech-Riesen zu werden – und was man daraus für sein eigenes Wachstum lernen kann. \nKein Theorie-Gewitter\, sondern einen Deep Dive in das\, was man bei Amazon „Mechanisms“ nennt. Im Anschluss werden eigene Mechanismen gebaut und sich gegenseitig vorgestellt\, so dass man direkt etwas in seinen Alltag im Unternehmen mitnehmen kann. \nFür Gründer:innen\, Startup-Teams\, Scale-Up-Macher:innen und Mittelständler\, die ihr Unternehmen lieber früher als später auf solide Strukturen stellen wollen. \nIm digitalHUB Aachen – New Work Room. \nHier anmelden!
URL:https://www.aachen.digital/en/event/skalierung-a-la-amazon-supersize-my-startup/
LOCATION:digitalHUB Aachen\, Jülicher Str. 72a\, Aachen\, Nordrhein-Westfalen\, 52070\, Germany
ATTACH;FMTTYPE=image/jpeg:https://www.aachen.digital/wp-content/uploads/2025/06/Moosdorf.jpg
END:VEVENT
END:VCALENDAR