BEGIN:VCALENDAR
VERSION:2.0
PRODID:-//digitalHUB Aachen - ECPv6.15.20//NONSGML v1.0//EN
CALSCALE:GREGORIAN
METHOD:PUBLISH
X-WR-CALNAME:digitalHUB Aachen
X-ORIGINAL-URL:https://www.aachen.digital/en/
X-WR-CALDESC:Events for digitalHUB Aachen
REFRESH-INTERVAL;VALUE=DURATION:PT1H
X-Robots-Tag:noindex
X-PUBLISHED-TTL:PT1H
BEGIN:VTIMEZONE
TZID:Europe/Berlin
BEGIN:DAYLIGHT
TZOFFSETFROM:+0100
TZOFFSETTO:+0200
TZNAME:CEST
DTSTART:20180325T010000
END:DAYLIGHT
BEGIN:STANDARD
TZOFFSETFROM:+0200
TZOFFSETTO:+0100
TZNAME:CET
DTSTART:20181028T010000
END:STANDARD
BEGIN:DAYLIGHT
TZOFFSETFROM:+0100
TZOFFSETTO:+0200
TZNAME:CEST
DTSTART:20190331T010000
END:DAYLIGHT
BEGIN:STANDARD
TZOFFSETFROM:+0200
TZOFFSETTO:+0100
TZNAME:CET
DTSTART:20191027T010000
END:STANDARD
BEGIN:DAYLIGHT
TZOFFSETFROM:+0100
TZOFFSETTO:+0200
TZNAME:CEST
DTSTART:20200329T010000
END:DAYLIGHT
BEGIN:STANDARD
TZOFFSETFROM:+0200
TZOFFSETTO:+0100
TZNAME:CET
DTSTART:20201025T010000
END:STANDARD
END:VTIMEZONE
BEGIN:VEVENT
DTSTART;TZID=Europe/Berlin:20190208T100000
DTEND;TZID=Europe/Berlin:20190208T200000
DTSTAMP:20260424T014945
CREATED:20190206T090237Z
LAST-MODIFIED:20190214T145650Z
UID:10004919-1549620000-1549656000@www.aachen.digital
SUMMARY:Präsentationstag der Fachschule für Elektrotechnik
DESCRIPTION:Der Präsentationstag dient zur Vorstellung der Projekte der Studierenden. Die in Gruppenarbeit realisierten Projekte sind Bestandteil der Ausbildung. Insgesamt werden Ihnen 19 anspruchsvolle und überaus interessante Projekte präsentiert. Die Voll- und Teilzeitstudierenden der Fachschule haben sich in den letzten 14 Monaten intensiv mit verschiedensten Problemstellungen beschäftigt und tolle Konzepte und Lösungen erarbeitet. \n  \nDie Ausstellung kann in den Zeiten von 10.00 bis 13.00 Uhr und von 17.00 bis 20.00 Uhr in der Schulaula besucht werden. \nWeitere Infos sowie den Flyer und den Aula-Ausstellungsplan finden Sie hier: \nBK GuT
URL:https://www.aachen.digital/en/event/praesentationstag-der-fachschule-fuer-elektrotechnik/
LOCATION:Berufskolleg für Gestaltung und Technik\, Neuköllner Str. 15\, Aachen\, 52068\, Deutschland
ATTACH;FMTTYPE=image/jpeg:https://www.aachen.digital/wp-content/uploads/2019/02/BKGUT_Präsentationstag_08022019_125.jpg
END:VEVENT
END:VCALENDAR