BEGIN:VCALENDAR
VERSION:2.0
PRODID:-//digitalHUB Aachen - ECPv6.15.20//NONSGML v1.0//EN
CALSCALE:GREGORIAN
METHOD:PUBLISH
X-ORIGINAL-URL:https://www.aachen.digital/en/
X-WR-CALDESC:Events for digitalHUB Aachen
REFRESH-INTERVAL;VALUE=DURATION:PT1H
X-Robots-Tag:noindex
X-PUBLISHED-TTL:PT1H
BEGIN:VTIMEZONE
TZID:Europe/Berlin
BEGIN:DAYLIGHT
TZOFFSETFROM:+0100
TZOFFSETTO:+0200
TZNAME:CEST
DTSTART:20220327T010000
END:DAYLIGHT
BEGIN:STANDARD
TZOFFSETFROM:+0200
TZOFFSETTO:+0100
TZNAME:CET
DTSTART:20221030T010000
END:STANDARD
BEGIN:DAYLIGHT
TZOFFSETFROM:+0100
TZOFFSETTO:+0200
TZNAME:CEST
DTSTART:20230326T010000
END:DAYLIGHT
BEGIN:STANDARD
TZOFFSETFROM:+0200
TZOFFSETTO:+0100
TZNAME:CET
DTSTART:20231029T010000
END:STANDARD
BEGIN:DAYLIGHT
TZOFFSETFROM:+0100
TZOFFSETTO:+0200
TZNAME:CEST
DTSTART:20240331T010000
END:DAYLIGHT
BEGIN:STANDARD
TZOFFSETFROM:+0200
TZOFFSETTO:+0100
TZNAME:CET
DTSTART:20241027T010000
END:STANDARD
END:VTIMEZONE
BEGIN:VEVENT
DTSTART;TZID=Europe/Berlin:20231110T100000
DTEND;TZID=Europe/Berlin:20231110T140000
DTSTAMP:20260423T232727
CREATED:20231011T130800Z
LAST-MODIFIED:20231030T092245Z
UID:10006607-1699610400-1699624800@www.aachen.digital
SUMMARY:Tag der Gesundheit in der digitalCHURCH
DESCRIPTION:Gemeinsam mit der AOK Rheinland/Hamburg und dem BGF lädt der digitalHUB Aachen herzlich zum Tag der Gesundheit unter dem Motto: “Pflegekräfte stärken und Gesundheit erhalten” in der digitalCHURCH ein. \nSeien Sie dabei und erhalten Sie durch spannende Praxisvorträge\, Praxisbeispiele und Expertentalks neue Impulse\, die zum Nach- und Umdenken anregen. Sammeln Sie neue Erfahrungen und Einblicke durch unsere praktischen Stationen und Info-Stände. \nPraxisvortrag 1: I’m a nurse (Franziska Böhler\, Krankenschwester und Autorin) \nMit Franziska Böhler gehen wir der Frage nach\, wie Pflege und Medizin in der Gesellschaft wahrgenommen werden. Welche Optionen haben Pflegeeinrichtungen und Krankenhäuser in Zeiten von massivem Personalmangel\, um Anerkennung zu erfahren und für ihre Branche zu werben? Kann eine gezielte und vielleicht auch unkonventionelle Öffentlichkeitsarbeit dazu beitragen\, die Attraktivität der Pflegeberufe zu erhöhen\, Menschen zu begeistern und neue Fachkräfte zu gewinnen? Wie kann es gelingen\, Pflegeberufe attraktiver zu gestalten? Was muss getan werden\, um Pflegekräfte zu stärken\, damit sie ihren Beruf langfristig ausüben können und ihre körperliche und psychische Gesundheit dabei erhalten bleibt? Mit Herrn Professor Dr. Isfort widmen wir uns Fragen rund um Motivation und Sinnhaftigkeit und beleuchten die besondere Bedeutung von Wertschätzung in Pflegeberufen. \nVortrag 2: Einstieg und Verbleib im Pflegeberuf – Erkenntnisse aus der Praxis (Prof. Dr. Michael Isfort\, Professor beim Deutschen Institut für angewandte Pflegeforschung e.V.)  \nJetzt anmelden
URL:https://www.aachen.digital/en/event/tag-der-gesundheit-in-der-digitalchurch-2023/
LOCATION:digitalHUB Aachen\, Jülicher Str. 72a\, Aachen\, Nordrhein-Westfalen\, 52070\, Germany
ATTACH;FMTTYPE=image/jpeg:https://www.aachen.digital/wp-content/uploads/2023/10/AOK-BGF-Care-Kongress-Stage-4.jpg
END:VEVENT
END:VCALENDAR