BEGIN:VCALENDAR
VERSION:2.0
PRODID:-//digitalHUB Aachen - ECPv6.15.20//NONSGML v1.0//EN
CALSCALE:GREGORIAN
METHOD:PUBLISH
X-ORIGINAL-URL:https://www.aachen.digital/en/
X-WR-CALDESC:Events for digitalHUB Aachen
REFRESH-INTERVAL;VALUE=DURATION:PT1H
X-Robots-Tag:noindex
X-PUBLISHED-TTL:PT1H
BEGIN:VTIMEZONE
TZID:Europe/Berlin
BEGIN:DAYLIGHT
TZOFFSETFROM:+0100
TZOFFSETTO:+0200
TZNAME:CEST
DTSTART:20180325T010000
END:DAYLIGHT
BEGIN:STANDARD
TZOFFSETFROM:+0200
TZOFFSETTO:+0100
TZNAME:CET
DTSTART:20181028T010000
END:STANDARD
BEGIN:DAYLIGHT
TZOFFSETFROM:+0100
TZOFFSETTO:+0200
TZNAME:CEST
DTSTART:20190331T010000
END:DAYLIGHT
BEGIN:STANDARD
TZOFFSETFROM:+0200
TZOFFSETTO:+0100
TZNAME:CET
DTSTART:20191027T010000
END:STANDARD
BEGIN:DAYLIGHT
TZOFFSETFROM:+0100
TZOFFSETTO:+0200
TZNAME:CEST
DTSTART:20200329T010000
END:DAYLIGHT
BEGIN:STANDARD
TZOFFSETFROM:+0200
TZOFFSETTO:+0100
TZNAME:CET
DTSTART:20201025T010000
END:STANDARD
BEGIN:DAYLIGHT
TZOFFSETFROM:+0100
TZOFFSETTO:+0200
TZNAME:CEST
DTSTART:20210328T010000
END:DAYLIGHT
BEGIN:STANDARD
TZOFFSETFROM:+0200
TZOFFSETTO:+0100
TZNAME:CET
DTSTART:20211031T010000
END:STANDARD
BEGIN:DAYLIGHT
TZOFFSETFROM:+0100
TZOFFSETTO:+0200
TZNAME:CEST
DTSTART:20220327T010000
END:DAYLIGHT
BEGIN:STANDARD
TZOFFSETFROM:+0200
TZOFFSETTO:+0100
TZNAME:CET
DTSTART:20221030T010000
END:STANDARD
BEGIN:DAYLIGHT
TZOFFSETFROM:+0100
TZOFFSETTO:+0200
TZNAME:CEST
DTSTART:20230326T010000
END:DAYLIGHT
BEGIN:STANDARD
TZOFFSETFROM:+0200
TZOFFSETTO:+0100
TZNAME:CET
DTSTART:20231029T010000
END:STANDARD
END:VTIMEZONE
BEGIN:VEVENT
DTSTART;TZID=Europe/Berlin:20220905T170000
DTEND;TZID=Europe/Berlin:20220905T183000
DTSTAMP:20260423T190040
CREATED:20220711T102448Z
LAST-MODIFIED:20220901T100113Z
UID:10005692-1662397200-1662402600@www.aachen.digital
SUMMARY:Erfahrungsaustausch IT-Fachkräftemangel - Impulse zur Fachkräftesicherung
DESCRIPTION:Steht auch ihr vor der Herausforderung\, geeignete Fachkräfte zu finden? Über alle Bereiche hinweg besteht das Problem\, doch besonders IT-Fachkräfte werden händeringend gesucht – und nicht nur von den IT-Unternehmen selbst. So konnten 35% der Stellen in der IT im letzten Jahr nicht besetzt werden (s. KOFA Studie). Durch die Pandemie und den Krieg in der Ukraine verschärft sich das Problem noch. \nLeider gibt es nicht die EINE einfache Lösung. In seiner Veranstaltung möchte der BITMi verschiedene Lösungswege aufzeigen und den Austausch fördern. Dabei gibt es Einblicke in die Themen: \n\nAusbildung\nNearshoring/Global Sourcing\naktive Personalarbeit und Employer Branding\nsowie New Work\n\nVielleicht ist ein Vorschlag dabei\, der genau eurem Unternehmen weiterhilft? Kommt vorbei und findet es heraus! \nImpulsgeber:innen: \n\nMichael Arth\, IHK Aachen: Ausbildung attraktiver gestalten – Auslandspraktika für Azubis\nAlbert Vallendar\, IT-Impulse: Nearshoring/Global Sourcing\nJudith Lehr\, Kompetenzzentrum Fachkräftesicherung: Aktuelle Lage in der IT-Branche und Tipps Personalarbeit\nChantal Endlicher\, AIPI (BITMi Projekt mit der ICT Chamber Ruanda): Zusammenarbeit mit ruandischen Fachkräften\nThomas Lehr\, ivCampus: Herausforderungen globaler Zusammenarbeit/New Work\n\nIm Anschluss an die Impulse gibt es die Gelegenheit zum Austausch bei Snacks und Getränken. \nDie Veranstaltung ist kostenlos. Um Anmeldung wird gebeten. \nZUR ANMELDUNG \nPartner: \n\ndigitalHUB Aachen e.V.\nREGINA e.V.\nIHK Aachen\nKompetenzzentrum IT-Wirtschaft
URL:https://www.aachen.digital/en/event/erfahrungsaustausch-it-fachkraeftemangel-impulse-zur-fachkraeftesicherung/
LOCATION:Innovation Center des BITMi\, Pascalstraße 6\, Aachen\, Deutschland
ATTACH;FMTTYPE=image/jpeg:https://www.aachen.digital/wp-content/uploads/2022/07/Buero-Schreibtische.jpg
ORGANIZER;CN="BITMi e.V.":MAILTO:kontakt@bitmi.de
END:VEVENT
BEGIN:VEVENT
DTSTART;TZID=Europe/Berlin:20210616T130000
DTEND;TZID=Europe/Berlin:20210616T170000
DTSTAMP:20260423T190040
CREATED:20210614T083535Z
LAST-MODIFIED:20210614T085658Z
UID:10005942-1623848400-1623862800@www.aachen.digital
SUMMARY:Deutschland kann digital! Folge drei: Digitaler Staat
DESCRIPTION:Wie gelingt uns der Aufbruch in den digitalen Staat?\nDie Digitalisierung ist in zahlreichen Lebensbereichen längt fester Bestandteil des Alltags. Digitale Behördengänge dagegen sind die Ausnahme – denn Verwaltung findet immer noch weitgehend analog statt. Die Corona-Pandemie war somit ein echter Stresstest für die Verwaltung und gibt Anlass\, Strukturen und Prozesse auf den Prüfstand zu stellen. Dieses Momentum wollen wir nutzen\, um im Vorfeld der Bundestagswahl zu erörtern\, wie es uns gelingt\, die Verwaltung digitaler\, effizienter und krisenfester zu gestalten. \nAm 16. Juni um 13 Uhr widmen wir uns in der dritten Folge von Deutschland kann digital! live dem Thema digitaler Staat. Wir bringen Wirtschaft und Politik zusammen\, um zu diskutieren\, welche Schritte jetzt wichtig sind\, um den Staat zu modernisieren und welchen Beitrag unsere eigene Digitalwirtschaft hierzu leisten kann. \nMelden Sie sich hier an: deutschlandkanndigital.de/deutschland-kann-digital-live-digitaler-staat/ \nWir diskutieren u.a. mit: \n\nDetlef Sander\, Geschäftsführer von DATABUND e.V.\nAnna Christmann\, Sprecherin für Innovations- und Technologiepolitik der Fraktion BÜNDNIS 90/DIE GRÜNEN (angefragt)\nMarian Schreier\, SPD\, Bürgermeister der Stadt Tengen\nStephan Hauber\, Geschäftsführer der HSH Soft- und Hardware Vertriebs GmbH\nStefan Wess\, CEO der empolis GmbH und Arbeitsgruppenleiter „KI in der öffentlichen Verwaltung“ des KI Bundesverband\n\nWir freuen uns auf Ihre Teilnahme. \nANMELDUNG
URL:https://www.aachen.digital/en/event/deutschland-kann-digital-folge-drei-digitaler-staat/
LOCATION:Jülicher Strasse 72a\, Aachen\, 52070\, Germany
ATTACH;FMTTYPE=image/jpeg:https://www.aachen.digital/wp-content/uploads/2021/06/AdobeStock_112078421-scaled-1.jpeg
ORGANIZER;CN="BITMi e.V.":MAILTO:kontakt@bitmi.de
END:VEVENT
BEGIN:VEVENT
DTSTART;TZID=Europe/Berlin:20210519T130000
DTEND;TZID=Europe/Berlin:20210519T170000
DTSTAMP:20260423T190040
CREATED:20210429T104802Z
LAST-MODIFIED:20210614T083003Z
UID:10005889-1621429200-1621443600@www.aachen.digital
SUMMARY:Deutschland kann digital! Folge zwei: Digitale Bildung
DESCRIPTION:Welches Update braucht unser Bildungssystem für das 21. Jahrhundert? \nIm Kontext der Digitalisierung gilt mehr denn je: Wohlstand\, Fortschritt und digitale Souveränität hängen direkt von der Qualität der Bildung und Weiterbildung in unserem Land ab. Das Tempo des technologischen Wandels verlangt eine Kultur des lebenslangen Lernens. Längst gilt das nicht mehr nur für IT-Fachkräfte\, sondern für die Gesellschaft als Ganzes. \nIn der zweiten Folge von Deutschland kann digital! live widmen wir uns dem zentralen Thema der digitalen Bildung. Wir bringen Wirtschaft und Politik zusammen\, um zu diskutieren\, welches Update unser Bildungssystem braucht\, um digitale Kompetenzen in der Breite zu stärken und was Unternehmen selbst dazu beitragen können. \nWir diskutieren mit: \nLucia Falkenberg\, Chief People Officer bei eco und DE-CIX\nThomas Sattelberger\, Sprecher für Innovation\, Bildung und Forschung der FDP-Bundestagsfraktion\nNiko Fostiropoulos\, Geschäftsleiter des Bildungsunternehmens alfatraining und Gründer der Lernplattform alfaview®\nCarsten Brockmann\, Geschäftsführer  BPS Software GmbH & Co. KG \nDeutschland kann digital! ist eine Initiative der deutschen Digital- und Mittelstandsverbände BITMi\, BVMW\, eco und BREKO. \nAnmeldung
URL:https://www.aachen.digital/en/event/deutschland-kann-digital-folge-zwei-digitale-bildung/
LOCATION:Jülicher Strasse 72a\, Aachen\, 52070\, Germany
ATTACH;FMTTYPE=image/png:https://www.aachen.digital/wp-content/uploads/2021/04/Screenshot-2021-04-29-114824.png
ORGANIZER;CN="BITMi e.V.":MAILTO:kontakt@bitmi.de
END:VEVENT
BEGIN:VEVENT
DTSTART;TZID=Europe/Berlin:20210505T190000
DTEND;TZID=Europe/Berlin:20210505T220000
DTSTAMP:20260423T190040
CREATED:20210407T140037Z
LAST-MODIFIED:20210407T140037Z
UID:10005419-1620241200-1620252000@www.aachen.digital
SUMMARY:Digitaler Abend des BITMi: Digitaler Mittelstand – Wie gelingt der Reboot?
DESCRIPTION:Der Bundesverband IT-Mittelstand e.V. (BITMi) lädt zum Digitalen Abend ein. Gemeinsam mit Experten aus Wirtschaft\, Wissenschaft und Politik möchten wir über die Rolle des IT-Mittelstands auf dem Weg aus der Krise diskutieren: \n\nWie können wir die Krise als Chance nutzen\, um die digitale Souveränität Deutschlands zurückzuerlangen?\nWie können wir die Systemfähigkeit des IT-Mittelstands besser nutzen und voranbringen\, um die Wirtschaft aus der Krise zu begleiten?\n\nMit dabei: \nProf. Dr. Michael Hüther\, Direktor des Instituts der deutschen Wirtschaft Köln\nDr. Oliver Grün\, Präsident des Bundesverband IT-Mittelstand e.V. (BITMi)\nDiana Philipp\, IT-Unternehmerin und Geschäftsführerin der PRODATIC-EDV-Konzepte GmbH\nThomas Jarzombek\, Beauftragter des Bundeswirtschaftsministeriums für die Digitale Wirtschaft und Start-ups \nWeitere Informationen zur Veranstaltung sowie das vollständige Programm finden Sie hier zum Download (PDF). \nZUR ANMELDUNG \nAnmeldung bis zum 21. April 2021.
URL:https://www.aachen.digital/en/event/digitaler-abend-des-bitmi-digitaler-mittelstand-wie-gelingt-der-reboot/
LOCATION:ZOOM
ATTACH;FMTTYPE=image/jpeg:https://www.aachen.digital/wp-content/uploads/2021/04/bitmi_stage_event.jpg
ORGANIZER;CN="BITMi e.V.":MAILTO:kontakt@bitmi.de
END:VEVENT
BEGIN:VEVENT
DTSTART;TZID=Europe/Berlin:20210414T130000
DTEND;TZID=Europe/Berlin:20210414T170000
DTSTAMP:20260423T190040
CREATED:20210325T094333Z
LAST-MODIFIED:20210325T094333Z
UID:10005411-1618405200-1618419600@www.aachen.digital
SUMMARY:Deutschland kann digital! live Folge eins: Digitale Infrastruktur
DESCRIPTION:Wie schaffen wir endlich den Sprung ins Gigabit-Zeitalter?\nDie deutsche IT-Wirtschaft hat die Fähigkeit\, unsere digitale Souveränität zu sichern. Um der Krise zu trotzen\, haben viele unserer heimischen Digitalunternehmen ihre Innovationskraft bewiesen\, zügig intelligente Lösungen entwickelt und gezeigt: Deutschland kann digital! \nIn unserer Veranstaltungsreihe im Vorfeld der Bundestagswahl wollen wir herausarbeiten\, wie wir dieses Potenzial besser nutzen können. In der ersten Folge von Deutschland kann digital! live widmen wir uns dem zentralen Thema der digitalen Infrastruktur. Wir bringen Wirtschaft und Politik zusammen\, um zu diskutieren\, wie wir bei der für Wettbewerbsfähigkeit und Teilhabe so wichtigen Breitbandversorgung endlich aufholen können. \nWir diskutieren mit:\n• Margit Stumpp\, Berichterstatterin für digitale Infrastruktur der Fraktion BÜNDNIS 90/DIE GRÜNEN\n• Stefan Sauer\, Berichterstatter für digitale Infrastruktur der Fraktion CDU/CSU (angefragt)\n• Dr. Béla Waldhauser\, Sprecher der Allianz zur Stärkung Digitaler Infrastrukturen des eco – Verband der Internetwirtschaft e.V.\n• Sven Knapp\, Geschäftsleitung Hauptstadtbüro des BREKO Bundesverband Breitbandkommunikation e.V.\n• Christof Sommerberg\, Bereichsleiter Public Affairs\, Deutsche Glasfaser Holding GmbH \nTeilnahmebedingungen\nWährend der Veranstaltung werden Aufnahmen zur Dokumentation der Veranstaltung gemacht. Mit Ihrer Anmeldung zur Veranstaltung erklären Sie sich mit der Nutzung des Materials durch die Veranstalter einverstanden. \nÜber Deutschland kann digital!\nDeutschland kann digital! ist eine Initiative der deutschen Digital- und Mittelstandsverbände BITMi\, BVMW\, eco und BREKO. \nANMELDUNG
URL:https://www.aachen.digital/en/event/deutschland-kann-digital-live-folge-eins-digitale-infrastruktur/
LOCATION:Jülicher Strasse 72a\, Aachen\, 52070\, Germany
ATTACH;FMTTYPE=image/jpeg:https://www.aachen.digital/wp-content/uploads/2021/03/AdobeStock_268786932_edited-scaled.jpg
ORGANIZER;CN="BITMi e.V.":MAILTO:kontakt@bitmi.de
END:VEVENT
BEGIN:VEVENT
DTSTART;TZID=Europe/Berlin:20210414T100000
DTEND;TZID=Europe/Berlin:20210414T113000
DTSTAMP:20260423T190040
CREATED:20210308T103845Z
LAST-MODIFIED:20210308T115959Z
UID:10005403-1618394400-1618399800@www.aachen.digital
SUMMARY:BITMi Community Breakfast
DESCRIPTION:Der Bundesverband IT-Mittelstand e.V. (BITMi) und das KIW laden Sie herzlich ein zum ersten virtuellen Gemeinschaftsfrühstück! \nIm Fokus stehen die politische Verbandsarbeit des BITMi und die beiden aktuellen Projekte „Partnership between BITMi and ICT Chamber“ sowie die Arbeit des Kompetenzzentrum IT-Wirtschaft. Erfahren Sie\, welche Anknüpfungspunkte der BITMi für Ihr IT-Unternehmen bietet\, warum Sie sich heute noch mit strategischen Partnerschaften beschäftigen sollten und lassen Sie sich von aktuellen Digitalisierungsprojekten aus Ruanda inspirieren. \nDie Veranstaltung richtet sich vor allem an die Mitglieder des BITMi\, steht aber auch Verbandsinteressierten offen. Im Anschluss besteht die Möglichkeit zum offenen Austausch und Netzwerken. \nAgenda \n\n10:00 Uhr | Check-In: Willkommen & Begrüßung (Andreas Barke\, Moderator)\n10:15 Uhr | Politische Arbeit beim BITMi (Patrick Häuser)\n10:35 Uhr | Partnership between Bitmi and ICT Chamber (Dr. Geraldine Schmitz)\n10:55 Uhr | Strategische Kooperationen in der IT-Branche (Tarek Annan)\n11:15 Uhr | Fragerunde & offener Austausch\nca. 11:30 Uhr | Ende der Veranstaltung\n\nAllen Teilnehmenden\, die sich bis zum 01.04.2021 anmelden\, lassen wir eine kleine Frühstücksüberraschung zukommen\, so dass wir gemeinsam gestärkt in den Tag starten können. \nDiese Veranstaltung ist kostenfrei. Wir freuen uns auf Ihre Teilnahme! \nZur Anmeldung
URL:https://www.aachen.digital/en/event/bitmi-community-breakfast/
LOCATION:Jülicher Strasse 72a\, Aachen\, 52070\, Germany
ATTACH;FMTTYPE=image/jpeg:https://www.aachen.digital/wp-content/uploads/2021/03/AdobeStock_294094849-scaled-2.jpeg
ORGANIZER;CN="BITMi e.V.":MAILTO:kontakt@bitmi.de
END:VEVENT
BEGIN:VEVENT
DTSTART;TZID=Europe/Berlin:20210303T130000
DTEND;TZID=Europe/Berlin:20210303T170000
DTSTAMP:20260423T190040
CREATED:20210217T120244Z
LAST-MODIFIED:20210217T120544Z
UID:10005821-1614776400-1614790800@www.aachen.digital
SUMMARY:Deutschland kann digital!
DESCRIPTION:Die Corona-Pandemie hat dem Megatrend Digitalisierung noch einmal Auftrieb gegeben und dabei auch neue Chancen aufgetan. Die Krise hat gezeigt\, dass die digitale Leistungsfähigkeit unserer Wirtschaft deutlich größer ist\, als viele dachten. Hier sieht man: Der Schlüssel zur vielbeschworenen digitalen Souveränität liegt in unserer Hand. Denn Deutschland kann digital! \nWir zeigen\, wie digitale Souveränität funktionieren kann und was uns auf dem Weg dahin noch fehlt. \nAm 3. März um 13 Uhr starten wir die Kampagne mit einem virtuellen Event. \nWir diskutieren u.a. mit: \nDieter Janecek\, Sprecher für Industriepolitik und digitale Wirtschaft\, BÜNDNIS 90/DIE GRÜNEN\nManuel Höferlin\, Vorsitzender des Ausschusses Digitale Agenda\, FDP\nDr. Oliver Grün\, Präsident des Bundesverband IT-Mittelstand e.V. (BITMi)\nAlexander Rabe\, Geschäftsführer des eco – Verband der Internetwirtschaft e.V.\nMarkus Jerger\, Bundesgeschäftsführer des Bundesverband mittelständische Wirtschaft e.V. (BVMW) \nMelden sich hier zum Launch an: \nAnmeldung \nWir freuen uns auf Ihre Teilnahme! \nÜber Deutschland kann digital!\nDeutschland kann digital! ist eine Initiative der deutschen Digital- und Mittelstandsverbände Bundesverband IT-Mittelstand e.V. (BITMi)\, Bundesverband mittelständische Wirtschaft e.V. (BVMW) und eco – Verband der Internetwirtschaft e.V. \n 
URL:https://www.aachen.digital/en/event/launch-von-deutschland-kann-digital/
LOCATION:Jülicher Strasse 72a\, Aachen\, 52070\, Germany
ATTACH;FMTTYPE=image/jpeg:https://www.aachen.digital/wp-content/uploads/2020/07/AdobeStock_211845830_Data-control-wall.jpeg
ORGANIZER;CN="BITMi e.V.":MAILTO:kontakt@bitmi.de
END:VEVENT
BEGIN:VEVENT
DTSTART;VALUE=DATE:20201118
DTEND;VALUE=DATE:20201119
DTSTAMP:20260423T190040
CREATED:20201012T111519Z
LAST-MODIFIED:20201012T111519Z
UID:10005653-1605657600-1605743999@www.aachen.digital
SUMMARY:IT-Stammtisch „StartUp vs. IT-Mittelstand? Wie können Start-ups mit etablierten IT-Unternehmen kooperieren statt konkurrieren?“
DESCRIPTION:In Zeiten von Homeoffice etwas für das strategische Business tun und mal wieder in der eigenen Branche nach den neusten Entwicklungen schauen. Das konnten Unternehmerinnen und Unternehmer des IT-Mittelstands beim virtuellen IT-Unternehmensstammtisch des BITMi und des Kompetenzzentrums IT-Wirtschaft. Am 16. September 2020 stand das Thema „Nachfolge von IT-Unternehmen“ im Mittelpunkt. \nDas Thema Nachfolge von IT-Unternehmen gewinnt in den letzten Jahren aus demographischen und gesamtwirtschaftlichen Gründen zunehmend an Bedeutung. Gerade mittelständische IT-Unternehmen sind auf diesen Prozess nicht ausreichend vorbereitet. In diesem Kontext stellt sich besonders die Frage nach der Unternehmensbewertung. Wir sprachen über Unternehmensbewertung\, Unternehmensverkauf und Mitarbeiterbeteiligung mit Andreas Barthel\, Fachgruppenleiter für Unternehmensnachfolge des Bundesverband IT-Mittelstand e.V. (BITMi). \nDer Erfolg des Formats zeigt uns erneut\, wie wichtig der Austausch zwischen Unternehmern ist und dass die mittelständische IT-Branche Interesse an innovativen Konzepten und dem Austausch untereinander hat. \nNach dem fachlichen Austausch eröffnete Tarek Annan die Runde\, um sich untereinander in der mittelständischen IT-Branche auszutauschen und Kooperationen den Weg frei zu machen. \nKommen Sie zu unserem nächsten IT-Stammtisch am 18. November 2020 zum Thema „StartUp vs. IT-Mittelstand? Wie können Start-ups mit etablierten IT-Unternehmen kooperieren statt konkurrieren?“ \nWeitere Informationen unter www.bitmi.de.
URL:https://www.aachen.digital/en/event/it-stammtisch-zum-thema-nachfolge-von-it-unternehmen/
LOCATION:Jülicher Strasse 72a\, Aachen\, 52070\, Germany
ATTACH;FMTTYPE=image/jpeg:https://www.aachen.digital/wp-content/uploads/2020/10/AdobeStock_219399649_Handshake_Data-explosion.jpeg
ORGANIZER;CN="BITMi e.V.":MAILTO:kontakt@bitmi.de
END:VEVENT
BEGIN:VEVENT
DTSTART;TZID=Europe/Berlin:20191212T180000
DTEND;TZID=Europe/Berlin:20191212T210000
DTSTAMP:20260423T190040
CREATED:20191204T110733Z
LAST-MODIFIED:20191204T110733Z
UID:10005466-1576173600-1576184400@www.aachen.digital
SUMMARY:PraxisTalk: IT-Fachkräftemangel – Herausforderungen und Lösungsansätze im IT-Mittelstand
DESCRIPTION:Der Mangel an IT-Fachkräften in Deutschland ist seit geraumer Zeit ein hitzig diskutiertes Thema. Unterschiedliche Studien zeigen\, dass schon jetzt sechs von zehn Unternehmen mit dem anhaltenden Fachkräftemangel zu kämpfen haben. Alarmierend ist zudem die Tatsache\, dass die Branche immer weiter wächst.\nWas können IT-Unternehmen tun\, um dem Fachkräftemangel schnell entgegenzuwirken und qualifiziertes Fachpersonal zu finden? Darüber möchten wir mit Ihnen am 12. Dezember 2019 in der digitalCHURCH in Aachen diskutieren.\nDer Bundesverband IT-Mittelstand e.V. (BITMi) lädt Sie herzlich ein\, mit uns und unseren Referenten über die Herausforderungen und aktuelle Lösungsansätze des IT-Fachkräftemangels zu sprechen.\nKnüpfen Sie beim anschließenden Get-Together Kontakt zu den Referenten und vernetzten Sie sich bei Fingerfood und Getränken. \nProgramm\, 12. Dezember 2019\nPraxisTalk: IT-Fachkräftemangel – Herausforderungen und Lösungsansätze im IT-Mittelstand \nModeration: Albert Vallendar\, CEO IT-Impulse s.r.o \n\n18:00 Uhr Begrüßung und Einführung mit Vorstellung des Kooperationsprojekts „Partnership between BITMi und ICT Chamber“ mit Ruanda\nDr. Geraldine Schmitz\, Verbandsreferentin und Koordinatorin des Kooperationsprojekts\n18:15 Uhr Fachkräftemangel in Deutschland: Nearshoring als adäquate Alternative?!\nUlrich Böttger\, Spezialist für Turnaround Management und Strategieberatung\n18:45 Uhr Die Suche nach Mitgestaltern bei SONAH\nVictor ter Smitten\, CEO\, S O NAH GmbH\n19:15 Uhr Ruanda as an outsourcing destination\nWiredIn\n19:30 Uhr Diskussion\, Zusammenfassung und Ausblick\n20:00 Uhr Get-Together\n\nDie Vorträge finden in englischer Sprache statt. \nWeiter Informationen zur Veranstaltung: www.bitmi.de \nDie Veranstaltung ist kostenfrei. Es wird um Anmeldung bis zum 10. Dezember 2019 unter kontakt@bitmi.de gebeten.
URL:https://www.aachen.digital/en/event/praxistalk-it-fachkraeftemangel-herausforderungen-und-loesungsansaetze-im-it-mittelstand/
LOCATION:digitalHUB Aachen\, Jülicher Str. 72a\, Aachen\, Nordrhein-Westfalen\, 52070\, Germany
ATTACH;FMTTYPE=image/jpeg:https://www.aachen.digital/wp-content/uploads/2019/12/AdobeStock_111955163.jpeg
ORGANIZER;CN="BITMi e.V.":MAILTO:kontakt@bitmi.de
END:VEVENT
BEGIN:VEVENT
DTSTART;TZID=Europe/Berlin:20190604T140000
DTEND;TZID=Europe/Berlin:20190604T200000
DTSTAMP:20260423T190040
CREATED:20190527T142344Z
LAST-MODIFIED:20190527T142344Z
UID:10005013-1559656800-1559678400@www.aachen.digital
SUMMARY:BUSINESS VALUE DESIGN – Ein ganzheitliches Wertangebot für das vernetzte Zeitalter
DESCRIPTION:Früher wie heute gilt: Einen Kunden überzeugt man am besten mit einem überlegenen Wertangebot. Bessere Qualität\, einen besseren Preis oder einen besseren Service als der Wettbewerber anzubieten\, sind und bleiben die Grundlagen für den Erfolg am Markt. Doch in Zeiten der Digitalisierung\, grenzenloser Vernetzung und künstlicher Intelligenz wird es zunehmend schwerer\, sich auf diesen Feldern eindeutig zu differenzieren. \nEs ist an der Zeit\, sich nicht mehr nur auf Produkte und Services zu fokussieren\, sondern eine ganzheitliche Sicht auf die Dinge zu verfolgen. \nDeshalb möchten wir Ihnen mit dem Workshop „BUSINESS VALUE DESIGN – Ein ganzheitliches Wertangebot für das vernetzte Zeitalter“ zeigen\, wie Sie Ihr Unternehmen im Zeitalter der Digitalisierung optimal für die Zukunft aufstellen. \nErfahren Sie im Workshop entlang des Beispiels “Recruiting im Unternehmen”\, welchen externen und internen Herausforderungen Ihr Unternehmen gewachsen sein muss. Finden Sie zudem heraus\, welches strategische Vorgehen die Bedürfnisse der Kunden am Arbeitsmarkt mit Ihren vorhandenen internen Prozessen am besten verbindet. Dies bildet die Basis um jene Technologien auszuwählen und zu implementieren\, welche das Potenzial haben\, Ihr Unternehmen langfristig weiterzuentwickeln. \nLernen und üben Sie in diesem Workshop anhand praktischer Modelle und Methoden\, wie man entlang einer Customer Journey eine Vision für ganzheitliche Ansätze entwickelt und technologische Innovation\, organisatorische Leistungsfähigkeit und Markentradition bestmöglich verbindet. \nAGENDA und Anmeldung
URL:https://www.aachen.digital/en/event/business-value-design-ein-ganzheitliches-wertangebot-fuer-das-vernetzte-zeitalter/
LOCATION:IHK Mönchengladbach\, Bismarckstraße 109\, Mönchengladbach\, NRW\, 41061\, Deutschland
ATTACH;FMTTYPE=image/jpeg:https://www.aachen.digital/wp-content/uploads/2019/04/AdobeStock_177732957.jpeg
ORGANIZER;CN="BITMi e.V.":MAILTO:kontakt@bitmi.de
END:VEVENT
END:VCALENDAR