BEGIN:VCALENDAR
VERSION:2.0
PRODID:-//digitalHUB Aachen - ECPv6.15.20//NONSGML v1.0//EN
CALSCALE:GREGORIAN
METHOD:PUBLISH
X-ORIGINAL-URL:https://www.aachen.digital/en/
X-WR-CALDESC:Events for digitalHUB Aachen
REFRESH-INTERVAL;VALUE=DURATION:PT1H
X-Robots-Tag:noindex
X-PUBLISHED-TTL:PT1H
BEGIN:VTIMEZONE
TZID:Europe/Berlin
BEGIN:DAYLIGHT
TZOFFSETFROM:+0100
TZOFFSETTO:+0200
TZNAME:CEST
DTSTART:20190331T010000
END:DAYLIGHT
BEGIN:STANDARD
TZOFFSETFROM:+0200
TZOFFSETTO:+0100
TZNAME:CET
DTSTART:20191027T010000
END:STANDARD
BEGIN:DAYLIGHT
TZOFFSETFROM:+0100
TZOFFSETTO:+0200
TZNAME:CEST
DTSTART:20200329T010000
END:DAYLIGHT
BEGIN:STANDARD
TZOFFSETFROM:+0200
TZOFFSETTO:+0100
TZNAME:CET
DTSTART:20201025T010000
END:STANDARD
BEGIN:DAYLIGHT
TZOFFSETFROM:+0100
TZOFFSETTO:+0200
TZNAME:CEST
DTSTART:20210328T010000
END:DAYLIGHT
BEGIN:STANDARD
TZOFFSETFROM:+0200
TZOFFSETTO:+0100
TZNAME:CET
DTSTART:20211031T010000
END:STANDARD
BEGIN:DAYLIGHT
TZOFFSETFROM:+0100
TZOFFSETTO:+0200
TZNAME:CEST
DTSTART:20220327T010000
END:DAYLIGHT
BEGIN:STANDARD
TZOFFSETFROM:+0200
TZOFFSETTO:+0100
TZNAME:CET
DTSTART:20221030T010000
END:STANDARD
BEGIN:DAYLIGHT
TZOFFSETFROM:+0100
TZOFFSETTO:+0200
TZNAME:CEST
DTSTART:20230326T010000
END:DAYLIGHT
BEGIN:STANDARD
TZOFFSETFROM:+0200
TZOFFSETTO:+0100
TZNAME:CET
DTSTART:20231029T010000
END:STANDARD
BEGIN:DAYLIGHT
TZOFFSETFROM:+0100
TZOFFSETTO:+0200
TZNAME:CEST
DTSTART:20240331T010000
END:DAYLIGHT
BEGIN:STANDARD
TZOFFSETFROM:+0200
TZOFFSETTO:+0100
TZNAME:CET
DTSTART:20241027T010000
END:STANDARD
END:VTIMEZONE
BEGIN:VEVENT
DTSTART;VALUE=DATE:20230609
DTEND;VALUE=DATE:20230612
DTSTAMP:20260423T220301
CREATED:20230329T124420Z
LAST-MODIFIED:20230329T124420Z
UID:10006450-1686268800-1686527999@www.aachen.digital
SUMMARY:Kimiko Festival: Science\, Tech & Arts Square
DESCRIPTION:Seit einigen Jahren findet das Kimiko Festival auf dem Campus Melaten der RWTH Aachen statt. Drei Tage gibt es vielseitige Musik auf mehreren Bühnen. Neben der Musik soll das Kimiko aber auch ein Ort des Austauschs sein – rund um Themen aus den Bereichen Science\, Tech & Arts. \nEin großer Teil der Festival-Fläche kann und soll gemeinsam mit vielen Akteuren und Partnern mit Leben gefüllt werden. bluebird ist als Recruiting-Partner dabei und ermöglicht es\, das einzigartige Festival-Ambiente mit dem Kennenlernen von Talenten zu verbinden. \nUnter dem Motto “Celebrating the Culture of Tomorrow – Musik als Kraft für Austausch\, Innovation und Ideen von morgen” laden wir euch ein\, dabei zu sein und euch bei toller Festival-Atmosphäre als spannender Arbeitgeber zu präsentieren. \nDas Festival bringt Zukunftsthemen in moderierten Panel Discussions\, Kurzimpulsen und Interviews auf die Bühne und ermöglicht durch Workshops\, Q&A-Sessions und gemeinsame Fun- & Festival Aktivitäten Gespräche auf Augenhöhe. Ihr tretet als Sponsor auf\, bringt euch inhaltlich ein und zeigt euch als attraktiver Arbeitgeber.\nSchlagworte für das diesjährige Programm sind Sustainability\, Technology und Digital Society. Unter anderem seht ihr die ponto-Videoshow KLIMAKARRIERE auf der Festival-Bühne. \nZUR ANMELDUNG \nWeitere Informationen: hier.
URL:https://www.aachen.digital/en/event/kimiko-festival-science-tech-arts-square-2/
LOCATION:Campus Melaten\, RWTH Aachen\, Deutschland
ATTACH;FMTTYPE=image/jpeg:https://www.aachen.digital/wp-content/uploads/2023/03/Kimiko_stage.jpg
ORGANIZER;CN="Bluebird Events GmbH":MAILTO:mail@bluebird.ac
END:VEVENT
BEGIN:VEVENT
DTSTART;VALUE=DATE:20200624
DTEND;VALUE=DATE:20200626
DTSTAMP:20260423T220301
CREATED:20200529T073053Z
LAST-MODIFIED:20200610T084501Z
UID:10004941-1592956800-1593129599@www.aachen.digital
SUMMARY:Online-Jobmesse talentine: Hochschuledition
DESCRIPTION:Alle Jobmessen und Karriere-Events sind auf absehbare Zeit abgesagt – viele Arbeitgeber suchen nun nach Optionen\, um die Sichtbarkeit bei Nachwuchstalenten aufrecht zu erhalten. Eine digitale Alternative bietet die neue Online-Jobmesse talentine. \nZwei komplett digitale Pilot-Events finden für die Region Aachen statt: \n\n17. Juni: Ausbildungsmesse für Schüler und junge Menschen auf der Suche nach einem Ausbildungsplatz\n24. Juni: Hochschulmesse für Studierende und Absolventen\n\nBei der Hochschulmesse am 24. Juni kommen Nachwuchstalente und Arbeitgeber auf einer Online-Plattform\, durch Impulsvorträge\, 1:1-Videochats und digitale Workshops in den Austausch.\nDie Aachener Personalmarketing-Spezialisten von bluebird haben das Konzept fürdie digitale Jobmesse talentine entwickelt – Partner wie die Stadt Aachen\, Regina e.V. und auch wir vom digitalHUB Aachen unterstützen das neue Angebot. \nJetzt kostenlos zur Teilnahme anmelden! \nHier gehts zu den Ausstellerrabatten für Mitglieder des digitalHUB Aachen
URL:https://www.aachen.digital/en/event/online-jobmesse-talentine-hochschuledition/
LOCATION:Jülicher Strasse 72a\, Aachen\, 52070\, Germany
ATTACH;FMTTYPE=image/jpeg:https://www.aachen.digital/wp-content/uploads/2020/05/stage-talentine.jpg
ORGANIZER;CN="Bluebird Events GmbH":MAILTO:mail@bluebird.ac
END:VEVENT
END:VCALENDAR