BEGIN:VCALENDAR
VERSION:2.0
PRODID:-//digitalHUB Aachen - ECPv6.15.20//NONSGML v1.0//EN
CALSCALE:GREGORIAN
METHOD:PUBLISH
X-ORIGINAL-URL:https://www.aachen.digital/en/
X-WR-CALDESC:Events for digitalHUB Aachen
REFRESH-INTERVAL;VALUE=DURATION:PT1H
X-Robots-Tag:noindex
X-PUBLISHED-TTL:PT1H
BEGIN:VTIMEZONE
TZID:Europe/Berlin
BEGIN:DAYLIGHT
TZOFFSETFROM:+0100
TZOFFSETTO:+0200
TZNAME:CEST
DTSTART:20180325T010000
END:DAYLIGHT
BEGIN:STANDARD
TZOFFSETFROM:+0200
TZOFFSETTO:+0100
TZNAME:CET
DTSTART:20181028T010000
END:STANDARD
BEGIN:DAYLIGHT
TZOFFSETFROM:+0100
TZOFFSETTO:+0200
TZNAME:CEST
DTSTART:20190331T010000
END:DAYLIGHT
BEGIN:STANDARD
TZOFFSETFROM:+0200
TZOFFSETTO:+0100
TZNAME:CET
DTSTART:20191027T010000
END:STANDARD
BEGIN:DAYLIGHT
TZOFFSETFROM:+0100
TZOFFSETTO:+0200
TZNAME:CEST
DTSTART:20200329T010000
END:DAYLIGHT
BEGIN:STANDARD
TZOFFSETFROM:+0200
TZOFFSETTO:+0100
TZNAME:CET
DTSTART:20201025T010000
END:STANDARD
BEGIN:DAYLIGHT
TZOFFSETFROM:+0100
TZOFFSETTO:+0200
TZNAME:CEST
DTSTART:20210328T010000
END:DAYLIGHT
BEGIN:STANDARD
TZOFFSETFROM:+0200
TZOFFSETTO:+0100
TZNAME:CET
DTSTART:20211031T010000
END:STANDARD
BEGIN:DAYLIGHT
TZOFFSETFROM:+0100
TZOFFSETTO:+0200
TZNAME:CEST
DTSTART:20220327T010000
END:DAYLIGHT
BEGIN:STANDARD
TZOFFSETFROM:+0200
TZOFFSETTO:+0100
TZNAME:CET
DTSTART:20221030T010000
END:STANDARD
BEGIN:DAYLIGHT
TZOFFSETFROM:+0100
TZOFFSETTO:+0200
TZNAME:CEST
DTSTART:20230326T010000
END:DAYLIGHT
BEGIN:STANDARD
TZOFFSETFROM:+0200
TZOFFSETTO:+0100
TZNAME:CET
DTSTART:20231029T010000
END:STANDARD
BEGIN:DAYLIGHT
TZOFFSETFROM:+0100
TZOFFSETTO:+0200
TZNAME:CEST
DTSTART:20240331T010000
END:DAYLIGHT
BEGIN:STANDARD
TZOFFSETFROM:+0200
TZOFFSETTO:+0100
TZNAME:CET
DTSTART:20241027T010000
END:STANDARD
BEGIN:DAYLIGHT
TZOFFSETFROM:+0100
TZOFFSETTO:+0200
TZNAME:CEST
DTSTART:20250330T010000
END:DAYLIGHT
BEGIN:STANDARD
TZOFFSETFROM:+0200
TZOFFSETTO:+0100
TZNAME:CET
DTSTART:20251026T010000
END:STANDARD
BEGIN:DAYLIGHT
TZOFFSETFROM:+0100
TZOFFSETTO:+0200
TZNAME:CEST
DTSTART:20260329T010000
END:DAYLIGHT
BEGIN:STANDARD
TZOFFSETFROM:+0200
TZOFFSETTO:+0100
TZNAME:CET
DTSTART:20261025T010000
END:STANDARD
END:VTIMEZONE
BEGIN:VEVENT
DTSTART;TZID=Europe/Berlin:20250911T133000
DTEND;TZID=Europe/Berlin:20250911T183000
DTSTAMP:20260423T180144
CREATED:20250909T123054Z
LAST-MODIFIED:20250909T124354Z
UID:10007424-1757597400-1757615400@www.aachen.digital
SUMMARY:Brightlands Startup League
DESCRIPTION:The Brightlands Startup League Event is all about meaningful insights and real connections. The program challenges you to think differently\, sparks conversations that broaden your perspective\, and offers connections you can build on tomorrow. \nAs a startup\, you want to move forward. \n  \nAnd that’s easier with the right people around you — people who think along with you\, challenge you\, spot opportunities\, or offer the right knowledge\, experience\, or access. The Brightlands Startup League exists to make those kinds of connections possible: through new collaborations\, fresh insights\, and meaningful encounters. \nDate & time \nDate: September 11\nTime: 13:30 – 18:30\nLocation \nBrightlands Smart Services Campus\nSmedestraat 2\n6411 CR Heerlen \nWhat to expect? \n✔ A sharp focus on Limburg as an innovation region\nInsights into the opportunities and developments shaping the region. \n✔ An inspiring entrepreneurial story\nA candid keynote by Thijs Verheul on building a successful startup — with a focus on vision\, courage\, and the lessons learned along the way. \n✔ Masterclasses\nTwo parallel masterclasses offering practical tips for startups and strategic insights for investors: Myrthe Wortman guides you through personal branding as an entrepreneur\, and Bert-Jan Woertman discusses the relevance of ecosystems. \n✔ Fireside investors\nInvestors share their vision on what truly matters when investing\, with room for your questions. \n✔ Impactful startup stories in a nutshell\nPowerful and surprising contributions from founders sharing their experiences. \n✔ Space to connect\nA closing networking reception where you can brainstorm\, exchange ideas\, and make new contacts. \nProgram \n13:30 Reception \n14:00 Opening by Province of Limburg\nDeveloping Limburg as an innovation region \n14:15 Keynote speaker: Thijs Verheul \n15:00 Testimonial Holobox | Aestheria \n14:10 Break \n15:40 2 Masterclasses | Myrthe Wortman en Bert-Jan Woertman \n16:20 Testimonial Holobox | Luxeed \n16:25 Fireside investors \n17:05 Networking and drinks \n\n\n\nZUR ANMELDUNG
URL:https://www.aachen.digital/en/event/brightlands-startup-league/
LOCATION:Brightlands Smart Services Campus\, Smedestraat 2\, Heerlen\, Niederlande
ATTACH;FMTTYPE=image/jpeg:https://www.aachen.digital/wp-content/uploads/2025/09/Design-ohne-Titel.jpg
END:VEVENT
BEGIN:VEVENT
DTSTART;TZID=Europe/Berlin:20250612T100000
DTEND;TZID=Europe/Berlin:20250612T180000
DTSTAMP:20260423T180144
CREATED:20250415T072009Z
LAST-MODIFIED:20250415T072115Z
UID:10007304-1749722400-1749751200@www.aachen.digital
SUMMARY:Health Innovation Euregion 2025
DESCRIPTION:The Brightlands Maastricht Health Campus invites entrepreneurs\, scientists\, startups\, and healthcare partners to the 4th edition of the Health Innovation Euregion Event. \nThe event brings together key players from the Euregion’s health and life sciences ecosystem to foster cross-border collaboration\, share knowledge\, and connect with investors and experts. \nProgram Highlights: \n\n10:00–12:00 | One-on-one speed dating\n12:00–18:00 | Keynotes\, panels & networking\n\nExpect inspiring talks\, honest stories from entrepreneurs\, insights into ecosystem support\, and plenty of networking opportunities. \nFind out more and sign up here!
URL:https://www.aachen.digital/en/event/health-innovation-euregion-2/
LOCATION:Brightlands Maastricht Health Campus BV\, Oxfordlaan 70\, Maastricht\, 6229 EV\, Niederlande
ATTACH;FMTTYPE=image/jpeg:https://www.aachen.digital/wp-content/uploads/2025/04/Design-ohne-Titel-66.jpg
END:VEVENT
BEGIN:VEVENT
DTSTART;TZID=Europe/Berlin:20241209T080000
DTEND;TZID=Europe/Berlin:20241209T170000
DTSTAMP:20260423T180144
CREATED:20240514T104752Z
LAST-MODIFIED:20241128T100936Z
UID:10006146-1733731200-1733763600@www.aachen.digital
SUMMARY:Smart Health Day 2024
DESCRIPTION:Nach dem überwältigenden Erfolg des Smart Health Day am 11. Dezember 2023 organisiert der Brightlands Smart Service Campus eine neue Version im Jahr 2024. \nDer Smart Health Day 2023 konzentrierte sich vollständig auf die Frage: „Wie können wir die Gesundheitsversorgung verbessern und den Bedarf an Gesundheitsleistungen mit Daten\, Digitalisierung und KI reduzieren?” Natürlich bleibt diese Frage immer aktuell. \nWir arbeiten derzeit noch an einem Thema für den Smart Health Day 2024 und werden ein abwechslungsreiches Programm mit interessanten Sprechern\, Workshops und vielem mehr bieten. \nNotiere dir das Datum in deinem Kalender\, damit du diesen inspirierenden Tag nicht verpasst. \nAlle Informationen und die Anmeldung findest du hier
URL:https://www.aachen.digital/en/event/smart-health-day-2024/
LOCATION:Brightlands Smart Services Campus\, Smedestraat 2\, Heerlen\, Niederlande
ATTACH;FMTTYPE=image/jpeg:https://www.aachen.digital/wp-content/uploads/2024/05/Health-Day-Stage-1920-x-1080.jpg
END:VEVENT
BEGIN:VEVENT
DTSTART;TZID=Europe/Berlin:20241017T150000
DTEND;TZID=Europe/Berlin:20241017T190000
DTSTAMP:20260423T180144
CREATED:20240828T101959Z
LAST-MODIFIED:20240828T113827Z
UID:10006862-1729177200-1729191600@www.aachen.digital
SUMMARY:Brightlands - Tag der offenen Tür 2024
DESCRIPTION:Du bist daran interessiert\, was auf dem Innovationscampus passiert? Dann schaue beim Tag der offenen Tür vorbei und entdecke die Magie der KI.\nTauche ein in die spannende Welt der Innovation und Technologie am Tag der offenen Tür des KI-Hubs Brightlands und des Brightlands Smart Services Campus. Lerne Unternehmen und Wissenseinrichtungen kennen\, die auf dem Campus aktiv sind und entdecke einige der neuesten technischen Gadgets. Jeder ist willkommen! Egal\, ob du ein:e Einheimische:r\, Student:in oder Unternehmer:in oder einfach nur neugierig auf die Zukunft bist\, es ist für jeden etwas dabei. \n  \nWas erwartet dich? \n\nEntdecke die neuesten Technologien durch interaktive Aktivitäten und Demonstrationen.\nSchnuppern Sie in die Atmosphäre auf unserem lebendigen Campus und erleben Sie\, was es bedeutet\, dort zu arbeiten oder zu studieren.\nSprechen Sie mit Studierenden\, Forschern und Fachleuten über die Zukunft der Innovation in KI und Data Science.\n\n  \nMehr Informationen \n  \nÜber den KI-Hub Brightlands \nDer KI-Hub Brightlands ist die Limburger Allianz von Unternehmen\, Wissensinstitutionen\, Regierungen und zivilgesellschaftlichen Organisationen\, die soziale und geschäftliche Herausforderungen mit künstlicher Intelligenz angeht. \nHochwertiges Wissen in KI und Data Science wird in Bereichen wie Gesundheit und Pflege\, Bildung\, öffentliche Dienste\, öffentliche Sicherheit und technische Industrie angewendet. Mit großer Aufmerksamkeit für die sozialen\, ethischen und rechtlichen Auswirkungen dieser Entwicklungen.
URL:https://www.aachen.digital/en/event/brightlands-tag-der-offenen-tuer-2024/
LOCATION:Brightlands Smart Services Campus\, Smedestraat 2\, Heerlen\, Niederlande
ATTACH;FMTTYPE=image/png:https://www.aachen.digital/wp-content/uploads/2024/08/digitalSUMMIT-2024-Stage.png
END:VEVENT
BEGIN:VEVENT
DTSTART;VALUE=DATE:20231124
DTEND;VALUE=DATE:20231127
DTSTAMP:20260423T180144
CREATED:20231031T092828Z
LAST-MODIFIED:20231031T093601Z
UID:10005974-1700784000-1701043199@www.aachen.digital
SUMMARY:Brightlands Hack4SmartServices Hackathon "Society of the Future"
DESCRIPTION:We have a challenge for you. We should rather say Three challenges! And we need YOUR help to solve them. Because you view them differently\, faster\, bolder and with more creativity. Hack4SmartServices brings together inventive people who come up with solutions to complex challenges. Whether you are a developer\, lawyer\, student\, marketer\, or anyone who loves problem-solving and a little challenge. \nThis fall marks the fifth edition of the Hack4SmartServices hackathon with the theme: Society of the future.\nYou are invited to scratch your head on one of the four challenges. Together with other like-minded people\, you will work in a team for an entire weekend\, on an innovative solution for the challenge of your choice. The solutions will be presented on Sunday afternoon to a panel of judges\, who then\, will announce the winners of the hackathon. \nBesides brainteasers\, we promise you some relaxing time as well. A bit of running around with your nerf gun\, professional frisbeeing during our frisbee cup and indoor camping at night\, with a relaxing yoga session in the morning. Oh! And we also serve food. \nLearn more & Register
URL:https://www.aachen.digital/en/event/brightlands-hack4smartservices-hackathon-society-of-the-future/
ATTACH;FMTTYPE=image/jpeg:https://www.aachen.digital/wp-content/uploads/2023/10/bssc_hackathon-Stage.jpg
END:VEVENT
BEGIN:VEVENT
DTSTART;TZID=Europe/Berlin:20231102T173000
DTEND;TZID=Europe/Berlin:20231102T210000
DTSTAMP:20260423T180144
CREATED:20231031T085953Z
LAST-MODIFIED:20231031T093640Z
UID:10005973-1698946200-1698958800@www.aachen.digital
SUMMARY:Pre-event Brightlands Hack4SmartServices Hackathon
DESCRIPTION:Will you take on the challenges and helf build the society of the future? \nDuring this event\, we will give you more information and details about the four hackathon challenges. The challenge owners; APG\, IPO & Province of Limburg and VDL Nedcar\, will be available to answer all your questions. \nThis event aims to inspire you and give you a kickstart at generating ideas. Participating is not mandatory but will help you prepare for and gain insights about the hackathon. \nAgenda: \n17:30 \n\n Arrival of guests\nWelcome\nSmart Services – Say what?\nOverview of the Challenges\nHow to win a Hackathon?\nFutures Ecologies for Strategic Scenarios\nAbout Hack4SmartServices\nNetworking Drink\n\n21.00 \nRegister here! \nTo the main event!
URL:https://www.aachen.digital/en/event/pre-event-brightlands-hack4smartservices-hackathon/
ATTACH;FMTTYPE=image/jpeg:https://www.aachen.digital/wp-content/uploads/2023/10/bssc_hackathon-Stage.jpg
END:VEVENT
BEGIN:VEVENT
DTSTART;TZID=Europe/Berlin:20230627T120000
DTEND;TZID=Europe/Berlin:20230627T180000
DTSTAMP:20260423T180144
CREATED:20230614T084423Z
LAST-MODIFIED:20230614T084521Z
UID:10006496-1687867200-1687888800@www.aachen.digital
SUMMARY:Health Innovation Euregion
DESCRIPTION:We know from experience that it is much better and easier to fulfil promising ideas and ambitious aspirations if you work on them together. And if you come into contact with the right people and groups\, if you know who to contact for what\, and if you know the best routes to take for the paths that are right for you. \nAt the Health Innovation Euregion 2023\, we bring beginning and more established entrepreneurs and scientists in contact with relevant authorities and organizations\, with investors\, and with experienced entrepreneurs and other parties that can help. So that they can meet one another\, do things together\, share good and bad experiences\, learn from and with one another\, and more. \nSIGN UP NOW
URL:https://www.aachen.digital/en/event/health-innovation-euregion/
LOCATION:MECC Mastricht\, Maastricht\, 6229 GV
ATTACH;FMTTYPE=image/jpeg:https://www.aachen.digital/wp-content/uploads/2023/06/brightlands_stage.jpg
END:VEVENT
BEGIN:VEVENT
DTSTART;TZID=Europe/Berlin:20230512T163000
DTEND;TZID=Europe/Berlin:20230514T180000
DTSTAMP:20260423T180144
CREATED:20230419T075303Z
LAST-MODIFIED:20230419T082458Z
UID:10006455-1683909000-1684087200@www.aachen.digital
SUMMARY:Hack4SmartServices - Society of The Future
DESCRIPTION:This hackathon presents an incredible opportunity to collaborate with other talented individuals and work towards creating innovative solutions that can shape a better future for us all. \nDuring the hackathon you will tackle one of the challenges\, using technology. In a small team of 4-6 people\, you come up with a solution and work out a proof-of-concept and business plan. Throughout the weekend coaches will help you with different aspects: how to use smart technology\, set up experiments\, analyze data and build algorithms\, write software\, make a business case and pitch your idea. \nBy joining us for this hackathon\, you’ll be part of a community that is dedicated to using technology for good and making a difference in the world. \nThis year’s Challenges and Challenge Owners:\nAPG: Smart Financial Services – Customer engagement in the Metaverse – What does customer engagement look like in the Metaverse for a pension administrator like APG?\nIPO: Smart Cities – Shape the future of housing planning – How can we use data to shape the future of housing planning?\nPolice and municipality of Maastricht: Smart Public Safety – How can BOA (special investigating officer) and police use smart technologies and data to bridge the information and collaboration gap?\nVDL Nedcar: Smart Manufacturing/Industry 4.0 – AI as a superguide in real-time manufacturing – How can AI support in preventing production downtime\, understanding complex errors faster by identifying the root-cause\, and guiding efficient production startup? \nINFORMATION & REGISTRARTION
URL:https://www.aachen.digital/en/event/hack4smartservices-society-of-the-future/
ATTACH;FMTTYPE=image/jpeg:https://www.aachen.digital/wp-content/uploads/2023/04/Hackathon_stage.jpg
END:VEVENT
BEGIN:VEVENT
DTSTART;TZID=Europe/Berlin:20190509T103000
DTEND;TZID=Europe/Berlin:20190509T120000
DTSTAMP:20260423T180144
CREATED:20190425T112921Z
LAST-MODIFIED:20190425T113201Z
UID:10004990-1557397800-1557403200@www.aachen.digital
SUMMARY:Brightlands Techruption & IBM present: Get Quantum ready!
DESCRIPTION:Over 50 years of advances in mathematics\, materials science\, and computer science have transformed quantum computing from theory to reality. Today\, everyone can access this technology thanks to IBM. Real quantum computers can be accessed through the cloud\, and many thousands of people have used them to learn\, conduct research\, and tackle new problems. \nQuantum computers could one day provide breakthroughs in many disciplines\, including materials and drug discovery\, the optimization of complex systems\, finance calculations\, and artificial intelligence. But to realize those breakthroughs\, and to make quantum computers widely useable and accessible\, we need to reimagine information processing and the machines that do it.\nImagine that you could travel back in time to better prepare yourself for the rise of the Internet or mobile devices. That’s the opportunity that exists now with quantum computing!\nThis seminar will introduce quantum computing\, quantum use cases\, and what you can do to get quantum ready. \nDate: Thursday May 9\nTime: 10:30 – 12:00\nLocation: Brightlands Smart Services Campus\, Heerlen \nNo technical background is required to join.\nReserve your seat now\, limited spaces are available here: REGISTER \nGo to brightlands.com for the latest news and background Information: \nBrightlands.com
URL:https://www.aachen.digital/en/event/brightlands-techruption-ibm-present-get-quantum-ready/
ATTACH;FMTTYPE=image/jpeg:https://www.aachen.digital/wp-content/uploads/2018/09/AdobeStock_177732957.jpeg
END:VEVENT
END:VCALENDAR