BEGIN:VCALENDAR
VERSION:2.0
PRODID:-//digitalHUB Aachen - ECPv6.15.20//NONSGML v1.0//EN
CALSCALE:GREGORIAN
METHOD:PUBLISH
X-WR-CALNAME:digitalHUB Aachen
X-ORIGINAL-URL:https://www.aachen.digital/en/
X-WR-CALDESC:Events for digitalHUB Aachen
REFRESH-INTERVAL;VALUE=DURATION:PT1H
X-Robots-Tag:noindex
X-PUBLISHED-TTL:PT1H
BEGIN:VTIMEZONE
TZID:Europe/Berlin
BEGIN:DAYLIGHT
TZOFFSETFROM:+0100
TZOFFSETTO:+0200
TZNAME:CEST
DTSTART:20200329T010000
END:DAYLIGHT
BEGIN:STANDARD
TZOFFSETFROM:+0200
TZOFFSETTO:+0100
TZNAME:CET
DTSTART:20201025T010000
END:STANDARD
BEGIN:DAYLIGHT
TZOFFSETFROM:+0100
TZOFFSETTO:+0200
TZNAME:CEST
DTSTART:20210328T010000
END:DAYLIGHT
BEGIN:STANDARD
TZOFFSETFROM:+0200
TZOFFSETTO:+0100
TZNAME:CET
DTSTART:20211031T010000
END:STANDARD
BEGIN:DAYLIGHT
TZOFFSETFROM:+0100
TZOFFSETTO:+0200
TZNAME:CEST
DTSTART:20220327T010000
END:DAYLIGHT
BEGIN:STANDARD
TZOFFSETFROM:+0200
TZOFFSETTO:+0100
TZNAME:CET
DTSTART:20221030T010000
END:STANDARD
END:VTIMEZONE
BEGIN:VEVENT
DTSTART;TZID=Europe/Berlin:20210826T140000
DTEND;TZID=Europe/Berlin:20210826T180000
DTSTAMP:20260423T220711
CREATED:20210809T075640Z
LAST-MODIFIED:20210809T075840Z
UID:10005995-1629986400-1630000800@www.aachen.digital
SUMMARY:Virtuelle Job- und Qualifizierungsbörse für Aachen
DESCRIPTION:für Jobsuchende\, Unternehmen und Bildungsträger\n\nBei der ersten virtuellen Job- und Qualifizierungsbörse bringt die Stadt Aachen zusammen mit der Städteregion Aachen\, dem Jobcenter der StädteRegion Aachen und der Bundesagentur für Arbeit Aachen – Düren Arbeitssuchende\, Beschäftigte\, Helfer\, Un- und Angelernte\, Fachkräfte und alle die auf der Suche nach einer neuen beruflichen Tätigkeit sind mit Unternehmen aus der Region zusammen. Das Besondere an dem Event ist die gezielte Involvierung von regionalen Bildungsträgern. Denn sollten evtl. Qualifikationen oder Kenntnisse für den perfekten Job / die perfekte Fachkraft fehlen\, wird am Veranstaltungstag direkt der passende Bildungsträger zur Seite gestellt. \nÜber die eingebundene Matching-Plattform von Anny\, eines unserer Startups aus der digitalHUB Community\, können Jobsuchende direkt die passende Stelle finden. \nDie Anmeldung für Unternehmen und Bildungsträger ist noch bis zum 12. August möglich. \nAnmeldung und weitere Informationen: https://www.jobboerse.ac/
URL:https://www.aachen.digital/en/event/virtuelle-job-und-qualifizierungsboerse-fuer-aachen/
LOCATION:Jülicher Strasse 72a\, Aachen\, 52070\, Germany
ATTACH;FMTTYPE=image/jpeg:https://www.aachen.digital/wp-content/uploads/2021/08/stage-jobboerse.jpg
END:VEVENT
END:VCALENDAR