BEGIN:VCALENDAR
VERSION:2.0
PRODID:-//digitalHUB Aachen - ECPv6.15.20//NONSGML v1.0//EN
CALSCALE:GREGORIAN
METHOD:PUBLISH
X-ORIGINAL-URL:https://www.aachen.digital/en/
X-WR-CALDESC:Events for digitalHUB Aachen
REFRESH-INTERVAL;VALUE=DURATION:PT1H
X-Robots-Tag:noindex
X-PUBLISHED-TTL:PT1H
BEGIN:VTIMEZONE
TZID:Europe/Berlin
BEGIN:DAYLIGHT
TZOFFSETFROM:+0100
TZOFFSETTO:+0200
TZNAME:CEST
DTSTART:20200329T010000
END:DAYLIGHT
BEGIN:STANDARD
TZOFFSETFROM:+0200
TZOFFSETTO:+0100
TZNAME:CET
DTSTART:20201025T010000
END:STANDARD
BEGIN:DAYLIGHT
TZOFFSETFROM:+0100
TZOFFSETTO:+0200
TZNAME:CEST
DTSTART:20210328T010000
END:DAYLIGHT
BEGIN:STANDARD
TZOFFSETFROM:+0200
TZOFFSETTO:+0100
TZNAME:CET
DTSTART:20211031T010000
END:STANDARD
BEGIN:DAYLIGHT
TZOFFSETFROM:+0100
TZOFFSETTO:+0200
TZNAME:CEST
DTSTART:20220327T010000
END:DAYLIGHT
BEGIN:STANDARD
TZOFFSETFROM:+0200
TZOFFSETTO:+0100
TZNAME:CET
DTSTART:20221030T010000
END:STANDARD
BEGIN:DAYLIGHT
TZOFFSETFROM:+0100
TZOFFSETTO:+0200
TZNAME:CEST
DTSTART:20230326T010000
END:DAYLIGHT
BEGIN:STANDARD
TZOFFSETFROM:+0200
TZOFFSETTO:+0100
TZNAME:CET
DTSTART:20231029T010000
END:STANDARD
BEGIN:DAYLIGHT
TZOFFSETFROM:+0100
TZOFFSETTO:+0200
TZNAME:CEST
DTSTART:20240331T010000
END:DAYLIGHT
BEGIN:STANDARD
TZOFFSETFROM:+0200
TZOFFSETTO:+0100
TZNAME:CET
DTSTART:20241027T010000
END:STANDARD
BEGIN:DAYLIGHT
TZOFFSETFROM:+0100
TZOFFSETTO:+0200
TZNAME:CEST
DTSTART:20250330T010000
END:DAYLIGHT
BEGIN:STANDARD
TZOFFSETFROM:+0200
TZOFFSETTO:+0100
TZNAME:CET
DTSTART:20251026T010000
END:STANDARD
BEGIN:DAYLIGHT
TZOFFSETFROM:+0100
TZOFFSETTO:+0200
TZNAME:CEST
DTSTART:20260329T010000
END:DAYLIGHT
BEGIN:STANDARD
TZOFFSETFROM:+0200
TZOFFSETTO:+0100
TZNAME:CET
DTSTART:20261025T010000
END:STANDARD
END:VTIMEZONE
BEGIN:VEVENT
DTSTART;TZID=Europe/Berlin:20250902T130000
DTEND;TZID=Europe/Berlin:20250902T170000
DTSTAMP:20260423T202922
CREATED:20250901T073150Z
LAST-MODIFIED:20250901T073150Z
UID:10007417-1756818000-1756832400@www.aachen.digital
SUMMARY:Cross-Innovation Werkstatt: Bauen und Energie
DESCRIPTION:Worum geht’s?\nDie Cross-Innovations-Werkstatt bringt Fachleute aus Bauwesen\, Energietechnik\, Gesundheitsversorgung und Forschung zusammen. Im Fokus stehen nachhaltige und energieeffiziente Lösungen für Gebäude im Gesundheitswesen – von der Planung bis zum Betrieb. \nTeilnehmende erwartet ein interaktives Format mit Impulsen\, Workshops und viel Raum für Austausch über Branchen hinweg. \nZielgruppe:\n• Planer*innen\, Architekt*innen\, Ingenieur*innen\n• Vertreter*innen von Krankenhäusern\, Pflegeeinrichtungen & Verwaltung\n• Forschende & Innovationstreibende im Bereich Bau\, Energie & Gesundheit \nTeilnahme: kostenfrei – begrenzte Plätze \nJetzt anmelden \n 
URL:https://www.aachen.digital/en/event/cross-innovation-werkstatt-bauen-und-energie/
LOCATION:Manfred-Weck-Haus\, Steinbachstraße 19\, Aachen\, 52074\, Deutschland
ATTACH;FMTTYPE=image/jpeg:https://www.aachen.digital/wp-content/uploads/2025/06/cross-innovations-werkstatt.jpg
END:VEVENT
BEGIN:VEVENT
DTSTART;TZID=Europe/Berlin:20250625T130000
DTEND;TZID=Europe/Berlin:20250625T170000
DTSTAMP:20260423T202922
CREATED:20250610T132709Z
LAST-MODIFIED:20250610T132709Z
UID:10007344-1750856400-1750870800@www.aachen.digital
SUMMARY:Cross-Innovation Werkstatt: Mobility
DESCRIPTION:Neue Ideen für eine zukunftsfähige Mobilität im Gesundheitswesen gesucht! \nWie können Mobilitätslösungen im Gesundheitswesen effizienter\, nachhaltiger und nutzerorientierter gestaltet werden? Welche innovativen Konzepte tragen dazu bei\, ökologische Verantwortung mit praktikablen Lösungen für Patient*innen\, Personal und Logistik zu verbinden? \nGenau diesen Fragen widmet sich die Cross-Innovation Werkstatt am 25. Juni 2025 in Aachen – und du bist herzlich eingeladen\, dabei zu sein! \nWann? 25. Juni 2025 | 13:00 – 17:00 Uhr \nWo? Raum Orange im Produktionscluster\, Campus-Boulevard 30\, 52074 Aachen \nWas dich erwartet:\nIn einem kreativen und interdisziplinären Rahmen entstehen neue Perspektiven und Projektideen rund um eine nachhaltige Mobilität in der Gesundheitswirtschaft. \nZiel ist es\, innovative Mobilitätsansätze zu entwickeln\, die Nachhaltigkeit\, Effizienz und Nutzerfreundlichkeit vereinen – mit konkreten Lösungen für Krankenhäuser\, Pflegeeinrichtungen und Rettungsdienste. \nWarum du dabei sein solltest: \n\ndu erhältst neue Impulse für deine Arbeit oder dein Projekt\ndu vernetzt dich mit Expert*innen aus Medizin\, Technik\, Logistik und Verwaltung\ndu bringst eigene Ideen ein und entwickelst sie gemeinsam weiter\ndu wirst Teil eines Netzwerks\, das Mobilität im Gesundheitswesen neu denkt\n\nJetzt anmelden! Wir suchen Expert:innen\, Praktiker:innen\, Forschende aus Gesundheit und Mobilität. Die Teilnahme ist kostenlos. Bitte melde dich bis zum 22. Juni 2025 an. Alle weiteren Infos sind dem Einladungsflyer zu entnehmen. \nJetzt anmelden \n 
URL:https://www.aachen.digital/en/event/cross-innovation-werkstatt-mobility/
LOCATION:Campus Melaten\, RWTH Aachen\, Deutschland
ATTACH;FMTTYPE=image/jpeg:https://www.aachen.digital/wp-content/uploads/2025/06/cross-innovations-werkstatt.jpg
END:VEVENT
BEGIN:VEVENT
DTSTART;TZID=Europe/Berlin:20220223T160000
DTEND;TZID=Europe/Berlin:20220223T180000
DTSTAMP:20260423T202922
CREATED:20220105T121323Z
LAST-MODIFIED:20220318T083209Z
UID:10006090-1645632000-1645639200@www.aachen.digital
SUMMARY:Routen der Innovation – Care Edition
DESCRIPTION:“Routen der Innovation“ ist eine Veranstaltungsreihe von Care + Mobility Innovation\, bei der Innovationen aus der gesamten Region Aachen anschaulich präsentiert werden. \nAm 23. Februar findet die zweite „Care Edition“ statt. Beim Online-Event präsentieren Ihnen Innovator:innen innovative Ideen und Produkte rund um das Thema Care per live Stream über Zoom. Es gibt zahlreiche Good-Practice-Beispiele im Bereich der digitalen Gesundheitswirtschaft und der intelligenten Mobilität. Diese möchten wir mit unseren „Routen der Innovation“ für Sie erlebbar machen! Ob Bürger:in\, Interessierte  oder Fachpublikum\, wir laden Sie alle herzlich ein\, mit uns spannende Projekte und Innovationen aus der gesamten Region digital zu besuchen und kennenzulernen. \nAnmeldung \nInfomieren Sie sich und seien Sie gespannt auf neuste Entwicklungen aus den Bereichen Medizin und Pflege: \nProgramm: Innovationen & Projekte der Region \n• Universitätsklinikum Aachen (UKA)\, Pharmazie in der Telemedizin \n• ReHappy GmbH\, App Schlaganfall-Nachsorge \n• NevisQ GmbH\, Innovative Sturztechnologie für die Pflege \n• InnosurgeAC\, Automatisierte Chirurgie-Planung \n• Diers GmbH\, Projekt: PfleKoRo\, Robotereinsatz in der Pflege \n• UKA\, Projekt: Optimal@NRW\, Sektorenübergreifende Akutversorgung per Telemedizin \n• Clinomic GmbH\, Mona: Alexa für die Intensivstation \n• Techniker Krankenkasse – Innovationsportal \n• BeMyPT\, digitale BGM-Plattform \n• St. Augustinus Krankenhaus Düren\, Digitale Fortbildungen für medizinische Fachkräfte \n  \nDie Veranstaltung findet im Rahmen des EU-Projektes Care and Mobility Innovation statt. \nMit finanzieller Unterstützung des Landes Nordrhein-Westfalen und der Europäischen Union
URL:https://www.aachen.digital/en/event/routen-der-innovation-care-edition-februar/
LOCATION:Jülicher Strasse 72a\, Aachen\, 52070\, Germany
ATTACH;FMTTYPE=image/jpeg:https://www.aachen.digital/wp-content/uploads/2022/01/RoutenderInnovation_stage1-1.jpg
END:VEVENT
BEGIN:VEVENT
DTSTART;TZID=Europe/Berlin:20210928T150000
DTEND;TZID=Europe/Berlin:20210928T180000
DTSTAMP:20260423T202922
CREATED:20210816T090504Z
LAST-MODIFIED:20210913T073352Z
UID:10006001-1632841200-1632852000@www.aachen.digital
SUMMARY:Innovationkonferenz - Care and Mobility Innovation
DESCRIPTION:Wie wollen wir in Zukunft leben? Gut versorgt und intelligent mobil am Innovationsstandort Region Aachen\nWas sind unsere Potenziale\, Stärken\, Bedarfe und Heraus­forderungen für eine vernetzte Mobilität und digitale Gesundheitswirtschaft in der Region Aachen? Darauf haben wir von Pflegeeinrichtungen\, Verkehrverbünden\, Forschungseinrichtungen\, Fachverbänden\, Rettungsdiensten\, Start-Ups\, Kommunen\, Hochschulinstituten und anderen zentralen Akteuren wertvolle Antworten erhalten: Im Rahmen unserer Potenzialanalyse wurde uns in Befragungen\, regionalen Dialogen und Strategieworkshops ein facettenreiches Bild aufgezeigt. \nNun freuen wir uns Ihnen die Ergebnisse zu präsentieren. Denn daraus erschließt sich eine gemeinsam getragene Roadmap zur Realisierung von kurz-\, mittel- und langfristigen digitalen Lösungen für die beiden Leitmärkte digitale Gesundheitswirtschaft und intelligente Mobilität. Zudem zeigt sich ein großes Potenzial an Cross-Innovationen durch die Verknüpfung beider Branchen. \nZUR ANMELDUNG
URL:https://www.aachen.digital/en/event/innovationkonferenz/
ATTACH;FMTTYPE=image/jpeg:https://www.aachen.digital/wp-content/uploads/2021/08/Hintergrundbild-cm.jpg
END:VEVENT
END:VCALENDAR