BEGIN:VCALENDAR
VERSION:2.0
PRODID:-//digitalHUB Aachen - ECPv6.15.20//NONSGML v1.0//EN
CALSCALE:GREGORIAN
METHOD:PUBLISH
X-ORIGINAL-URL:https://www.aachen.digital/en/
X-WR-CALDESC:Events for digitalHUB Aachen
REFRESH-INTERVAL;VALUE=DURATION:PT1H
X-Robots-Tag:noindex
X-PUBLISHED-TTL:PT1H
BEGIN:VTIMEZONE
TZID:Europe/Berlin
BEGIN:DAYLIGHT
TZOFFSETFROM:+0100
TZOFFSETTO:+0200
TZNAME:CEST
DTSTART:20250330T010000
END:DAYLIGHT
BEGIN:STANDARD
TZOFFSETFROM:+0200
TZOFFSETTO:+0100
TZNAME:CET
DTSTART:20251026T010000
END:STANDARD
BEGIN:DAYLIGHT
TZOFFSETFROM:+0100
TZOFFSETTO:+0200
TZNAME:CEST
DTSTART:20260329T010000
END:DAYLIGHT
BEGIN:STANDARD
TZOFFSETFROM:+0200
TZOFFSETTO:+0100
TZNAME:CET
DTSTART:20261025T010000
END:STANDARD
BEGIN:DAYLIGHT
TZOFFSETFROM:+0100
TZOFFSETTO:+0200
TZNAME:CEST
DTSTART:20270328T010000
END:DAYLIGHT
BEGIN:STANDARD
TZOFFSETFROM:+0200
TZOFFSETTO:+0100
TZNAME:CET
DTSTART:20271031T010000
END:STANDARD
END:VTIMEZONE
BEGIN:VEVENT
DTSTART;TZID=Europe/Berlin:20260122T100000
DTEND;TZID=Europe/Berlin:20260122T130000
DTSTAMP:20260423T180259
CREATED:20251215T151232Z
LAST-MODIFIED:20251215T151232Z
UID:10007577-1769076000-1769086800@www.aachen.digital
SUMMARY:Förderanträge schreiben mit KI
DESCRIPTION:Praxisnahe Einführung in den Einsatz von Künstlicher Intelligenz beim Schreiben von Fördermittelanträgen und in der Projektentwicklung \nINHALT \nViele Menschen in gemeinnützigen Organisationen stehen vor der Herausforderung\, gute Fördermittelanträge zu schreiben. In dieser Fortbildung entwickeln die Caritas und Sie gemeinsam ein Verständnis dafür\, was einen überzeugenden Antrag ausmacht und wie uns KI bei der Projektentwicklung und im Schreibprozess gezielt unterstützen kann.\nIn einer praxisnahen Übung führt die Caritas Sie durch alle Phasen der Erstellung eines Förderantrags: von der Idee über den ersten Entwurf und einen Kostenplan bis hin zur finalen Textüberarbeitung.\nSie lernen\, wie Sie mit dem Einsatz von ChatGPT & Co. Zeit sparen und die Qualität Ihrer Texte verbessern – ohne dass Sie zur Technikexpertin oder zum Technikexperten werden müssen. \nZIELE \n\nSie erhalten Einblicke in erprobte Methoden und Arbeitsweisen der Fördermittelgewinnung.\nSie lernen anhand konkreter Beispiele\, wie KI-Tools in der Fördermittelgewinnung eingesetzt werden können.\nSie lernen den KIAD-Ansatz (Kontext\, Input & Interaktion\, Assistenten\, Dokumentation) als strukturierte Herangehensweise an KI-Nutzung kennen.\nSie lernen\, welche Informationen Sie der KI bereitstellen müssen\, damit sie Sie gezielt und effektiv beim Verfassen von Förderanträgen unterstützt.\nSie entdecken verschiedene Möglichkeiten\, wie Sie mit KI arbeiten können – zum Beispiel mithilfe von Texten\, PDFs\, Tabellen oder Bildern.\nSie erkennen\, welche ethischen Aspekte beim KI-Einsatz berücksichtigt werden müssen.\n\nZielgruppe \nEhrenamtskoordinatorinnen und -koordinatoren\, Personen in gemeinnützigen Organisationen\, die Fördermittel beantragen und sich für den praxisnahen Einsatz von KI interessieren \nAnmeldefrist: 18.12.25 \nKosten: 60€ \nANMELDUNG
URL:https://www.aachen.digital/en/event/foerderantraege-schreiben-mit-ki/
LOCATION:online
ATTACH;FMTTYPE=image/jpeg:https://www.aachen.digital/wp-content/uploads/2025/12/Design-ohne-Titel-37.jpg
END:VEVENT
END:VCALENDAR