BEGIN:VCALENDAR
VERSION:2.0
PRODID:-//digitalHUB Aachen - ECPv6.15.20//NONSGML v1.0//EN
CALSCALE:GREGORIAN
METHOD:PUBLISH
X-ORIGINAL-URL:https://www.aachen.digital/en/
X-WR-CALDESC:Events for digitalHUB Aachen
REFRESH-INTERVAL;VALUE=DURATION:PT1H
X-Robots-Tag:noindex
X-PUBLISHED-TTL:PT1H
BEGIN:VTIMEZONE
TZID:Europe/Berlin
BEGIN:DAYLIGHT
TZOFFSETFROM:+0100
TZOFFSETTO:+0200
TZNAME:CEST
DTSTART:20230326T010000
END:DAYLIGHT
BEGIN:STANDARD
TZOFFSETFROM:+0200
TZOFFSETTO:+0100
TZNAME:CET
DTSTART:20231029T010000
END:STANDARD
BEGIN:DAYLIGHT
TZOFFSETFROM:+0100
TZOFFSETTO:+0200
TZNAME:CEST
DTSTART:20240331T010000
END:DAYLIGHT
BEGIN:STANDARD
TZOFFSETFROM:+0200
TZOFFSETTO:+0100
TZNAME:CET
DTSTART:20241027T010000
END:STANDARD
BEGIN:DAYLIGHT
TZOFFSETFROM:+0100
TZOFFSETTO:+0200
TZNAME:CEST
DTSTART:20250330T010000
END:DAYLIGHT
BEGIN:STANDARD
TZOFFSETFROM:+0200
TZOFFSETTO:+0100
TZNAME:CET
DTSTART:20251026T010000
END:STANDARD
END:VTIMEZONE
BEGIN:VEVENT
DTSTART;TZID=Europe/Berlin:20240524T130000
DTEND;TZID=Europe/Berlin:20240524T170000
DTSTAMP:20260423T192430
CREATED:20240419T094043Z
LAST-MODIFIED:20240419T110528Z
UID:10006769-1716555600-1716570000@www.aachen.digital
SUMMARY:CFD Training Series Introduction to Kernel-based approximation methods with applications to fluid dynamics
DESCRIPTION:When data is provided in an unstructured format or is high-dimensional\, classical interpolation or approximation schemes as Finite-Element Methods (FEM) struggle to be accurate and efficient. An alternative is provided by kernel-based approaches in the Reproducing Kernel Hilbert space (RKHS) framework. Common applications range from support vector machines in context of machine learning to reconstruction of image data. In this course\, we will introduce the framework for kernel-based approximation schemes and discuss how one can implement them efficiently. At the end we will look at possible applications of kernel-based methods in context of fluid dynamics and particle methods. \n  \nIn Kooperation mit dem EDIH Rheinland \n  \nZUR ANMELDUNG
URL:https://www.aachen.digital/en/event/cfd-training-series-introduction-to-kernel-based-approximation-methods-with-applications-to-fluid-dynamics/
LOCATION:Hybrid
ATTACH;FMTTYPE=image/jpeg:https://www.aachen.digital/wp-content/uploads/2024/04/stage-early-birds-1-1.jpg
END:VEVENT
BEGIN:VEVENT
DTSTART;TZID=Europe/Berlin:20240514T130000
DTEND;TZID=Europe/Berlin:20240514T170000
DTSTAMP:20260423T192430
CREATED:20240419T093737Z
LAST-MODIFIED:20240419T110601Z
UID:10006768-1715691600-1715706000@www.aachen.digital
SUMMARY:CFD Training Series Introduction to eXtended Discontinuous Galerkin Methods for Multi-Phase Flow Problems
DESCRIPTION:In this course\, we cover the main building blocks to solve multi-phase flow problems using the extended Discontinuous Galerkin (XDG) method. The course consists of a combination of presentations and hands-on exercises in which a simple XDG two-phase flow solver is implemented and run on some test cases within our open-source code framework BoSSS. \nIn Kooperation mit dem EDIH Rheinland \nZUR ANMELDUNG
URL:https://www.aachen.digital/en/event/cfd-training-series-introduction-to-extended-discontinuous-galerkin-methods-for-multi-phase-flow-problems/
LOCATION:online
ATTACH;FMTTYPE=image/jpeg:https://www.aachen.digital/wp-content/uploads/2024/04/stage-early-birds-1-1.jpg
END:VEVENT
BEGIN:VEVENT
DTSTART;TZID=Europe/Berlin:20240507T130000
DTEND;TZID=Europe/Berlin:20240507T170000
DTSTAMP:20260423T192430
CREATED:20240419T093331Z
LAST-MODIFIED:20240419T110610Z
UID:10006767-1715086800-1715101200@www.aachen.digital
SUMMARY:CFD Training Series Introduction to Turbulence Modeling and Numerical Implementation
DESCRIPTION:In this course\, the introduction to the structural properties of various turbulence modeling concepts (RANS\, LES\, and Hybrid RANS/LES) including associated equations will be given. In addition to the presentation\, the corresponding computational setup including pre-processing\, simulation implementation\, and post-processing for some illustrative flow configurations will be provided based on the open-source CFD software OpenFOAM. \nIn Kooperation mit dem EDIH Rheinland \n  \nZUR ANMELDUNG
URL:https://www.aachen.digital/en/event/cfd-training-series-introduction-to-turbulence-modeling-and-numerical-implementation/
LOCATION:online
ATTACH;FMTTYPE=image/jpeg:https://www.aachen.digital/wp-content/uploads/2024/04/stage-early-birds-1-1.jpg
END:VEVENT
BEGIN:VEVENT
DTSTART;TZID=Europe/Berlin:20240430T130000
DTEND;TZID=Europe/Berlin:20240430T170000
DTSTAMP:20260423T192430
CREATED:20240419T091359Z
LAST-MODIFIED:20240419T110627Z
UID:10006766-1714482000-1714496400@www.aachen.digital
SUMMARY:CFD Training Series Efficient HPC implementation for Lagrangian particle trackin
DESCRIPTION:In this course\, the basics of Lagrangian point particle methods for the application on HPC systems are covered. The course consists of an introduction to the applied method\, followed by a hands-on exercise using the in-house simulation framework m-AIA. The topics covered are spherical and non-spherical particles and the efficient implementation of point particle methods for the use in HPC. The course will be held in person at the Chair of Fluid Mechanics and Institute of Aerodynamics at RWTH Aachen University in Aachen. The presentations will also be available via online live stream. \n  \nZUR ANMELDUNG \nIn Kooperation mit dem EDIH Rheinland
URL:https://www.aachen.digital/en/event/cfd-training-series-efficient-hpc-implementation-for-lagrangian-particle-trackin/
LOCATION:Hybrid
ATTACH;FMTTYPE=image/jpeg:https://www.aachen.digital/wp-content/uploads/2024/04/stage-early-birds-1.jpg
END:VEVENT
BEGIN:VEVENT
DTSTART;TZID=Europe/Berlin:20240423T130000
DTEND;TZID=Europe/Berlin:20240423T170000
DTSTAMP:20260423T192430
CREATED:20240419T091001Z
LAST-MODIFIED:20240419T110638Z
UID:10006765-1713877200-1713891600@www.aachen.digital
SUMMARY:CFD Training Series: Introduction to Finite Element Methods for Flow Problems
DESCRIPTION:In this course\, we cover various techniques to solve fluid flow problems using the finite element method. Topics of numerical instabilities that result from the underlying formulation will be presented. Furthermore\, we will review relevant stabilization techniques that are used to tackle such instabilities. The course consists of a combination of presentations and hands-on coding exercises in which the various methods are discussed and implemented within a basic finite element solver using Python. \nIn Kooperation mit dem EDIH Rheinland. \nZUR ANMELDUNG
URL:https://www.aachen.digital/en/event/cfd-training-series-introduction-to-finite-element-methods-for-flow-problems/
LOCATION:online
ATTACH;FMTTYPE=image/jpeg:https://www.aachen.digital/wp-content/uploads/2024/04/stage-early-birds-1.jpg
END:VEVENT
END:VCALENDAR