BEGIN:VCALENDAR
VERSION:2.0
PRODID:-//digitalHUB Aachen - ECPv6.15.20//NONSGML v1.0//EN
CALSCALE:GREGORIAN
METHOD:PUBLISH
X-ORIGINAL-URL:https://www.aachen.digital/en/
X-WR-CALDESC:Events for digitalHUB Aachen
REFRESH-INTERVAL;VALUE=DURATION:PT1H
X-Robots-Tag:noindex
X-PUBLISHED-TTL:PT1H
BEGIN:VTIMEZONE
TZID:Europe/Berlin
BEGIN:DAYLIGHT
TZOFFSETFROM:+0100
TZOFFSETTO:+0200
TZNAME:CEST
DTSTART:20190331T010000
END:DAYLIGHT
BEGIN:STANDARD
TZOFFSETFROM:+0200
TZOFFSETTO:+0100
TZNAME:CET
DTSTART:20191027T010000
END:STANDARD
BEGIN:DAYLIGHT
TZOFFSETFROM:+0100
TZOFFSETTO:+0200
TZNAME:CEST
DTSTART:20200329T010000
END:DAYLIGHT
BEGIN:STANDARD
TZOFFSETFROM:+0200
TZOFFSETTO:+0100
TZNAME:CET
DTSTART:20201025T010000
END:STANDARD
BEGIN:DAYLIGHT
TZOFFSETFROM:+0100
TZOFFSETTO:+0200
TZNAME:CEST
DTSTART:20210328T010000
END:DAYLIGHT
BEGIN:STANDARD
TZOFFSETFROM:+0200
TZOFFSETTO:+0100
TZNAME:CET
DTSTART:20211031T010000
END:STANDARD
END:VTIMEZONE
BEGIN:VEVENT
DTSTART;TZID=Europe/Berlin:20200213T180000
DTEND;TZID=Europe/Berlin:20200213T220000
DTSTAMP:20260424T000226
CREATED:20200127T124848Z
LAST-MODIFIED:20221213T132514Z
UID:10005507-1581616800-1581631200@www.aachen.digital
SUMMARY:13. trinationales Unternehmertreffen der Charlemagne Grenzregion
DESCRIPTION:Workshop in der Reihe “Charlemagne Interaktiv” – Cybersecurity für kleine und mittelständische Unternehmen\nDie Sicherheit der IT Systeme ist in Unternehmen ein sehr brisantes Thema. Hackerangriffe auf Unternehmen und Institutionen sind regelmäßig Gegenstand ausführlicher Berichterstattung in öffentlichen Medien. Welche Unternehmen sind von Cyerkriminalität betroffen? Handelt es sich dabei nur um „große“ Unternehmen\, oder sind auch kleine und mittelständische Unternehmen von dieser Gefahr betroffen? Welche Risiken birgt digitales Arbeiten? Wie gehen Sie mit Phishing-Mails um? Und welche Maßnahmen können Sie in Ihrem Unternehmen ergreifen? \nDiesen und anderen Fragen möchten wir mit einem kurzen innovativen Vortrag und einem Workshop nachgehen. Seien Sie dabei und lassen sich von den Impulsen unserer Nachbarn inspirieren! Wir freuen uns auf einen interaktiven Austausch mit Ihnen. \nAnmeldung bis zum 10. Feburar möglich. \nWEITERE INFOS & ANMELDUNG HIER \nBei Fragen bitte an h.klinkers@parkstad-limburg.nl oder luise.clemens@mail.aachen.de wenden.
URL:https://www.aachen.digital/en/event/13-trinationales-unternehmertreffen-der-charlemagne-grenzregion/
ATTACH;FMTTYPE=image/jpeg:https://www.aachen.digital/wp-content/uploads/2020/01/Charlemagne-aktiv-12zu5.jpg
END:VEVENT
END:VCALENDAR