BEGIN:VCALENDAR
VERSION:2.0
PRODID:-//digitalHUB Aachen - ECPv6.15.20//NONSGML v1.0//EN
CALSCALE:GREGORIAN
METHOD:PUBLISH
X-WR-CALNAME:digitalHUB Aachen
X-ORIGINAL-URL:https://www.aachen.digital/en/
X-WR-CALDESC:Events for digitalHUB Aachen
REFRESH-INTERVAL;VALUE=DURATION:PT1H
X-Robots-Tag:noindex
X-PUBLISHED-TTL:PT1H
BEGIN:VTIMEZONE
TZID:Europe/Berlin
BEGIN:DAYLIGHT
TZOFFSETFROM:+0100
TZOFFSETTO:+0200
TZNAME:CEST
DTSTART:20210328T010000
END:DAYLIGHT
BEGIN:STANDARD
TZOFFSETFROM:+0200
TZOFFSETTO:+0100
TZNAME:CET
DTSTART:20211031T010000
END:STANDARD
BEGIN:DAYLIGHT
TZOFFSETFROM:+0100
TZOFFSETTO:+0200
TZNAME:CEST
DTSTART:20220327T010000
END:DAYLIGHT
BEGIN:STANDARD
TZOFFSETFROM:+0200
TZOFFSETTO:+0100
TZNAME:CET
DTSTART:20221030T010000
END:STANDARD
BEGIN:DAYLIGHT
TZOFFSETFROM:+0100
TZOFFSETTO:+0200
TZNAME:CEST
DTSTART:20230326T010000
END:DAYLIGHT
BEGIN:STANDARD
TZOFFSETFROM:+0200
TZOFFSETTO:+0100
TZNAME:CET
DTSTART:20231029T010000
END:STANDARD
END:VTIMEZONE
BEGIN:VEVENT
DTSTART;VALUE=DATE:20221110
DTEND;VALUE=DATE:20221113
DTSTAMP:20260424T073749
CREATED:20220602T134835Z
LAST-MODIFIED:20220704T120102Z
UID:10006261-1668038400-1668297599@www.aachen.digital
SUMMARY:Hackathon „Sustainable CHIO“
DESCRIPTION:Wir suchen Entwickler\, Designer\, Storyteller\, Gamer\, Studierende\, Start-Upper\, Texter\, Kreative und Reiter (m|w|d) befristet für drei Tage! \n— english version below — \nDas größte Reitturnier der Welt organisieren? Können wir! Deutschlands größte Sportveranstaltung fit für die Zukunft zu machen? Nur mit Euch! Wir suchen kreative Köpfe für den CHIO Aachen-Hackathon 2.0 vom 10. bis zum 12. November 2022. Reale Anwendungsmöglichkeiten und ein stattliches Preisgeld warten auf die besten Ideen. \nDer CHIO Aachen ist ein internationales Live-Event\, das wir gemeinsam mit starken Partnern ausrichten. Jährlich kommen mehr als 350.000 Besucher auf das berühmteste Reitturniergelände der Welt. Der CHIO Aachen ist nicht “nur” Weltklasse-Pferdesport\, sondern Atmosphäre\, Lifestyle und internationales Top-Event. \nAus der Albert-Vahle-Halle\, in der beim CHIO Aachen die Voltigier-Wettbewerbe stattfinden\, wurde im Oktober 2021 erstmalig eine stylische Lounge und Ideenschmiede. Drei Tage lang rauchten die Köpfe\, am Ende pitchten die Teams herausragende innovative Ideen rund um die digitale Weiterentwicklung des CHIO Aachen. Nun freuen der „digitalHUB Aachen“ und wir uns auf den Hackathon 2.0!
URL:https://www.aachen.digital/en/event/hackathon-sustainable-chio/
LOCATION:CHIO Aachen\, Albert-Servais-Allee 50\, Aachen\, 52070\, Deutschland
ATTACH;FMTTYPE=image/jpeg:https://www.aachen.digital/wp-content/uploads/2022/07/Stage-CHIO-Hackathon.jpg
END:VEVENT
END:VCALENDAR