BEGIN:VCALENDAR
VERSION:2.0
PRODID:-//digitalHUB Aachen - ECPv6.15.20//NONSGML v1.0//EN
CALSCALE:GREGORIAN
METHOD:PUBLISH
X-ORIGINAL-URL:https://www.aachen.digital/en/
X-WR-CALDESC:Events for digitalHUB Aachen
REFRESH-INTERVAL;VALUE=DURATION:PT1H
X-Robots-Tag:noindex
X-PUBLISHED-TTL:PT1H
BEGIN:VTIMEZONE
TZID:Europe/Berlin
BEGIN:DAYLIGHT
TZOFFSETFROM:+0100
TZOFFSETTO:+0200
TZNAME:CEST
DTSTART:20200329T010000
END:DAYLIGHT
BEGIN:STANDARD
TZOFFSETFROM:+0200
TZOFFSETTO:+0100
TZNAME:CET
DTSTART:20201025T010000
END:STANDARD
BEGIN:DAYLIGHT
TZOFFSETFROM:+0100
TZOFFSETTO:+0200
TZNAME:CEST
DTSTART:20210328T010000
END:DAYLIGHT
BEGIN:STANDARD
TZOFFSETFROM:+0200
TZOFFSETTO:+0100
TZNAME:CET
DTSTART:20211031T010000
END:STANDARD
BEGIN:DAYLIGHT
TZOFFSETFROM:+0100
TZOFFSETTO:+0200
TZNAME:CEST
DTSTART:20220327T010000
END:DAYLIGHT
BEGIN:STANDARD
TZOFFSETFROM:+0200
TZOFFSETTO:+0100
TZNAME:CET
DTSTART:20221030T010000
END:STANDARD
END:VTIMEZONE
BEGIN:VEVENT
DTSTART;TZID=Europe/Berlin:20211028T073000
DTEND;TZID=Europe/Berlin:20211028T103000
DTSTAMP:20260423T230431
CREATED:20211018T100132Z
LAST-MODIFIED:20211018T100251Z
UID:10006049-1635406200-1635417000@www.aachen.digital
SUMMARY:BVMW | Business Frühstück: Innovationen - erfolgreich umgesetzt
DESCRIPTION:Der BVMW NRW Südwest lädt Sie in Kooperation mit dem digitalHUB Aachen und dem MIK – Mittelstand Innovations- und Kompetenzzentrum\nein\, um sich mit dem Innovationsexperten Joshua Baker auszutauschen. Erfahren Sie: \n\nWie kann ich beginnen?\nWarum Innovation alle im Unternehmen betrifft?\nWelche Fähigkeiten braucht es?\nWarum es ohne Disziplin und klaren Strukturen nicht geht?\nWie operatives Geschäft und Innovation gleichzeitig funktioniert?\nZahlreiche Beispiele aus der Praxis – erfolgreiche und gescheiterte.\nAusführliche Diskussion und Erfahrungsaustausch mit den Teilnehmenden und dem Experten.\n\nANMELDUNG \nHinweis: Zum weiteren Schutz der Teilnehmenden folgen wir bis auf Weiteres den gesetzlichen Vorschriften und setzen bei Präsenzveranstaltungen auf die sogenannte 3G-Regel. D.h. das bei Innenraumveranstaltungen eine Teilnahme nur mit einem Impf\,- Genesungs- oder Test-Nachweis möglich ist. Tests dürfen nicht älter als 24 Stunden sein und müssen von einer zugelassenen Stelle vorgenommen werden. Selbsttests können nicht anerkannt werden. Der Nachweis ist vor der Veranstaltung vorzulegen. \nAGENDA \n\n07:30 Uhr Einlass und Come together\n08:00 Uhr Begrüßung\n08:05 Uhr Vorstellung der Teilnehmenden\n08:20 Uhr ExpertenImpuls\n08:50 Uhr Fragen und Diskussion\nab 09:10 Uhr Entspanntes Netzwerken beim Frühstück\n\n 
URL:https://www.aachen.digital/en/event/bvmw-business-fruehstueck/
LOCATION:digitalHUB Aachen\, Jülicher Str. 72a\, Aachen\, Nordrhein-Westfalen\, 52070\, Germany
ATTACH;FMTTYPE=image/jpeg:https://www.aachen.digital/wp-content/uploads/2021/10/AdobeStock_294094849-scaled-1.jpeg
END:VEVENT
BEGIN:VEVENT
DTSTART;VALUE=DATE:20210322
DTEND;VALUE=DATE:20210327
DTSTAMP:20260423T230431
CREATED:20210308T094642Z
LAST-MODIFIED:20210308T094710Z
UID:10005400-1616371200-1616803199@www.aachen.digital
SUMMARY:DIGITAL FUTUREcongress
DESCRIPTION:Mittelstand trifft Digitalisierung\nDie bundesweite Online-Kongressmesse zum Thema “Mittelstand trifft Digitalisierung” findet\, flankiert von einer Roadshow mit Live-Berichterstattung über aktuelle Digitalisierungsprojekte\, vom 22. – 26. März 2021 (09:00 – 18:00) statt. \nAls Besucher haben Sie dort die Möglichkeit\, auf einer völlig neu entwickelten Plattform virtuelle Aussteller und vielfältige Web-Conferencing-Beiträge zu erleben. Es erwarten Sie dabei spannende Vorträge und user-orientierte Workshops zu allen derzeit aktuellen Themen rund um die Digitalisierung in Industrie und Mittelstand. \nThemenschwerpunkte des DFC \n\nOnline Marketing & Vertriebsoptimierung\nProzessoptimierung & IT-Infrastruktur\nArbeit 4.0 & IT-Future Thinking\nCyber Security & Datensicherheit\nDigitalisierung & Transformation\n\nGratis Ticketcode \nBuchen Sie mit dem Code KPDFCH21 hier Ihr Wochenticket! \nZum Ticket \nWeitere Informationen und die umfassende Agenda finden Sie hier.
URL:https://www.aachen.digital/en/event/digital-futurecongress/
LOCATION:Jülicher Strasse 72a\, Aachen\, 52070\, Germany
ATTACH;FMTTYPE=image/jpeg:https://www.aachen.digital/wp-content/uploads/2021/03/AdobeStock_176715044.jpg
END:VEVENT
END:VCALENDAR