BEGIN:VCALENDAR
VERSION:2.0
PRODID:-//digitalHUB Aachen - ECPv6.15.20//NONSGML v1.0//EN
CALSCALE:GREGORIAN
METHOD:PUBLISH
X-ORIGINAL-URL:https://www.aachen.digital/en/
X-WR-CALDESC:Events for digitalHUB Aachen
REFRESH-INTERVAL;VALUE=DURATION:PT1H
X-Robots-Tag:noindex
X-PUBLISHED-TTL:PT1H
BEGIN:VTIMEZONE
TZID:Europe/Berlin
BEGIN:DAYLIGHT
TZOFFSETFROM:+0100
TZOFFSETTO:+0200
TZNAME:CEST
DTSTART:20190331T010000
END:DAYLIGHT
BEGIN:STANDARD
TZOFFSETFROM:+0200
TZOFFSETTO:+0100
TZNAME:CET
DTSTART:20191027T010000
END:STANDARD
BEGIN:DAYLIGHT
TZOFFSETFROM:+0100
TZOFFSETTO:+0200
TZNAME:CEST
DTSTART:20200329T010000
END:DAYLIGHT
BEGIN:STANDARD
TZOFFSETFROM:+0200
TZOFFSETTO:+0100
TZNAME:CET
DTSTART:20201025T010000
END:STANDARD
BEGIN:DAYLIGHT
TZOFFSETFROM:+0100
TZOFFSETTO:+0200
TZNAME:CEST
DTSTART:20210328T010000
END:DAYLIGHT
BEGIN:STANDARD
TZOFFSETFROM:+0200
TZOFFSETTO:+0100
TZNAME:CET
DTSTART:20211031T010000
END:STANDARD
END:VTIMEZONE
BEGIN:VEVENT
DTSTART;TZID=Europe/Berlin:20200625T090000
DTEND;TZID=Europe/Berlin:20200625T100000
DTSTAMP:20260424T025546
CREATED:20200604T091729Z
LAST-MODIFIED:20200604T091729Z
UID:10005562-1593075600-1593079200@www.aachen.digital
SUMMARY:Digitale Diskussionsrunde mit Iris Wilhelmi: Digitale Souveränität in Krisenzeiten
DESCRIPTION:Digitale Diskussionsrunde:\nDigitale Souveränität in Krisenzeiten: Rückgewinn oder Totalverlust?\nUnter dem Titel TWENTY2Xvirtual – Digitale Impulse starten die Deutsche Messe und die Partner der TWENTY2X eine Reihe von Webinaren\, die virtuell und kostenfrei über aktuelle Themen für den Mittelstand und den öffentlichen Sektor informiert. Die erste Ausgabe der neuen Webinar-Reihe läuft vom 23. bis 25. Juni 2020. \nIn diesem Rahmen nimmt Iris Wilhelmi\, Geschäftsführerin des digitalHUB Aachen e.V. an einer digitalen Impulsdiskussion teil. \nTeilnehmer: \n\nDr. Oliver Grün\, Präsident BITMi\,\nManuel Höferlin\, Vorsitzender des Ausschusses Digitale Agenda des Deutschen Bundestages\,\nIris Wilhelmi\, Geschäftsführerin des digitalHUB Aachen e.V.\n\nModeration: Tarek Annan\, Verbandsreferent BITMi \nHIER GEHTS ZUR KOSTENLOSEN ANMELDUNG
URL:https://www.aachen.digital/en/event/digitale-diskussionsrunde-digitale-souveraenitaet-in-krisenzeiten-rueckgewinn-oder-totalverlust/
LOCATION:Jülicher Strasse 72a\, Aachen\, 52070\, Germany
ATTACH;FMTTYPE=image/jpeg:https://www.aachen.digital/wp-content/uploads/2020/06/TWENTY2X-Webinare_Stage.jpg
END:VEVENT
BEGIN:VEVENT
DTSTART;TZID=Europe/Berlin:20200623T100000
DTEND;TZID=Europe/Berlin:20200625T180000
DTSTAMP:20260424T025546
CREATED:20200604T090422Z
LAST-MODIFIED:20200604T091956Z
UID:10005561-1592906400-1593108000@www.aachen.digital
SUMMARY:#TWENTY2Xvirtual – Digitale Impuls
DESCRIPTION:Unter dem Titel TWENTY2Xvirtual – Digitale Impulse starten die Deutsche Messe und die Partner der TWENTY2X eine Reihe von Webinaren\, die virtuell und kostenfrei über aktuelle Themen für den Mittelstand und den öffentlichen Sektor informiert. Die erste Ausgabe der neuen Webinar-Reihe läuft vom 23. bis 25. Juni 2020. \n\n\n\n\n\n\nDie Webinare am 23. Juni richten sich an Behördenleiter und IT-Anwender in kommunalen Einrichtungen. So geht es etwa es um die BürgerApp und die Online-Terminvergabe im Corona-Einsatz sowie “Das Virus und seine digitalen Übertragungswege”.\n\nWeitere Webinare zur Verwaltungsdigitalisierung folgen an jedem vierten Dienstag im Monat.\n\n\n\n\n\n\n\n\n\n\nDie weiteren Webinare richten sich an Entscheider und IT-Verantwortlichen kleiner und mittlerer Unternehmen. Am 24. Juni wird dabei das Thema Frauen in der Digitalbranche auf die Agenda gesetzt – u.a. bei einem Impulsvortrag der ehemaligen Bundeswirtschaftsministerin Brigitte Zypries. Nachmittags dreht sich alles um Cybersecurity nach Corona.\n\n\n\n\n\n\n\n\n\n\n\n\nAm Donnerstag\, 25. Juni stehen dann die Auswirkungen der Corona-Krise auf die digitale Souveränität sowie Komponenten eines erfolgreichen digitalen Geschäftsmodells auf dem Programm. \nWEITERE INFORMATIONEN UND KOSTENLOSE ANMELDUNG
URL:https://www.aachen.digital/en/event/twenty2xvirtual-digitale-impuls/
LOCATION:Jülicher Strasse 72a\, Aachen\, 52070\, Germany
ATTACH;FMTTYPE=image/jpeg:https://www.aachen.digital/wp-content/uploads/2020/06/TWENTY2X-Webinare_Stage.jpg
END:VEVENT
END:VCALENDAR