BEGIN:VCALENDAR
VERSION:2.0
PRODID:-//digitalHUB Aachen - ECPv6.15.20//NONSGML v1.0//EN
CALSCALE:GREGORIAN
METHOD:PUBLISH
X-WR-CALNAME:digitalHUB Aachen
X-ORIGINAL-URL:https://www.aachen.digital/en/
X-WR-CALDESC:Events for digitalHUB Aachen
REFRESH-INTERVAL;VALUE=DURATION:PT1H
X-Robots-Tag:noindex
X-PUBLISHED-TTL:PT1H
BEGIN:VTIMEZONE
TZID:Europe/Berlin
BEGIN:DAYLIGHT
TZOFFSETFROM:+0100
TZOFFSETTO:+0200
TZNAME:CEST
DTSTART:20230326T010000
END:DAYLIGHT
BEGIN:STANDARD
TZOFFSETFROM:+0200
TZOFFSETTO:+0100
TZNAME:CET
DTSTART:20231029T010000
END:STANDARD
BEGIN:DAYLIGHT
TZOFFSETFROM:+0100
TZOFFSETTO:+0200
TZNAME:CEST
DTSTART:20240331T010000
END:DAYLIGHT
BEGIN:STANDARD
TZOFFSETFROM:+0200
TZOFFSETTO:+0100
TZNAME:CET
DTSTART:20241027T010000
END:STANDARD
BEGIN:DAYLIGHT
TZOFFSETFROM:+0100
TZOFFSETTO:+0200
TZNAME:CEST
DTSTART:20250330T010000
END:DAYLIGHT
BEGIN:STANDARD
TZOFFSETFROM:+0200
TZOFFSETTO:+0100
TZNAME:CET
DTSTART:20251026T010000
END:STANDARD
END:VTIMEZONE
BEGIN:VEVENT
DTSTART;TZID=Europe/Berlin:20241119T170000
DTEND;TZID=Europe/Berlin:20241119T200000
DTSTAMP:20260423T192314
CREATED:20240925T095610Z
LAST-MODIFIED:20240925T100233Z
UID:10006240-1732035600-1732046400@www.aachen.digital
SUMMARY:TexTech Start-up Night #3
DESCRIPTION:Egal ob ihr euch für Smarte Textilien/Textilsensorik\, Neue Werkstoffe & Materialien\, Medizinische Textilien\, Neue Produktionstechniken\, Textil-Lieferketten & Logistik\, Textil-Recycling & Kreislaufwirtschaft oder neue\, digitale Marktplätze und Geschäftsmodelle (z.B. Servitization\, Co-Creation\, Co-Production) interessiert\, bei der TexTech Start-up Night lernt ihr die neuesten Trends der Branche kennen. \nDie jährliche TexTech Start-up Night in Mönchengladbach soll zum Nukleus und Kristallisationspunkt einer internationalen TexTech-Innovation- & Start-up-Community werden. Mönchengladbach ist DAS TexTech-Zentrum in NRW mit Textilmaschinenbauern\, -Veredlern\, -Hochschule\, -Akademie und -Start-ups. Zudem wächst der Markt für TexTech weltweit rasant\, mit viel Potenzial für neue Innovationen und Start-ups\, insbesondere im Bereich Technische Textilien sowie Textil-Recycling & Kreislaufwirtschaft. \nAgenda \n\n\nab 17:00 Uhr Ausstellung\n18:00 Uhr Programm\n19:45 Uhr Networking\n\n\nAnmelden und mehr erfahren!
URL:https://www.aachen.digital/en/event/textech-start-up-night-3/
LOCATION:Texilakademie NRW\, Lüpertzenderstr. 6\, Mönchengladbach\, NRW\, 41061\, Deutschland
ATTACH;FMTTYPE=image/jpeg:https://www.aachen.digital/wp-content/uploads/2024/09/Kopie-von-Kopie-von-Stage_Vorlage-1632x644-2.jpg
END:VEVENT
END:VCALENDAR