BEGIN:VCALENDAR
VERSION:2.0
PRODID:-//digitalHUB Aachen - ECPv6.15.20//NONSGML v1.0//EN
CALSCALE:GREGORIAN
METHOD:PUBLISH
X-WR-CALNAME:digitalHUB Aachen
X-ORIGINAL-URL:https://www.aachen.digital/en/
X-WR-CALDESC:Events for digitalHUB Aachen
REFRESH-INTERVAL;VALUE=DURATION:PT1H
X-Robots-Tag:noindex
X-PUBLISHED-TTL:PT1H
BEGIN:VTIMEZONE
TZID:Europe/Berlin
BEGIN:DAYLIGHT
TZOFFSETFROM:+0100
TZOFFSETTO:+0200
TZNAME:CEST
DTSTART:20180325T010000
END:DAYLIGHT
BEGIN:STANDARD
TZOFFSETFROM:+0200
TZOFFSETTO:+0100
TZNAME:CET
DTSTART:20181028T010000
END:STANDARD
BEGIN:DAYLIGHT
TZOFFSETFROM:+0100
TZOFFSETTO:+0200
TZNAME:CEST
DTSTART:20190331T010000
END:DAYLIGHT
BEGIN:STANDARD
TZOFFSETFROM:+0200
TZOFFSETTO:+0100
TZNAME:CET
DTSTART:20191027T010000
END:STANDARD
BEGIN:DAYLIGHT
TZOFFSETFROM:+0100
TZOFFSETTO:+0200
TZNAME:CEST
DTSTART:20200329T010000
END:DAYLIGHT
BEGIN:STANDARD
TZOFFSETFROM:+0200
TZOFFSETTO:+0100
TZNAME:CET
DTSTART:20201025T010000
END:STANDARD
END:VTIMEZONE
BEGIN:VEVENT
DTSTART;TZID=Europe/Berlin:20190514T160000
DTEND;TZID=Europe/Berlin:20190514T160000
DTSTAMP:20260424T022621
CREATED:20190116T115212Z
LAST-MODIFIED:20190117T112518Z
UID:10004853-1557849600-1557849600@www.aachen.digital
SUMMARY:Digi­ta­li­sie­rung starten: Unter­neh­mens­sprech­stunde im Rheinland
DESCRIPTION:Die Unter­neh­mens­sprech­stunde ist ein Einzel­ge­spräch mit Ihrem Unter­nehmen zu Ihren spezi­fi­schen Themen­stel­lungen. Sie können sich direkt und persön­lich zu allen Fragen rund ums Thema Digi­ta­li­sie­rung erst­be­raten lassen und so die idealen Einstiegs­mög­lich­keiten für Ihr Unter­nehmen heraus­finden. Im Austausch mit den Experten erfahren Sie zudem\, welche Unter­stüt­zungs­mög­lich­keiten Digital in NRW Ihnen bieten kann. \nDie Unter­neh­mens­sprech­stunde richtet sich gezielt an kleine und mittlere Unter­nehmen. \nWeitere Infos sowie die Anmeldung finden Sie hier: \nAnmeldung + Infos
URL:https://www.aachen.digital/en/event/digi%c2%adta%c2%adli%c2%adsie%c2%adrung-starten-unter%c2%adneh%c2%admens%c2%adsprech%c2%adstunde-im-rheinland-4/
LOCATION:Jülicher Strasse 72a\, Aachen\, 52070\, Germany
ATTACH;FMTTYPE=image/jpeg:https://www.aachen.digital/wp-content/uploads/2019/01/digital-in-nrw.jpg
END:VEVENT
BEGIN:VEVENT
DTSTART;TZID=Europe/Berlin:20190507T140000
DTEND;TZID=Europe/Berlin:20190507T160000
DTSTAMP:20260424T022621
CREATED:20190326T132127Z
LAST-MODIFIED:20190326T132209Z
UID:10004756-1557237600-1557244800@www.aachen.digital
SUMMARY:Industrie 4.0 live erleben:  Lab-Tour am FIR e.V. der RWTH in Aachen
DESCRIPTION:Die Tour durch das Demo­zen­trum macht Industrie 4.0 erfahrbar. Sie erleben dabei Industrie 4.0 Tech­no­lo­gien in realen Anwen­dungs­sze­na­rien und können diese auch selbst auspro­bieren. Schwer­punkte liegen im Bereich moderner Kommu­ni­ka­ti­ons­tech­no­lo­gien\, Daten­er­fas­sung durch Sensorik\, intel­li­genter Daten­ana­lyse und zukunfts­fä­higer Leit­technik und Logistik. Weitere Ansätze zu Mensch-Maschine-Inter­ak­tion\, Cloud­tech­no­lo­gien und Industrie 4.0 Geschäfts­mo­dellen werden ebenfalls thema­ti­siert. \nIn der Demons­tra­ti­ons­fa­brik Aachen liegt der Fokus auf Tech­no­lo­gien der Montage und der Logistik\, in den Inno­va­tion-Labs am FIR auf der Digi­ta­li­sie­rung\, Simu­lierung und Visua­li­sie­rung komplexer Wert­schöp­fungs­sys­teme. In der einzig­ar­tigen Demons­tra­ti­ons­um­ge­bung werden damit die logis­ti­schen Effekte in reali­täts­nahen und inte­grierten Produk­tions- und IT-Umge­bungen anfassbar und erlebbar. \nProgramm: \n\nBegrüßung\nEinführung: Impulsvortrag Industrie 4.0\nTour durch die Demonstrationsfabrik Aachen mit realen Anwendungsszenarien\nEinführungsvortrag und Tour durch die Innovations Labs\nAbschlussrunde\n\nDie Lab-Tour richtet sich an Fach- und Führungs­kräfte des Mittel­stands\, die Industrie 4.0 Tech­no­lo­gien in der realen Anwendung kennen­lernen möchten. \nHier finden Sie weitere Informationen zum Event sowie zur kostenfreien Anmeldung:\nLab-Tour am FIR e.V. der RWTH in Aachen
URL:https://www.aachen.digital/en/event/industrie-4-0-live-erleben-lab-tour-am-fir-e-v-der-rwth-in-aachen/
LOCATION:FIR e. V. an der RWTH Aachen\, Campus-Boulevard 55\, Aachen\, 52074\, Deutschland
ATTACH;FMTTYPE=image/jpeg:https://www.aachen.digital/wp-content/uploads/2019/01/digital-in-nrw.jpg
END:VEVENT
BEGIN:VEVENT
DTSTART;TZID=Europe/Berlin:20190415T130000
DTEND;TZID=Europe/Berlin:20190415T170000
DTSTAMP:20260424T022621
CREATED:20190116T115214Z
LAST-MODIFIED:20190117T112401Z
UID:10004889-1555333200-1555347600@www.aachen.digital
SUMMARY:Inter­ak­tiver Praxis-Workshop am WZL der RWTH Aachen
DESCRIPTION:Der Praxis-Workshop beginnt mit einer kurzen Einfüh­rungs­runde und einem Einfüh­rungs­vor­trag\, in dem der inter­ak­tive Fokus des Praxis-Workshops und das Vorgehen näher erläutert werden. \nDer Fokus liegt während des rest­li­chen Nach­mit­tags auf der inter­ak­tiven Erkundung der Demons­tra­ti­ons­um­ge­bungen.\nDie praxis­nahe Vermitt­lung der theo­re­ti­schen Grund­lagen zu den Themen Industrie 4.0\, produkt­zen­trierter Steuerung und modell­ba­sierter Ferti­gungs­steue­rung wird im Smart Auto­ma­tion Lab (SAL) verfolgt. Die theo­re­tisch vermit­telten Grund­lagen werden bei inten­siven Diskus­sionen im SAL praktisch erlebbar. Im Rahmen der Führung stehen an den jewei­ligen Stationen des SAL Betreuer zu Verfügung\, die einen Einblick in die jeweilige steue­rungs­tech­ni­sche Ausge­stal­tung des Produk­ti­ons­sys­tems ermög­li­chen. \nInnerhalb der Demons­tra­ti­ons­fa­brik erfolgt ein Erleben des Nutz­en­ge­winns einzelner Industrie 4.0-Tech­no­lo­gien durch aktives Auspro­bieren. Reale betrieb­liche Situa­tionen auf dem Shopfloor werden zuerst ohne Unter­stüt­zung intel­li­genter Lösungen simuliert und im Anschluss unter deren Verwen­dung. Durch den Vorher-Nachher-Vergleich wird somit der Mehrwert von Industrie 4.0 erfahrbar. \n  \nProgramm\n \n\nBegrüßung\nEinführungspräsentation Industrie 4.0\nBesichtigung Smart Automation Lab\nBesichtigung Demonstrationsfabrik Aachen\nZusammenfassung\n\nDer Praxis-Workshop richtet sich an Fach- und Führungs­kräfte des Mittel­stands\, die an diesem Tag die Vorteile und Möglich­keiten erleben und anfassen können\, welche mit Tech­no­lo­gien der Industrie 4.0 ermög­licht werden. \nDie Teilnahme an der Veran­stal­tung ist kosten­frei. Um eine verbindliche Anmeldung wird aufgrund der begrenzten Teilnehmerzahl gebeten. \nDas Anmeldungsformular und weitere Informationen finden Sie hier: \nAnmeldung und weitere Infos
URL:https://www.aachen.digital/en/event/inter%c2%adak%c2%adtiver-praxis-workshop-am-wzl-der-rwth-aachen-4/
LOCATION:Werkzeugmaschinenlabor WZL der RWTH Aachen\, Campus-Boulevard 30\, Aachen\, 52074\, Germany
ATTACH;FMTTYPE=image/jpeg:https://www.aachen.digital/wp-content/uploads/2019/01/digital-in-nrw.jpg
END:VEVENT
BEGIN:VEVENT
DTSTART;TZID=Europe/Berlin:20190411T160000
DTEND;TZID=Europe/Berlin:20190411T160000
DTSTAMP:20260424T022621
CREATED:20190116T115212Z
LAST-MODIFIED:20190117T112519Z
UID:10004849-1554998400-1554998400@www.aachen.digital
SUMMARY:Digi­ta­li­sie­rung starten: Unter­neh­mens­sprech­stunde im Rheinland
DESCRIPTION:Die Unter­neh­mens­sprech­stunde ist ein Einzel­ge­spräch mit Ihrem Unter­nehmen zu Ihren spezi­fi­schen Themen­stel­lungen. Sie können sich direkt und persön­lich zu allen Fragen rund ums Thema Digi­ta­li­sie­rung erst­be­raten lassen und so die idealen Einstiegs­mög­lich­keiten für Ihr Unter­nehmen heraus­finden. Im Austausch mit den Experten erfahren Sie zudem\, welche Unter­stüt­zungs­mög­lich­keiten Digital in NRW Ihnen bieten kann. \nDie Unter­neh­mens­sprech­stunde richtet sich gezielt an kleine und mittlere Unter­nehmen. \nWeitere Infos sowie die Anmeldung finden Sie hier: \nAnmeldung + Infos
URL:https://www.aachen.digital/en/event/digi%c2%adta%c2%adli%c2%adsie%c2%adrung-starten-unter%c2%adneh%c2%admens%c2%adsprech%c2%adstunde-im-rheinland-5/
LOCATION:Jülicher Strasse 72a\, Aachen\, 52070\, Germany
ATTACH;FMTTYPE=image/jpeg:https://www.aachen.digital/wp-content/uploads/2019/01/digital-in-nrw.jpg
END:VEVENT
BEGIN:VEVENT
DTSTART;TZID=Europe/Berlin:20190321T090000
DTEND;TZID=Europe/Berlin:20190321T120000
DTSTAMP:20260424T022621
CREATED:20190116T115211Z
LAST-MODIFIED:20190117T112519Z
UID:10004844-1553158800-1553169600@www.aachen.digital
SUMMARY:Industrie 4.0 live erleben: Lab-Tour am WZL in Aachen
DESCRIPTION:Erleben Sie am 21. März bei der Tour durch das Smart Automation Lab und die Demonstrationsfabrik Aachen\, was bereits heute im Bereich Industrie 4.0 möglich ist! \nSie erleben dabei Industrie 4.0 Tech­no­lo­gien in realen Anwen­dungs­sze­na­rien und können diese auch selbst auszu­pro­bieren. Schwer­punkte liegen im Bereich moderner Kommu­ni­ka­ti­ons­tech­no­lo­gien\, Daten­er­fas­sung durch Sensorik\, intel­li­genter Daten­ana­lyse und zukunfts­fä­higer Leit­technik. Weitere Ansätze zu Mensch-Maschine-Inter­ak­tion\, Cloud­tech­no­lo­gien und Industrie 4.0 Geschäfts­mo­dellen werden ebenfalls thema­ti­siert. \nIn der Demons­tra­ti­ons­fa­brik Aachen liegt der Fokus auf Tech­no­lo­gien der Montage und der Logistik. Im Smart Auto­ma­tion Lab werden zukunfts­wei­sende Leit­technik und MES-Lösungen gezeigt. \nProgramm: \n\nBegrüßung\nEinführung: Impulsvortrag Industrie 4.0\nTour durch die Demonstrationsfabrik Aachen mit realen Anwendungsszenarien\nEinführungsvortrag und Tour durch das Smart Automation Lab\nAbschlussrunde\n\n  \nDie Lab-Tour richtet sich an Fach- und Führungs­kräfte des Mittel­stands\, die Industrie 4.0 Tech­no­lo­gien in der realen Anwendung kennen­lernen möchten. \nDie Teilnahme an der Veran­stal­tung ist kosten­frei. Um eine verbindliche Anmeldung wird aufgrund der begrenzten Teilnehmerzahl gebeten. \nDas Anmeldungsformular und weitere Informationen finden Sie hier: \nAnmeldung und weitere Infos
URL:https://www.aachen.digital/en/event/industrie-4-0-live-erleben-lab-tour-am-wzl-in-aachen-4/
LOCATION:Werkzeugmaschinenlabor WZL der RWTH Aachen\, Campus-Boulevard 30\, Aachen\, 52074\, Germany
ATTACH;FMTTYPE=image/jpeg:https://www.aachen.digital/wp-content/uploads/2019/01/digital-in-nrw.jpg
END:VEVENT
BEGIN:VEVENT
DTSTART;TZID=Europe/Berlin:20190311T160000
DTEND;TZID=Europe/Berlin:20190311T160000
DTSTAMP:20260424T022621
CREATED:20190116T115213Z
LAST-MODIFIED:20190117T112402Z
UID:10004885-1552320000-1552320000@www.aachen.digital
SUMMARY:Digi­ta­li­sie­rung starten: Unter­neh­mens­sprech­stunde im Rheinland
DESCRIPTION:Die Unter­neh­mens­sprech­stunde ist ein Einzel­ge­spräch mit Ihrem Unter­nehmen zu Ihren spezi­fi­schen Themen­stel­lungen. Sie können sich direkt und persön­lich zu allen Fragen rund ums Thema Digi­ta­li­sie­rung erst­be­raten lassen und so die idealen Einstiegs­mög­lich­keiten für Ihr Unter­nehmen heraus­finden. Im Austausch mit den Experten erfahren Sie zudem\, welche Unter­stüt­zungs­mög­lich­keiten Digital in NRW Ihnen bieten kann. \nDie Unter­neh­mens­sprech­stunde richtet sich gezielt an kleine und mittlere Unter­nehmen. \nWeitere Infos sowie die Anmeldung finden Sie hier: \nAnmeldung + Infos
URL:https://www.aachen.digital/en/event/digi%c2%adta%c2%adli%c2%adsie%c2%adrung-starten-unter%c2%adneh%c2%admens%c2%adsprech%c2%adstunde-im-rheinland-6/
LOCATION:Jülicher Strasse 72a\, Aachen\, 52070\, Germany
ATTACH;FMTTYPE=image/jpeg:https://www.aachen.digital/wp-content/uploads/2019/01/digital-in-nrw.jpg
END:VEVENT
BEGIN:VEVENT
DTSTART;TZID=Europe/Berlin:20190221T090000
DTEND;TZID=Europe/Berlin:20190221T120000
DTSTAMP:20260424T022621
CREATED:20190116T115211Z
LAST-MODIFIED:20190117T112520Z
UID:10004843-1550739600-1550750400@www.aachen.digital
SUMMARY:Industrie 4.0 live erleben: Lab-Tour am WZL in Aachen
DESCRIPTION:Erleben Sie am 21. Februar bei der Tour durch das Smart Automation Lab und die Demonstrationsfabrik Aachen\, was bereits heute im Bereich Industrie 4.0 möglich ist! \nSie erleben dabei Industrie 4.0 Tech­no­lo­gien in realen Anwen­dungs­sze­na­rien und können diese auch selbst auszu­pro­bieren. Schwer­punkte liegen im Bereich moderner Kommu­ni­ka­ti­ons­tech­no­lo­gien\, Daten­er­fas­sung durch Sensorik\, intel­li­genter Daten­ana­lyse und zukunfts­fä­higer Leit­technik. Weitere Ansätze zu Mensch-Maschine-Inter­ak­tion\, Cloud­tech­no­lo­gien und Industrie 4.0 Geschäfts­mo­dellen werden ebenfalls thema­ti­siert. \nIn der Demons­tra­ti­ons­fa­brik Aachen liegt der Fokus auf Tech­no­lo­gien der Montage und der Logistik. Im Smart Auto­ma­tion Lab werden zukunfts­wei­sende Leit­technik und MES-Lösungen gezeigt. \nProgramm: \n\nBegrüßung\nEinführung: Impulsvortrag Industrie 4.0\nTour durch die Demonstrationsfabrik Aachen mit realen Anwendungsszenarien\nEinführungsvortrag und Tour durch das Smart Automation Lab\nAbschlussrunde\n\n  \nDie Lab-Tour richtet sich an Fach- und Führungs­kräfte des Mittel­stands\, die Industrie 4.0 Tech­no­lo­gien in der realen Anwendung kennen­lernen möchten. \nDie Teilnahme an der Veran­stal­tung ist kosten­frei. Um eine verbindliche Anmeldung wird aufgrund der begrenzten Teilnehmerzahl gebeten. \nDas Anmeldungsformular und weitere Informationen finden Sie hier: \nAnmeldung und weitere Infos
URL:https://www.aachen.digital/en/event/industrie-4-0-live-erleben-lab-tour-am-wzl-in-aachen-5/
LOCATION:Werkzeugmaschinenlabor WZL der RWTH Aachen\, Campus-Boulevard 30\, Aachen\, 52074\, Germany
ATTACH;FMTTYPE=image/jpeg:https://www.aachen.digital/wp-content/uploads/2019/01/digital-in-nrw.jpg
END:VEVENT
BEGIN:VEVENT
DTSTART;TZID=Europe/Berlin:20190206T160000
DTEND;TZID=Europe/Berlin:20190206T160000
DTSTAMP:20260424T022621
CREATED:20190116T115213Z
LAST-MODIFIED:20190117T112517Z
UID:10004883-1549468800-1549468800@www.aachen.digital
SUMMARY:Digi­ta­li­sie­rung starten: Unter­neh­mens­sprech­stunde im Rheinland
DESCRIPTION:Die Unter­neh­mens­sprech­stunde ist ein Einzel­ge­spräch mit Ihrem Unter­nehmen zu Ihren spezi­fi­schen Themen­stel­lungen. Sie können sich direkt und persön­lich zu allen Fragen rund ums Thema Digi­ta­li­sie­rung erst­be­raten lassen und so die idealen Einstiegs­mög­lich­keiten für Ihr Unter­nehmen heraus­finden. Im Austausch mit den Experten erfahren Sie zudem\, welche Unter­stüt­zungs­mög­lich­keiten Digital in NRW Ihnen bieten kann. \nDie Unter­neh­mens­sprech­stunde richtet sich gezielt an kleine und mittlere Unter­nehmen. \nWeitere Infos sowie die Anmeldung finden Sie hier: \nAnmeldung + Infos
URL:https://www.aachen.digital/en/event/digi%c2%adta%c2%adli%c2%adsie%c2%adrung-starten-unter%c2%adneh%c2%admens%c2%adsprech%c2%adstunde-im-rheinland-7/
LOCATION:Jülicher Strasse 72a\, Aachen\, 52070\, Germany
ATTACH;FMTTYPE=image/jpeg:https://www.aachen.digital/wp-content/uploads/2019/01/digital-in-nrw.jpg
END:VEVENT
BEGIN:VEVENT
DTSTART;TZID=Europe/Berlin:20190121T130000
DTEND;TZID=Europe/Berlin:20190121T160000
DTSTAMP:20260424T022621
CREATED:20190116T115248Z
LAST-MODIFIED:20190117T112359Z
UID:10004898-1548075600-1548086400@www.aachen.digital
SUMMARY:Industrie 4.0 live erleben: Lab-Tour am WZL in Aachen
DESCRIPTION:Erleben Sie am 21. Januar bei der Tour durch das Smart Automation Lab und die Demonstrationsfabrik Aachen\, was bereits heute im Bereich Industrie 4.0 möglich ist! \nSie erleben dabei Industrie 4.0 Tech­no­lo­gien in realen Anwen­dungs­sze­na­rien und können diese auch selbst auszu­pro­bieren. Schwer­punkte liegen im Bereich moderner Kommu­ni­ka­ti­ons­tech­no­lo­gien\, Daten­er­fas­sung durch Sensorik\, intel­li­genter Daten­ana­lyse und zukunfts­fä­higer Leit­technik. Weitere Ansätze zu Mensch-Maschine-Inter­ak­tion\, Cloud­tech­no­lo­gien und Industrie 4.0 Geschäfts­mo­dellen werden ebenfalls thema­ti­siert. \nIn der Demons­tra­ti­ons­fa­brik Aachen liegt der Fokus auf Tech­no­lo­gien der Montage und der Logistik. Im Smart Auto­ma­tion Lab werden zukunfts­wei­sende Leit­technik und MES-Lösungen gezeigt. \nProgramm: \n\nBegrüßung\nEinführung: Impulsvortrag Industrie 4.0\nTour durch die Demonstrationsfabrik Aachen mit realen Anwendungsszenarien\nEinführungsvortrag und Tour durch das Smart Automation Lab\nAbschlussrunde\n\n  \nDie Lab-Tour richtet sich an Fach- und Führungs­kräfte des Mittel­stands\, die Industrie 4.0 Tech­no­lo­gien in der realen Anwendung kennen­lernen möchten. \nDie Teilnahme an der Veran­stal­tung ist kosten­frei. Um eine verbindliche Anmeldung wird aufgrund der begrenzten Teilnehmerzahl gebeten. \nDas Anmeldungsformular und weitere Informationen finden Sie hier: \nAnmeldung und weitere Infos
URL:https://www.aachen.digital/en/event/industrie-4-0-live-erleben-lab-tour-am-wzl-in-aachen-8/
LOCATION:Werkzeugmaschinenlabor WZL der RWTH Aachen\, Campus-Boulevard 30\, Aachen\, 52074\, Germany
ATTACH;FMTTYPE=image/jpeg:https://www.aachen.digital/wp-content/uploads/2019/01/digital-in-nrw.jpg
END:VEVENT
END:VCALENDAR