BEGIN:VCALENDAR
VERSION:2.0
PRODID:-//digitalHUB Aachen - ECPv6.15.20//NONSGML v1.0//EN
CALSCALE:GREGORIAN
METHOD:PUBLISH
X-ORIGINAL-URL:https://www.aachen.digital/en/
X-WR-CALDESC:Events for digitalHUB Aachen
REFRESH-INTERVAL;VALUE=DURATION:PT1H
X-Robots-Tag:noindex
X-PUBLISHED-TTL:PT1H
BEGIN:VTIMEZONE
TZID:Europe/Berlin
BEGIN:DAYLIGHT
TZOFFSETFROM:+0100
TZOFFSETTO:+0200
TZNAME:CEST
DTSTART:20230326T010000
END:DAYLIGHT
BEGIN:STANDARD
TZOFFSETFROM:+0200
TZOFFSETTO:+0100
TZNAME:CET
DTSTART:20231029T010000
END:STANDARD
BEGIN:DAYLIGHT
TZOFFSETFROM:+0100
TZOFFSETTO:+0200
TZNAME:CEST
DTSTART:20240331T010000
END:DAYLIGHT
BEGIN:STANDARD
TZOFFSETFROM:+0200
TZOFFSETTO:+0100
TZNAME:CET
DTSTART:20241027T010000
END:STANDARD
BEGIN:DAYLIGHT
TZOFFSETFROM:+0100
TZOFFSETTO:+0200
TZNAME:CEST
DTSTART:20250330T010000
END:DAYLIGHT
BEGIN:STANDARD
TZOFFSETFROM:+0200
TZOFFSETTO:+0100
TZNAME:CET
DTSTART:20251026T010000
END:STANDARD
BEGIN:DAYLIGHT
TZOFFSETFROM:+0100
TZOFFSETTO:+0200
TZNAME:CEST
DTSTART:20260329T010000
END:DAYLIGHT
BEGIN:STANDARD
TZOFFSETFROM:+0200
TZOFFSETTO:+0100
TZNAME:CET
DTSTART:20261025T010000
END:STANDARD
END:VTIMEZONE
BEGIN:VEVENT
DTSTART;TZID=Europe/Berlin:20250226T090000
DTEND;TZID=Europe/Berlin:20250226T103000
DTSTAMP:20260424T071531
CREATED:20250116T093415Z
LAST-MODIFIED:20250116T095616Z
UID:10007155-1740560400-1740565800@www.aachen.digital
SUMMARY:BasisCamp: OKRs
DESCRIPTION:digitalTRANSFORMATION Camps: Stärken Sie die Innovationskultur Ihres Unternehmens\n\n\nWie erreichen wir Klarheit\, Fokus & nachhaltigen Erfolg?\nDie Welt wird immer dynamischer und die Zielsetzung damit immer komplexer\, besonders für mittelständische Unternehmen. Wie schaffen wir es\, ambitionierte und klare Ziele zu definieren\, die Orientierung geben und gleichzeitig flexibel bleiben? In unserem OKR-Impuls schauen wir uns das Framework Objectives and Key Results (OKR) an. Wir erkunden\, wann und warum OKR für uns wertvoll ist und wie wir es strategisch und operativ nutzen können. Anhand des Big Pictures bekommen wir einen Überblick über die Meetings und wir lernen\, wie OKR in ein Unternehmensleitbild eingebettet werden kann. Formulierungshilfen für gute Ziele runden den Workshop ab. \nÜber die BasisCamps digitalTRANSFORMATION: \nInhaltlich sind unsere Camps in zwei Routen unterteilt: die InnovationsRoute sowie die KI– und DataRoute. In der InnovationsRoute werden konkrete Methoden vorgestellt\, welche agiles Arbeiten in Teams ermöglichen und zum Aufbau einer Innovationskultur dienen. In der KI- und DataRoute werden die neusten Entwicklungen im KI-Bereich vorgestellt\, erste Impulse gegeben\, wie KI im Unternehmen implementiert werden kann. Außerdem erfährst du\, wie mit Data Mining nicht nur aktuelle Geschäftsprozesse optimiert werden\, sondern wie sich damit auch zukünftige Trends vorhersagen lassen. \nWeitere Informationen unter: BasisCamps digitalTRANSFORMATION \nWeitere Informationen: \nZielgruppe: Einsteiger:innen in das Thema „Digitale Transformation“ und Mittelstand \nInhalte: Theoretischer Impuls; Methode kennenlernen; gemeinsamer Austausch \nReferent: Hannah Nagel und Rebekka Zsok von HelloAgile \nOrt: Online \nKonditionen: Alle Camps sind für unsere Mitglieder (User- und Enabler-IT-Mittelstand) kostenfrei. Alle anderen zahlen 200 EUR zzgl. MwSt. pro Person und Camp. Wenn Sie eine komplette Route buchen möchten\, melden Sie sich bitte vorher bei uns für einen Rabatt. \nKomplettpreis InnovationsRoute & KI- und DataRoute im Bundle: Auf Anfrage \nAnzahl der Teilnehmer:innen: max. 30 \n\n\nANMELDUNG\nBei Fragen zur kostenlosen Anmeldung für Mitglieder melden Sie sich per E-Mail bei events@hubaachen.de
URL:https://www.aachen.digital/en/event/basiscamp-okrs/
LOCATION:online
ATTACH;FMTTYPE=image/jpeg:https://www.aachen.digital/wp-content/uploads/2025/01/bd41c56fcfe7d086dcfbd3460f568de5.jpg
END:VEVENT
BEGIN:VEVENT
DTSTART;TZID=Europe/Berlin:20250219T090000
DTEND;TZID=Europe/Berlin:20250219T103000
DTSTAMP:20260424T071531
CREATED:20250116T091553Z
LAST-MODIFIED:20250116T095729Z
UID:10007154-1739955600-1739961000@www.aachen.digital
SUMMARY:BasisCamp: Partizipative Entscheidungsprozesse
DESCRIPTION:digitalTRANSFORMATION Camps: Stärken Sie die Innovationskultur Ihres Unternehmens\n\n\nWie kann ich Entscheidungsprozesse partizipativ gestalten?\nIn diesem BasisCamp entdeckst du\, wie du mit Hilfe von Tools und Methoden wie Liberating Structures und Design Thinking deine Entscheidungs- und Innovationsprozesse partizipativ gestalten kannst. Du erfährst\, wie du alle Team-Mitglieder aktiv einbeziehen und deren kreatives Potenzial freisetzen kannst. Durch die Kombination dieser leistungsstarken Methoden entwickelt du Fähigkeiten\, um komplexe Herausforderungen zu meistern und innovative Lösungen zu generieren. Das Camp bietet Input und praktische Übungen\, die du direkt in deinem Unternehmensalltag anwenden kannst\, um deine Innovationskraft zu steigern und Entscheidungen zu treffen\, die von allen mitgetragen werden. \nÜber die BasisCamps digitalTRANSFORMATION: \nInhaltlich sind unsere Camps in zwei Routen unterteilt: die InnovationsRoute sowie die KI– und DataRoute. In der InnovationsRoute werden konkrete Methoden vorgestellt\, welche agiles Arbeiten in Teams ermöglichen und zum Aufbau einer Innovationskultur dienen. In der KI- und DataRoute werden die neusten Entwicklungen im KI-Bereich vorgestellt\, erste Impulse gegeben\, wie KI im Unternehmen implementiert werden kann. Außerdem erfährst du\, wie mit Data Mining nicht nur aktuelle Geschäftsprozesse optimiert werden\, sondern wie sich damit auch zukünftige Trends vorhersagen lassen. \nWeitere Informationen unter: BasisCamps digitalTRANSFORMATION \nWeitere Informationen: \nZielgruppe: Einsteiger:innen in das Thema „Digitale Transformation“ und Mittelstand \nInhalte: Theoretischer Impuls; Methode kennenlernen; gemeinsamer Austausch \nReferent: Dr. Miriam Zeichner und Onur Büyükgök\, Coaches und Consultants im digitalHUB Aachen \nOrt: Online \nKonditionen: Alle Camps sind für unsere Mitglieder (User- und Enabler-IT-Mittelstand) kostenfrei. Alle anderen zahlen 200 EUR zzgl. MwSt. pro Person und Camp. Wenn Sie eine komplette Route buchen möchten\, melden Sie sich bitte vorher bei uns für einen Rabatt. \nKomplettpreis InnovationsRoute & KI- und DataRoute im Bundle: Auf Anfrage \nAnzahl der Teilnehmer:innen: max. 30 \n\n\nANMELDUNG\nBei Fragen zur kostenlosen Anmeldung für Mitglieder melden Sie sich per E-Mail bei events@hubaachen.de
URL:https://www.aachen.digital/en/event/basiscamp-partizipative-entscheidungsprozesse/
LOCATION:online
ATTACH;FMTTYPE=image/jpeg:https://www.aachen.digital/wp-content/uploads/2025/01/beb96170bffa243fe0c5879afc175690.jpg
END:VEVENT
BEGIN:VEVENT
DTSTART;TZID=Europe/Berlin:20250214T170000
DTEND;TZID=Europe/Berlin:20250214T200000
DTSTAMP:20260424T071531
CREATED:20250122T111255Z
LAST-MODIFIED:20250122T111414Z
UID:10007178-1739552400-1739563200@www.aachen.digital
SUMMARY:Finale des Smart City Ideenwettbewerbs 2024/25
DESCRIPTION:der Think Tank Smart City lädt euch herzlich zum Finale des Smart City Ideenwettbewerbs 2024/25 ein!\n\n\nIm Rahmen dieses Wettbewerbs suchen wir neue Lösungsansätze für aktuelle Herausforderungen unserer Stadt und wollen die Möglichkeit geben\, eigene smarte Projekte und Ideen in die Tat umzusetzen. \nAus den zahlreichen Einreichungen haben wir neun Teams ausgewählt\, die nun ihre innovativen Ideen sowohl euch als auch einer Fachjury präsentieren. Anschließend werden die vier überzeugendsten Projekte ausgezeichnet und erhalten jeweils einen Zuschuss von bis zu 10.000 € zur Weiterentwicklung ihrer Konzepte. \nIn den folgenden sechs Monaten können die prämierten Projekte unter der Begleitung erfahrener Mentorinnen und Mentoren weiterentwickelt und bis zur Marktreife gebracht werden. \nSeid dabei und lasst euch diesen spannenden und ereignisreichen Abend nicht entgehen! \nDer Smart City Ideenwettbewerb 2024/25 wird ausgerichtet von: \n\nFachbereich Wirtschaft\, Wissenschaft\, Digitalstadt und Europa (Stadt Aachen)\nFachbereich Mobilität und Verkehr (Stadt Aachen)\nFachbereich Klima und Umwelt (Stadt Aachen)\nFachbereich Geoinformation und Bodenordnung der Stadt Aachen (Stadt Aachen)\ndigitalHUB Aachen e.V.\nInnoloft GmbH\nSTAWAG – Stadt- und Städteregionswerke Aachen AG\nregio iT gesellschaft für informationstechnologie mbh\nRegionetz GmbH\nNetAachen GmbH\nKI Center der RWTH Aachen\n\n\nKostenlose Anmeldung
URL:https://www.aachen.digital/en/event/finale-des-smart-city-ideenwettbewerbs-2024-25/
LOCATION:digitalHUB Aachen e.V. in der digitalCHURCH\, Jülicher Straße 72a\, Aachen\, NRW\, 52070\, Germany
ATTACH;FMTTYPE=image/jpeg:https://www.aachen.digital/wp-content/uploads/2025/01/49061eefe8a2ab90f46aad1f8fdd9e7c.jpg
END:VEVENT
BEGIN:VEVENT
DTSTART;TZID=Europe/Berlin:20250212T103000
DTEND;TZID=Europe/Berlin:20250212T140000
DTSTAMP:20260424T071531
CREATED:20250103T083808Z
LAST-MODIFIED:20250103T083808Z
UID:10007131-1739356200-1739368800@www.aachen.digital
SUMMARY:Sprechstunde: Versicherungs-Essentials für Startups by Generali
DESCRIPTION:Von der Absicherung innovativer Geschäftsmodelle\, über die Absicherung von Startups\, bis hin zur persönlichen Absicherung\n\n\nMax Rinkens bietet im Rahmen seiner Sprechstunde die unverbindliche Beratungsleistungen der Generali für Startups aus dem digitalHUB an. \nWeitere Informationen: \nDiese Sprechstunde wird quartalsweise nach dem Startup-Frühstück angeboten. \nFolgende Beratungsslots stehen zur Verfügung: \n  \n\n10:30 – 11:30 Uhr\n11:30 – 12:30 Uhr\n12:30 – 13:30 Uhr\n13:30 – 14:30 Uhr\n\n\nJetzt anmelden!\n(Nur für Mitglieder des digitalHUB Aachen e.V.)
URL:https://www.aachen.digital/en/event/sprechstunde-versicherungs-essentials-fuer-startups-by-generali-11/
LOCATION:digitalHUB Aachen e.V. in der digitalCHURCH\, Jülicher Straße 72a\, Aachen\, NRW\, 52070\, Germany
ATTACH;FMTTYPE=image/jpeg:https://www.aachen.digital/wp-content/uploads/2025/01/d917aeb7591710cd631371a3ab876cef.jpg
END:VEVENT
BEGIN:VEVENT
DTSTART;TZID=Europe/Berlin:20250212T103000
DTEND;TZID=Europe/Berlin:20250212T140000
DTSTAMP:20260424T071531
CREATED:20241223T100450Z
LAST-MODIFIED:20241223T100450Z
UID:10007098-1739356200-1739368800@www.aachen.digital
SUMMARY:Sprechstunde: Umsetzung technologischer Ideen by AGIT
DESCRIPTION:Anspruchsvolle Projekte brauchen anspruchsvolle Vorbereitung und anspruchsvolle Partner!\n\n\nKompetente Mitarbeiter der AGIT – Aachener Gesellschaft für Innovation und Technologietransfer mbH – unterstützen Sie dabei\, folgende Fragen zu klären\, damit Sie Ihre technologischen Ideen in Unternehmen umsetzen können: \n\nSie haben eine innovative Idee\, die auf digitale Technologien basiert und möchten diese vermarkten?\nGibt es einen Markt für Ihre Idee/Ihr Produkt? Wie können Sie dies erfahren?\nGibt es bereits ein Prototyp bzw. eine Beta-Version?\nWie erschließen Sie nützliche Forschungs- und Entwicklungspartner?\nKönnen auf Ihre „Ideen/Produkte“ Patente und/oder Gebrauchsmuster angemeldet werden?\nWie ist es mit Marken- und/oder Designschutz\, oder mit dem Urheberrecht?\nWie können Sie solche Schutzrechte erwerben?\nWer hilft Ihnen bei der Selektion der passenden Finanzierungsmöglichkeiten?\nWelche Marketingstrategie passt zu Ihnen?\nPasst Ihr Geschäftssystem zu Ihren Zielen\, wie und mit welchen Ressourcen können Sie Ihr Vorhaben realisieren?\n\nMelden Sie sich jetzt an!\n(Nur für Mitglieder des digitalHUB Aachen e.V.)
URL:https://www.aachen.digital/en/event/sprechstunde-umsetzung-technologischer-ideen-by-agit-26/
LOCATION:digitalHUB Aachen e.V. in der digitalCHURCH\, Jülicher Straße 72a\, Aachen\, NRW\, 52070\, Germany
ATTACH;FMTTYPE=image/jpeg:https://www.aachen.digital/wp-content/uploads/2024/12/6ddfbfe0558002e6455c5dfaa1a82783.jpg
END:VEVENT
BEGIN:VEVENT
DTSTART;TZID=Europe/Berlin:20250212T103000
DTEND;TZID=Europe/Berlin:20250212T130000
DTSTAMP:20260424T071531
CREATED:20241223T100127Z
LAST-MODIFIED:20241223T100127Z
UID:10007097-1739356200-1739365200@www.aachen.digital
SUMMARY:Sprechstunde - Start and grow with the IHK
DESCRIPTION:In der Sprechstunde der IHK Aachen gibt es Informationen über Herausforderungen beim Aufbau eines innovativen Unternehmens.\n\n\nInnovationen ermöglichen\nDie Herausforderungen beim Aufbau eines innovativen Unternehmens erfordern eine gute Planung. Die kostenlose Beratung der IHK Aachen hilft dabei. \nIn allen Fragen\, die mit der Entwicklung und Einführung eines neuen Geschäftsmodells\, Produkts oder Verfahrens zusammenhängen\, könnt ihr unsere Beratung in Anspruch nehmen. \nIhr habt mit einem persönlichen Ansprechpartner Zugriff auf Informationen zu zahlreichen Themen\, zum Beispiel: \n\nÖffentliche Fördermittel\, Finanzierung\nAus-\, Fort- und Weiterbildung\nWirtschaftsrecht\nMarkt-\, Standort-\, Branchenentwicklung\nAußenhandel\nUmweltschutz\n\n  \nÜber die IHK Aachen:\nDie IHK Aachen ist ein verlässlicher Partner für ihre 84.000 Mitglieder in den Kammerbezirken Aachen\, Düren\, Euskirchen und Heinsberg – vom Einzelunternehmen bis zur Kapitalgesellschaft. Dabei haben sie stets ihren gesetzlichen Auftrag im Blick: Die IHK Aachen vertritt das Gesamtinteresse der regionalen Wirtschaft. Dabei agieren sie nah an den Unternehmen: Die von den Mitgliedern gewählte Vollversammlung gibt dabei den Rahmen vor. Unterstützt wird die IHK von 2.100 ehrenamtlichen Mitarbeitern aus der Wirtschaft mit ihren wertvollen Erfahrungen. \nDie IHK Aachen unterstützt Euch gerne dabei\, Eure Geschäftsidee auf den Weg zu bringen und voranzutreiben. Die Themen können dabei sehr vielfältig sein und richten sich nach Euren Bedürfnissen. \n  \nWeitere Informationen:\nDiese Sprechstunde wird monatlich nach dem Startup-Frühstück angeboten. \nFolgende Beratungsslots stehen zur Verfügung: \n\n10:30 – 11:15 Uhr\n11:15 – 12:00 Uhr\n12:00 – 12:45 Uhr\n\n  \nJetzt anmelden!\n(Nur für Mitglieder des digitalHUB Aachen e.V.)
URL:https://www.aachen.digital/en/event/sprechstunde-start-and-grow-with-the-ihk-15/
LOCATION:digitalHUB Aachen e.V. in der digitalCHURCH\, Jülicher Straße 72a\, Aachen\, NRW\, 52070\, Germany
ATTACH;FMTTYPE=image/jpeg:https://www.aachen.digital/wp-content/uploads/2024/12/0ba1e652d7645ce097fb7dd749ed5dab.jpg
END:VEVENT
BEGIN:VEVENT
DTSTART;TZID=Europe/Berlin:20250212T093000
DTEND;TZID=Europe/Berlin:20250212T103000
DTSTAMP:20260424T071531
CREATED:20241126T134010Z
LAST-MODIFIED:20250102T110933Z
UID:10006966-1739352600-1739356200@www.aachen.digital
SUMMARY:Startup-Frühstück
DESCRIPTION:Lerne unsere HUB-Community kennen und tausche dich bei Brötchen und Kaffee mit anderen Startup-Begeisterten aus!\n\n\nDu hast Lust auf Food\, Coffee und Austausch mit der HUB-Community? \nDann starte beim Startup Frühstück 🥐🥪 gemeinsam mit uns in den Tag! \nFreu dich auf leckere Brötchen\, einladenden Kaffee ☕ und interessante Gespräche in entspannter Atmosphäre. \nWir freuen uns auf dich! \n\n\nJetzt anmelden!
URL:https://www.aachen.digital/en/event/startup-fruehstueck-14-2/
LOCATION:digitalHUB Aachen e.V. in der digitalCHURCH\, Jülicher Straße 72a\, Aachen\, NRW\, 52070\, Germany
ATTACH;FMTTYPE=image/jpeg:https://www.aachen.digital/wp-content/uploads/2024/11/719422afde7a4926e8cf634df9bd03cf.jpg
END:VEVENT
BEGIN:VEVENT
DTSTART;TZID=Europe/Berlin:20250212T090000
DTEND;TZID=Europe/Berlin:20250212T103000
DTSTAMP:20260424T071531
CREATED:20250116T091037Z
LAST-MODIFIED:20250116T095748Z
UID:10007153-1739350800-1739356200@www.aachen.digital
SUMMARY:BasisCamp: Grundlagen für eine gelingende Innovationskultur
DESCRIPTION:digitalTRANSFORMATION Camps: Stärken Sie die Innovationskultur Ihres Unternehmens\n\n\nWie etabliere ich eine Innovationskultur? \nDieses BasisCamp vermitteln dir die essenziellen Bausteine für den Aufbau einer erfolgreichen Innovationskultur in deinem Unternehmen. Du entdeckst\, was wichtig ist\, um die Kreativität\, Experimentierfreude und die Suche nach innovativen Lösungen zu fördern. Wir betrachten die verschiedenen Ebenen der Innovationskultur – von der Organisation über die Führung bis hin zur Mitarbeiter:innenebene – und erarbeiten konkrete Strategien\, um Innovationen als festen Bestandteil in deine Unternehmens-DNA zu integrieren. \nÜber die BasisCamps digitalTRANSFORMATION: \nInhaltlich sind unsere Camps in zwei Routen unterteilt: die InnovationsRoute sowie die KI– und DataRoute. In der InnovationsRoute werden konkrete Methoden vorgestellt\, welche agiles Arbeiten in Teams ermöglichen und zum Aufbau einer Innovationskultur dienen. In der KI- und DataRoute werden die neusten Entwicklungen im KI-Bereich vorgestellt\, erste Impulse gegeben\, wie KI im Unternehmen implementiert werden kann. Außerdem erfährst du\, wie mit Data Mining nicht nur aktuelle Geschäftsprozesse optimiert werden\, sondern wie sich damit auch zukünftige Trends vorhersagen lassen. \nWeitere Informationen unter: BasisCamps digitalTRANSFORMATION \nWeitere Informationen: \nZielgruppe: Einsteiger:innen in das Thema „Digitale Transformation“ und Mittelstand \nInhalte: Theoretischer Impuls; Methode kennenlernen; gemeinsamer Austausch \nReferent: Eda Körner-Tezer und Dr. Miriam Zeichner\, Coaches und Consultants im digitalHUB Aachen \nOrt: Online \nKonditionen: Alle Camps sind für unsere Mitglieder (User- und Enabler-IT-Mittelstand) kostenfrei. Alle anderen zahlen 200 EUR zzgl. MwSt. pro Person und Camp. Wenn Sie eine komplette Route buchen möchten\, melden Sie sich bitte vorher bei uns für einen Rabatt. \nKomplettpreis InnovationsRoute & KI- und DataRoute im Bundle: Auf Anfrage \nAnzahl der Teilnehmer:innen: max. 30 \n\n\nANMELDUNG\nBei Fragen zur kostenlosen Anmeldung für Mitglieder melden Sie sich per E-Mail bei events@hubaachen.de
URL:https://www.aachen.digital/en/event/basiscamp-grundlagen-fuer-eine-gelingende-innovationskultur/
LOCATION:online
ATTACH;FMTTYPE=image/jpeg:https://www.aachen.digital/wp-content/uploads/2025/01/2025-Grundlagen-1.jpg
END:VEVENT
BEGIN:VEVENT
DTSTART;TZID=Europe/Berlin:20250127T180000
DTEND;TZID=Europe/Berlin:20250127T210000
DTSTAMP:20260424T071531
CREATED:20241213T075939Z
LAST-MODIFIED:20250108T083653Z
UID:10006994-1738000800-1738011600@www.aachen.digital
SUMMARY:Gründer:innen-Stammtisch
DESCRIPTION:Der Stammtisch wird veranstaltet\, um die Aachener Gründer:innenwelt in entspannter und ungezwungener Atmosphäre zusammenzubringen.\n\n\nAm 27. Januar findet unser Gründer:innen Stammtisch statt. Der Stammtisch wird veranstaltet\, um die Aachener Gründer:innenwelt in entspannter und ungezwungener Atmosphäre zusammenzubringen. \nAb 18 Uhr treffen wir uns mit der Startup Community vom digitalHUB Aachen\, RWTH Innovation \, AC.E – Aachener Entrepreneurship Team e.V.\, Enactus Aachen e.V.\, dem Gründungszentrum FH Aachen und dem Collective Incubator. \nWie immer werden 2-3 Ideen von (zukünftigen) Gründer:innen präsentiert. Es gibt ebenfalls die Möglichkeit\, spontan eine Idee zu präsentieren\, um Feedback von der Community zu erhalten. Ob spontan oder vorbereitet\, mit oder ohne Folien\, ist Euch überlassen. Während einer anschließenden Diskussionsrunde werden offene Fragen beantworten. \nJede:r\, der eine coole Idee hat und diese gerne teilen und diskutieren möchte\, ist beim Gründer:innen Stammtisch herzlich willkommen. Zudem bietet der Stammtisch eine perfekte Möglichkeit\, um zu networken bzw. Erfahrungen auszutauschen bei kalten Drinks und Pizza. \nSeid dabei! Wir freuen uns auf euch! \nAnmeldung
URL:https://www.aachen.digital/en/event/gruenderinnen-stammtisch-25/
LOCATION:digitalHUB Aachen e.V.\, Jülicher Straße 72a\, Aachen\, NRW\, 52070\, Germany
ATTACH;FMTTYPE=image/jpeg:https://www.aachen.digital/wp-content/uploads/2024/12/eb0b1110b235ee20461b29aa94ef182b.jpg
END:VEVENT
BEGIN:VEVENT
DTSTART;TZID=Europe/Berlin:20250120T100000
DTEND;TZID=Europe/Berlin:20250120T120000
DTSTAMP:20260424T071531
CREATED:20241220T110716Z
LAST-MODIFIED:20241220T110716Z
UID:10007093-1737367200-1737374400@www.aachen.digital
SUMMARY:KI & Reinforcement Learning: Konzepte\, Anwendungen und Interaktives Lernen
DESCRIPTION:In diesem interaktiven Workshop lernst du die Grundlagen des Reinforcement Learnings (RL) und des Q-Learnings praxisnah kennen.\n\n\nIm Rahmen des EDIH Rheinland (European Digital Innovation Hub) bieten wir dir einen interaktiven Workshop an\, in dem du die Grundlagen des Reinforcement Learnings (RL) und des Q-Learnings auf verständliche und praxisnahe Weise kennenlernst. \nWer steckt dahinter? \nDer Workshop wird vom EDIH Rheinland-Partner MTI (Manufacturing Technology Institute) der RWTH Aachen organisiert\, das für seine innovative Forschung im Bereich der Produktions- und Fertigungstechnik bekannt ist. Hier verbinden wir modernste Technologien mit praxisnahen Lösungen\, um Unternehmen und Institutionen auf ihrem Weg zur Digitalisierung und Automatisierung zu unterstützen. Gemeinsam mit dem digitalHUB Aachen\, einem führenden Netzwerk für digitale Innovationen\, bieten wir dir die perfekte Gelegenheit\, KI in Aktion zu erleben. \nWas erwartet dich im Workshop? \nIn ca. 2 Stunden bekommst du spannende Einblicke in: \n\nReinforcement Learning (RL):\nEine Schlüsseltechnologie der Künstlichen Intelligenz\, die es Maschinen ermöglicht\, durch Belohnungen aus ihren Handlungen zu lernen. RL wird bereits in Bereichen wie Robotik\, autonomes Fahren oder Logistik eingesetzt.\nQ-Learning:\nEin einfacher\, aber leistungsstarker RL-Algorithmus\, der Schritt für Schritt erklärt wird. Du lernst\, wie Maschinen optimale Entscheidungen treffen können\, und kannst dieses Wissen direkt anwenden.\nInteraktive Praxis mit Q-Snake:\nProbiere ein RL-Modell selbst aus: Mit einem simulierten Spiel kannst du erleben\, wie kleine Änderungen an Parametern das Verhalten eines Algorithmus verändern.\nReale Anwendungsfälle und Diskussion:\nWir zeigen dir\, wie RL in der Industrie genutzt wird\, und du kannst mit anderen Teilnehmenden und unseren Experten über Einsatzmöglichkeiten und Herausforderungen diskutieren.Was solltest du mitbringen?\n\nEinen Laptop (falls möglich)\, um die Übungen direkt mitzumachen – es geht aber auch ohne. \nEin Workshop vom MTI der RWTH Aachen und dem digitalHUB Aachen \n\nAnmeldung
URL:https://www.aachen.digital/en/event/ki-reinforcement-learning-konzepte-anwendungen-und-interaktives-lernen/
LOCATION:digitalHUB Aachen e.V.\, Jülicher Straße 72a\, Aachen\, NRW\, 52070\, Germany
ATTACH;FMTTYPE=image/jpeg:https://www.aachen.digital/wp-content/uploads/2024/12/a984e7affcc7a5ae13a450e64dc31628.jpg
END:VEVENT
BEGIN:VEVENT
DTSTART;TZID=Europe/Berlin:20250108T093000
DTEND;TZID=Europe/Berlin:20250108T103000
DTSTAMP:20260424T071531
CREATED:20241126T134010Z
LAST-MODIFIED:20241220T102953Z
UID:10006964-1736328600-1736332200@www.aachen.digital
SUMMARY:Startup-Frühstück
DESCRIPTION:Lerne unsere HUB-Community kennen und tausche dich bei Brötchen und Kaffee mit anderen Startup-Begeisterten aus!\n\n\nDu hast Lust auf Food\, Coffee und Austausch mit der HUB-Community? \nDann starte beim Startup-Frühstück 🥐🥪 gemeinsam mit uns in den Tag! \nFreu dich auf leckere Brötchen\, einladenden Kaffee ☕ und interessante Gespräche in entspannter Atmosphäre. \nWir freuen uns auf dich! \nAnmeldung
URL:https://www.aachen.digital/en/event/startup-fruehstueck-13-2/
LOCATION:digitalHUB Aachen e.V. in der digitalCHURCH\, Jülicher Straße 72a\, Aachen\, NRW\, 52070\, Germany
ATTACH;FMTTYPE=image/jpeg:https://www.aachen.digital/wp-content/uploads/2024/11/528fbd72a3b2d3716755d57ff0c129dc.jpg
END:VEVENT
BEGIN:VEVENT
DTSTART;TZID=Europe/Berlin:20241211T093000
DTEND;TZID=Europe/Berlin:20241211T103000
DTSTAMP:20260424T071531
CREATED:20241126T134010Z
LAST-MODIFIED:20250102T110951Z
UID:10006963-1733909400-1733913000@www.aachen.digital
SUMMARY:Startup-Frühstück
DESCRIPTION:Lerne unsere HUB-Community kennen und tausche dich bei Brötchen und Kaffee mit anderen Startup-Begeisterten aus!\n\n\nDu hast Lust auf Food\, Coffee und Austausch mit der HUB-Community? \nDann starte beim Startup Frühstück 🥐🥪 gemeinsam mit uns in den Tag! \nFreu dich auf leckere Brötchen\, einladenden Kaffee ☕\, Weihnachtsplätzchen\, Musik und interessante Gespräche in entspannter Atmosphäre. \nWir freuen uns auf dich! \nKostenlose Anmeldung
URL:https://www.aachen.digital/en/event/startup-fruehstueck-11-2/
LOCATION:digitalHUB Aachen e.V. in der digitalCHURCH\, Jülicher Straße 72a\, Aachen\, NRW\, 52070\, Germany
ATTACH;FMTTYPE=image/jpeg:https://www.aachen.digital/wp-content/uploads/2024/11/ccd694d1e4ca2cf1ce894897530883b5.jpg
END:VEVENT
BEGIN:VEVENT
DTSTART;TZID=Europe/Berlin:20241205T150000
DTEND;TZID=Europe/Berlin:20241205T180000
DTSTAMP:20260424T071531
CREATED:20241107T144637Z
LAST-MODIFIED:20241127T145148Z
UID:10006267-1733410800-1733421600@www.aachen.digital
SUMMARY:9. ordentliche Mitgliederversammlung des digitalHUB Aachen e.V.
DESCRIPTION:Am 5. Dezember 2024 findet die jährliche Mitgliederversammlung des digitalHUB Aachen statt. \nWir freuen uns\, mit dir gemeinsam auf ein erfolgreiches und aufregendes Jahr zurückzublicken und dir einen Ausblick auf das kommende Jahr 2025 zu geben. Eingeladen sind neben den stimmberechtigten gesetzlichen Vertreter:innen auch alle interessierten Mitarbeiter:innen aus den Mitgliedsunternehmen. \nIm Anschluss an die Mitgliederversammlung findet auch dieses Jahr unser gemütliches Weihnachts-ComeTogether statt\, bei dem du mit einer Tasse Glühwein unseren Mini-Weihnachtsmarkt erkunden und gemeinsam mit uns den Abend ausklingen lassen kannst. \nMehr Informationen zu unserem Weihnachts-ComeTogether findest du  hier.
URL:https://www.aachen.digital/en/event/9-ordentliche-mitgliederversammlung-des-digitalhub-aachen-e-v/
LOCATION:digitalHUB Aachen e.V. in der digitalCHURCH\, Jülicher Straße 72a\, Aachen\, NRW\, 52070\, Germany
ATTACH;FMTTYPE=image/jpeg:https://www.aachen.digital/wp-content/uploads/2024/11/Mitgliederversammlung-1920x1080-1.jpg
END:VEVENT
END:VCALENDAR