BEGIN:VCALENDAR
VERSION:2.0
PRODID:-//digitalHUB Aachen - ECPv6.15.20//NONSGML v1.0//EN
CALSCALE:GREGORIAN
METHOD:PUBLISH
X-ORIGINAL-URL:https://www.aachen.digital/en/
X-WR-CALDESC:Events for digitalHUB Aachen
REFRESH-INTERVAL;VALUE=DURATION:PT1H
X-Robots-Tag:noindex
X-PUBLISHED-TTL:PT1H
BEGIN:VTIMEZONE
TZID:Europe/Berlin
BEGIN:DAYLIGHT
TZOFFSETFROM:+0100
TZOFFSETTO:+0200
TZNAME:CEST
DTSTART:20250330T010000
END:DAYLIGHT
BEGIN:STANDARD
TZOFFSETFROM:+0200
TZOFFSETTO:+0100
TZNAME:CET
DTSTART:20251026T010000
END:STANDARD
BEGIN:DAYLIGHT
TZOFFSETFROM:+0100
TZOFFSETTO:+0200
TZNAME:CEST
DTSTART:20260329T010000
END:DAYLIGHT
BEGIN:STANDARD
TZOFFSETFROM:+0200
TZOFFSETTO:+0100
TZNAME:CET
DTSTART:20261025T010000
END:STANDARD
BEGIN:DAYLIGHT
TZOFFSETFROM:+0100
TZOFFSETTO:+0200
TZNAME:CEST
DTSTART:20270328T010000
END:DAYLIGHT
BEGIN:STANDARD
TZOFFSETFROM:+0200
TZOFFSETTO:+0100
TZNAME:CET
DTSTART:20271031T010000
END:STANDARD
END:VTIMEZONE
BEGIN:VEVENT
DTSTART;TZID=Europe/Berlin:20261209T103000
DTEND;TZID=Europe/Berlin:20261209T133000
DTSTAMP:20260423T220146
CREATED:20251223T083719Z
LAST-MODIFIED:20260205T190036Z
UID:10007593-1796812200-1796823000@www.aachen.digital
SUMMARY:Sprechstunde: Von der Idee zum Schutzrecht mit HEILEIN IP LAW
DESCRIPTION:Von der Idee zum Schutzrecht – IP Förderung & Strategien für Gründer:innen in der Sprechstunde der Kanzlei HEILEIN IP LAW\n\n\nIP Förderung & Strategien für Gründer:innen \nIn der Sprechstunde zum „Safety Pack IP“ geht es um die Dos and Don’ts in Bezug auf IP\, um keine Rechte zu verletzen und das eigene geistige Eigentum (IP) zu schützen. Ziel der Sprechstunde ist es\, Gründer:innen und Unternehmen eine klare\, verständliche und praxisnahe Orientierung zu geben\, welche IP-Maßnahmen wann sinnvoll sind\, welche Risiken vermieden werden sollten und wie sich begrenzte Budgets strategisch optimal einsetzen lassen. \nDie Sprechstunde richtet sich an: \n\nStudierende und Gründungsinteressierte ohne bisherige Gründung\nStartups in der frühen oder fortgeschrittenen Phase\nScaleups und KMU\nUnternehmen\, die international skalieren und bestehende IP kosteneffizient territorial ausweiten möchten\n\nDie Beratung hinsichtlich des „Safety Pack IP“ umfasst u.a.: \n\nBeratung zu Fördermöglichkeiten für Patente\, Marken und Designs\nKostenfreie Übernahme oder Unterstützung bei Förderantragstellung\, Überwachung und Abwicklung\nEntwicklung einer passenden IP-Anmeldestrategie\nBeratung zum Schutz von Geschäfts- und Produktideen durch\nPatente\, Marken\, Designs und Domains\nHinweise zu Recherchen und Vorgehensweisen zur Vermeidung von Schutzrechtsverletzungen\nStrategische Priorisierung von IP-Maßnahmen\n(Was ist jetzt wichtig? Was später?) – auch mit Blick auf Investoren-\, Förder- und Wachstumsphasen\nErste Einschätzung zur Internationalisierung von Schutzrechten\n\nÜber HEILEIN IP LAW: \nDas Team der HEILEIN IP LAW hilft insbesondere Startups und ist spezialisiert auf alle nationalen\, europäischen und internationalen Verfahren zur Erlangung und Verteidigung von Gewerblichen Schutzrechten (Patente\, Designs\, Marken).\nJochen Maxton ist deutscher Patentanwalt am Kölner Standort. Er hat Maschinenbau an der RWTH Aachen studiert und fühlt sich der Aachener Gründungs- und Innovationsszene bis heute eng verbunden. Ein besonderer Schwerpunkt seiner Tätigkeit liegt in der strategischen IP-Beratung von Gründer:innen\, Startups\, Scaleups und Social Entrepreneurs\, die innovative Geschäftsmodelle entwickeln und dabei wirtschaftlichen wie gesellschaftlichen Impact erzielen wollen. \nWeitere Informationen: \nDiese Sprechstunde wird monatlich nach dem Startup-Frühstück angeboten. \nFolgende Beratungsslots stehen zur Verfügung: \n\n10:30 – 11:15 Uhr\n11:15 – 12:00 Uhr\n12:00 – 12:45 Uhr\n12:45 – 13:30 Uhr\n\n  \nJETZT ANMELDEN
URL:https://www.aachen.digital/en/event/sprechstunde-von-der-idee-zum-schutzrecht/
LOCATION:digitalHUB Aachen e.V. in der digitalCHURCH\, Jülicher Straße 72a\, Aachen\, NRW\, 52070\, Germany
ATTACH;FMTTYPE=image/jpeg:https://www.aachen.digital/wp-content/uploads/2025/12/ef04c0576ce8a30fc4ac753e9b127f17.jpg
END:VEVENT
BEGIN:VEVENT
DTSTART;TZID=Europe/Berlin:20261209T103000
DTEND;TZID=Europe/Berlin:20261209T140000
DTSTAMP:20260423T220146
CREATED:20251103T142913Z
LAST-MODIFIED:20260203T105539Z
UID:10007500-1796812200-1796824800@www.aachen.digital
SUMMARY:Sprechstunde: Versicherungs-Essentials für Startups by Generali
DESCRIPTION:Von der Absicherung innovativer Geschäftsmodelle\, über die Absicherung von Startups\, bis hin zur persönlichen Absicherung\n\n\nMaxima Rinkens bietet im Rahmen ihrer Sprechstunde die unverbindliche Beratungsleistungen der Generali für Startups aus dem digitalHUB an. \nWeitere Informationen: \nDiese Sprechstunde wird quartalsweise nach dem Startup-Frühstück angeboten. \nFolgende Beratungsslots stehen zur Verfügung: \n  \n\n10:30 – 11:30 Uhr\n11:30 – 12:30 Uhr\n12:30 – 13:30 Uhr\n13:30 – 14:30 Uhr\n\nJetzt anmelden!
URL:https://www.aachen.digital/en/event/sprechstunde-versicherungs-essentials-fuer-startups-by-generali-17/
LOCATION:digitalHUB Aachen e.V. in der digitalCHURCH\, Jülicher Straße 72a\, Aachen\, NRW\, 52070\, Germany
ATTACH;FMTTYPE=image/jpeg:https://www.aachen.digital/wp-content/uploads/2025/10/c2a9cd14f9d952efbe76afeaa97d383e.jpg
END:VEVENT
BEGIN:VEVENT
DTSTART;TZID=Europe/Berlin:20261209T103000
DTEND;TZID=Europe/Berlin:20261209T150000
DTSTAMP:20260423T220146
CREATED:20251030T094451Z
LAST-MODIFIED:20251030T094451Z
UID:10007486-1796812200-1796828400@www.aachen.digital
SUMMARY:Beyond conventional SaaS: Zoho consultation hours to scale your startup
DESCRIPTION:Accelerate your startup’s growth with expert Zoho guidance\n\n\nAre you looking to streamline your business operations with the right technology stack? Join our monthly Zoho for Startups consultation hours at digitalHUB Aachen and discover how to transform your business processes with world-class SaaS solutions. \n  \nWhat you’ll get: \n\nFree consultation on choosing the right Zoho applications for your specific business needs\nPersonalized guidance on implementing CRM\, Marketing Automation\, Custom Apps\, Project management\, finance\, and collaboration tools\nAccess to the Zoho for Startups program – receive up to €4.000 in Zoho Wallet credits valid for 360 days\nHands-on support for onboarding and initial setup\nAdvice on scaling your tech infrastructure as you growEntrepreneurship is hard. We’re here to take one problem away. Ready to supercharge your startup’s efficiency? Book your consultation slot and bring your specific business challenges.\n\nRegister now! \nWhy Zoho for Startups? \nThrough the partnership between Zoho and digitalHUB Aachen\, eligible startups gain access to Zoho’s comprehensive suite of 55+ integrated applications – from CRM and project management to accounting and collaboration tools. Unlike ad-supported platforms\, Zoho prioritizes data privacy and offers seamless integration across all applications. \nDuration: 30 or 45 minute focused consultation \nLocation: at the digitalHUB (Jülicher Str. 72a\, 52070 Aachen) or online \nLanguage: English \n  \nAbout Zoho: \nZoho is a privately held and bootstrapped software provider\, with an extensive range of business solutions\, including CRM\, marketing automation\, accounting\, HR and workplace tools. \nZoho serves 130+ million users globally and are trusted by major companies such as Amazon\, Netflix\, Suzuki\, and Bose. We have a team of 18.000+ employees globally and are committed to driving innovation.
URL:https://www.aachen.digital/en/event/beyond-conventional-saas-zoho-consultation-hours-to-scale-your-startup-16/
LOCATION:digitalHUB Aachen e.V. in der digitalCHURCH\, Jülicher Straße 72a\, Aachen\, NRW\, 52070\, Germany
ATTACH;FMTTYPE=image/jpeg:https://www.aachen.digital/wp-content/uploads/2025/10/c133a38646cff5fa9c90ba606937098d.jpg
END:VEVENT
END:VCALENDAR