BEGIN:VCALENDAR
VERSION:2.0
PRODID:-//digitalHUB Aachen - ECPv6.15.20//NONSGML v1.0//EN
CALSCALE:GREGORIAN
METHOD:PUBLISH
X-ORIGINAL-URL:https://www.aachen.digital/en/
X-WR-CALDESC:Events for digitalHUB Aachen
REFRESH-INTERVAL;VALUE=DURATION:PT1H
X-Robots-Tag:noindex
X-PUBLISHED-TTL:PT1H
BEGIN:VTIMEZONE
TZID:Europe/Berlin
BEGIN:DAYLIGHT
TZOFFSETFROM:+0100
TZOFFSETTO:+0200
TZNAME:CEST
DTSTART:20210328T010000
END:DAYLIGHT
BEGIN:STANDARD
TZOFFSETFROM:+0200
TZOFFSETTO:+0100
TZNAME:CET
DTSTART:20211031T010000
END:STANDARD
BEGIN:DAYLIGHT
TZOFFSETFROM:+0100
TZOFFSETTO:+0200
TZNAME:CEST
DTSTART:20220327T010000
END:DAYLIGHT
BEGIN:STANDARD
TZOFFSETFROM:+0200
TZOFFSETTO:+0100
TZNAME:CET
DTSTART:20221030T010000
END:STANDARD
BEGIN:DAYLIGHT
TZOFFSETFROM:+0100
TZOFFSETTO:+0200
TZNAME:CEST
DTSTART:20230326T010000
END:DAYLIGHT
BEGIN:STANDARD
TZOFFSETFROM:+0200
TZOFFSETTO:+0100
TZNAME:CET
DTSTART:20231029T010000
END:STANDARD
END:VTIMEZONE
BEGIN:VEVENT
DTSTART;TZID=Europe/Berlin:20220614T160000
DTEND;TZID=Europe/Berlin:20220614T190000
DTSTAMP:20260424T002213
CREATED:20220504T111825Z
LAST-MODIFIED:20220614T114546Z
UID:10005670-1655222400-1655233200@www.aachen.digital
SUMMARY:Handwerk trifft Digitalisierung made in Aachen
DESCRIPTION:Die digitale Transformation ist für das Handwerk mit großen Chancen verbunden. Viele Betriebe aus der Region Aachen setzen bereits heute auf innovative digitale Lösungen und sind damit wirtschaftlich erfolgreich. Um Sie bei der Suche nach neuen digitalen Lösungen und möglichen neuen Geschäftsmodellen zu unterstützen\, laden die Handwerkskammer Aachen und der digitalHUB Aachen Sie herzlich ein. \nKommen Sie in die digitalCHURCH und lernen Sie die Zukunftsprojekte der Region Aachen kennen! \nKostenlose Anmeldung
URL:https://www.aachen.digital/en/event/handwerk-trifft-digitalisierung-made-in-aachen/
LOCATION:digitalHUB Aachen\, Jülicher Str. 72a\, Aachen\, Nordrhein-Westfalen\, 52070\, Germany
ATTACH;FMTTYPE=image/jpeg:https://www.aachen.digital/wp-content/uploads/2022/05/220614_Handwerk-trifft-Digitalisierung_stage.jpg
END:VEVENT
END:VCALENDAR