BEGIN:VCALENDAR
VERSION:2.0
PRODID:-//digitalHUB Aachen - ECPv6.15.20//NONSGML v1.0//EN
CALSCALE:GREGORIAN
METHOD:PUBLISH
X-ORIGINAL-URL:https://www.aachen.digital/en/
X-WR-CALDESC:Events for digitalHUB Aachen
REFRESH-INTERVAL;VALUE=DURATION:PT1H
X-Robots-Tag:noindex
X-PUBLISHED-TTL:PT1H
BEGIN:VTIMEZONE
TZID:Europe/Berlin
BEGIN:DAYLIGHT
TZOFFSETFROM:+0100
TZOFFSETTO:+0200
TZNAME:CEST
DTSTART:20210328T010000
END:DAYLIGHT
BEGIN:STANDARD
TZOFFSETFROM:+0200
TZOFFSETTO:+0100
TZNAME:CET
DTSTART:20211031T010000
END:STANDARD
BEGIN:DAYLIGHT
TZOFFSETFROM:+0100
TZOFFSETTO:+0200
TZNAME:CEST
DTSTART:20220327T010000
END:DAYLIGHT
BEGIN:STANDARD
TZOFFSETFROM:+0200
TZOFFSETTO:+0100
TZNAME:CET
DTSTART:20221030T010000
END:STANDARD
BEGIN:DAYLIGHT
TZOFFSETFROM:+0100
TZOFFSETTO:+0200
TZNAME:CEST
DTSTART:20230326T010000
END:DAYLIGHT
BEGIN:STANDARD
TZOFFSETFROM:+0200
TZOFFSETTO:+0100
TZNAME:CET
DTSTART:20231029T010000
END:STANDARD
END:VTIMEZONE
BEGIN:VEVENT
DTSTART;TZID=Europe/Berlin:20220818T161500
DTEND;TZID=Europe/Berlin:20220818T200000
DTSTAMP:20260423T214038
CREATED:20220530T130512Z
LAST-MODIFIED:20220812T141903Z
UID:10006254-1660839300-1660852800@www.aachen.digital
SUMMARY:New Work needs New Education
DESCRIPTION:Bereitet die aktuelle Bildungslandschaft genug auf die Bedürfnisse der Arbeitswelt vor? Wie wird der Übergang von Bildung zu Beruf aktuell gestaltet und wo liegen hierbei Optimierungspotenziale in puncto didaktischen Konzeptes\, Inhalte\, Medientechnik und des Raumangebotes? \nBrauchen wir neben „New Work“ nicht eigentlich auch den Ansatz „New Education“\, um gegenseitig “anschlussfähig” zu sein? – Diese und weitere Fragen versuchen wir bei unserem Live Event zu beantworten.
URL:https://www.aachen.digital/en/event/new-work-needs-new-education/
LOCATION:digitalHUB Aachen\, Jülicher Str. 72a\, Aachen\, Nordrhein-Westfalen\, 52070\, Germany
ATTACH;FMTTYPE=image/jpeg:https://www.aachen.digital/wp-content/uploads/2022/05/Visuals_NWNE_stage-scaled.jpg
END:VEVENT
END:VCALENDAR