BEGIN:VCALENDAR
VERSION:2.0
PRODID:-//digitalHUB Aachen - ECPv6.15.20//NONSGML v1.0//EN
CALSCALE:GREGORIAN
METHOD:PUBLISH
X-ORIGINAL-URL:https://www.aachen.digital/en/
X-WR-CALDESC:Events for digitalHUB Aachen
REFRESH-INTERVAL;VALUE=DURATION:PT1H
X-Robots-Tag:noindex
X-PUBLISHED-TTL:PT1H
BEGIN:VTIMEZONE
TZID:Europe/Berlin
BEGIN:DAYLIGHT
TZOFFSETFROM:+0100
TZOFFSETTO:+0200
TZNAME:CEST
DTSTART:20250330T010000
END:DAYLIGHT
BEGIN:STANDARD
TZOFFSETFROM:+0200
TZOFFSETTO:+0100
TZNAME:CET
DTSTART:20251026T010000
END:STANDARD
BEGIN:DAYLIGHT
TZOFFSETFROM:+0100
TZOFFSETTO:+0200
TZNAME:CEST
DTSTART:20260329T010000
END:DAYLIGHT
BEGIN:STANDARD
TZOFFSETFROM:+0200
TZOFFSETTO:+0100
TZNAME:CET
DTSTART:20261025T010000
END:STANDARD
BEGIN:DAYLIGHT
TZOFFSETFROM:+0100
TZOFFSETTO:+0200
TZNAME:CEST
DTSTART:20270328T010000
END:DAYLIGHT
BEGIN:STANDARD
TZOFFSETFROM:+0200
TZOFFSETTO:+0100
TZNAME:CET
DTSTART:20271031T010000
END:STANDARD
END:VTIMEZONE
BEGIN:VEVENT
DTSTART;TZID=Europe/Berlin:20260511T170000
DTEND;TZID=Europe/Berlin:20260511T190000
DTSTAMP:20260423T123746
CREATED:20251208T152235Z
LAST-MODIFIED:20260127T093433Z
UID:10007568-1778518800-1778526000@www.aachen.digital
SUMMARY:Fokusgruppentreffen KI
DESCRIPTION:Die Fokusgruppe KI lädt zum monatlichen Fokusgruppentreffen in den digitalHUB ein. \nAgenda: \n\nGet-together\nOrganisatorisches\nAktuelles\nVorstellung Teilnehmer\nKI-Tool/Tipp des Monats\nNeues aus den Fachgruppen\nKI-Events\nKI und Compliance\nBusiness UseCases mit KI\nGenerative KI\nLandingPage/PR\nggf. Impulsvortrag\nggf. Fragen bzw. Diskussion zum Vortrag bzw. aktuellen Themen\nAusklang/Networking\n\nANMELDUNG (auf der Mitglieder-Plattform) \nSolltest du kein Mitglied im digitalHUB Aachen sein\, kannst du dich bei Anna.Majchrzak@hubaachen.de zu dem Treffen anmelden.
URL:https://www.aachen.digital/en/event/fokusgruppentreffen-ki-15/
LOCATION:digitalHUB Aachen e.V. in der digitalCHURCH\, Jülicher Straße 72a\, Aachen\, NRW\, 52070\, Germany
ATTACH;FMTTYPE=image/jpeg:https://www.aachen.digital/wp-content/uploads/2025/02/Design-ohne-Titel-60.jpg
ORGANIZER;CN="digitalHUB Aachen":MAILTO:kontakt@hubaachen.de
END:VEVENT
BEGIN:VEVENT
DTSTART;TZID=Europe/Berlin:20260520T163000
DTEND;TZID=Europe/Berlin:20260520T180000
DTSTAMP:20260423T123746
CREATED:20260108T162620Z
LAST-MODIFIED:20260108T162620Z
UID:10007633-1779294600-1779300000@www.aachen.digital
SUMMARY:Fokusgruppentreffen Sustainability & Social Entrepreneurship
DESCRIPTION:Wir treffen uns regelmäßig jeden dritten Mittwoch im Monat zum Austausch zu aktuellen Trends und Themen\, zum Netzwerken und um Projekte und Ideen umzusetzen. Eingeladen sind Mitglieder der Fokusgruppe und des digitalHUB\, aber auch Nichtmitglieder wie Startups\, Initiativen und NGOs\, denen die Themen Sustainability und Social Entrepreneurship am Herzen liegen. \nDie Treffen finden hybrid von 16:30–18:00 Uhr statt. \nvor Ort: \ndigitalCHURCH – der Raum wird jeweils vor der Veranstaltung bekannt gegeben \nJülicher Str. 72a\, 52070 Aachen \nonline: \nOnline Besprechungslink \nANMELDUNG \n 
URL:https://www.aachen.digital/en/event/fokusgruppentreffen-sustainability-social-entrepreneurship/2026-05-20/
LOCATION:online & digitalHUB\, Jülicher Str. 72a\, Aachen\, 52070
ATTACH;FMTTYPE=image/webp:https://www.aachen.digital/wp-content/uploads/2026/01/fokusgruppentreffen-sustainability.webp
ORGANIZER;CN="digitalHUB Aachen":MAILTO:kontakt@hubaachen.de
END:VEVENT
BEGIN:VEVENT
DTSTART;TZID=Europe/Berlin:20260608T170000
DTEND;TZID=Europe/Berlin:20260608T190000
DTSTAMP:20260423T123746
CREATED:20251208T152618Z
LAST-MODIFIED:20260127T093350Z
UID:10007569-1780938000-1780945200@www.aachen.digital
SUMMARY:Fokusgruppentreffen KI
DESCRIPTION:Die Fokusgruppe KI lädt zum monatlichen Fokusgruppentreffen in den digitalHUB ein. \nAgenda: \n\nGet-together\nOrganisatorisches\nAktuelles\nVorstellung Teilnehmer\nKI-Tool/Tipp des Monats\nNeues aus den Fachgruppen\nKI-Events\nKI und Compliance\nBusiness UseCases mit KI\nGenerative KI\nLandingPage/PR\nggf. Impulsvortrag\nggf. Fragen bzw. Diskussion zum Vortrag bzw. aktuellen Themen\nAusklang/Networking\n\nANMELDUNG (auf der Mitglieder-Plattform) \nSolltest du kein Mitglied im digitalHUB Aachen sein\, kannst du dich bei Anna.Majchrzak@hubaachen.de zu dem Treffen anmelden.
URL:https://www.aachen.digital/en/event/fokusgruppentreffen-ki-16/
LOCATION:digitalHUB Aachen e.V. in der digitalCHURCH\, Jülicher Straße 72a\, Aachen\, NRW\, 52070\, Germany
ATTACH;FMTTYPE=image/jpeg:https://www.aachen.digital/wp-content/uploads/2025/02/Design-ohne-Titel-60.jpg
ORGANIZER;CN="digitalHUB Aachen":MAILTO:kontakt@hubaachen.de
END:VEVENT
BEGIN:VEVENT
DTSTART;TZID=Europe/Berlin:20260617T163000
DTEND;TZID=Europe/Berlin:20260617T180000
DTSTAMP:20260423T123746
CREATED:20260108T162620Z
LAST-MODIFIED:20260108T162620Z
UID:10007634-1781713800-1781719200@www.aachen.digital
SUMMARY:Fokusgruppentreffen Sustainability & Social Entrepreneurship
DESCRIPTION:Wir treffen uns regelmäßig jeden dritten Mittwoch im Monat zum Austausch zu aktuellen Trends und Themen\, zum Netzwerken und um Projekte und Ideen umzusetzen. Eingeladen sind Mitglieder der Fokusgruppe und des digitalHUB\, aber auch Nichtmitglieder wie Startups\, Initiativen und NGOs\, denen die Themen Sustainability und Social Entrepreneurship am Herzen liegen. \nDie Treffen finden hybrid von 16:30–18:00 Uhr statt. \nvor Ort: \ndigitalCHURCH – der Raum wird jeweils vor der Veranstaltung bekannt gegeben \nJülicher Str. 72a\, 52070 Aachen \nonline: \nOnline Besprechungslink \nANMELDUNG \n 
URL:https://www.aachen.digital/en/event/fokusgruppentreffen-sustainability-social-entrepreneurship/2026-06-17/
LOCATION:online & digitalHUB\, Jülicher Str. 72a\, Aachen\, 52070
ATTACH;FMTTYPE=image/webp:https://www.aachen.digital/wp-content/uploads/2026/01/fokusgruppentreffen-sustainability.webp
ORGANIZER;CN="digitalHUB Aachen":MAILTO:kontakt@hubaachen.de
END:VEVENT
BEGIN:VEVENT
DTSTART;TZID=Europe/Berlin:20260713T170000
DTEND;TZID=Europe/Berlin:20260713T190000
DTSTAMP:20260423T123746
CREATED:20251208T152834Z
LAST-MODIFIED:20260127T093304Z
UID:10007570-1783962000-1783969200@www.aachen.digital
SUMMARY:Fokusgruppentreffen KI
DESCRIPTION:Die Fokusgruppe KI lädt zum monatlichen Fokusgruppentreffen in den digitalHUB ein. \nAgenda: \n\nGet-together\nOrganisatorisches\nAktuelles\nVorstellung Teilnehmer\nKI-Tool/Tipp des Monats\nNeues aus den Fachgruppen\nKI-Events\nKI und Compliance\nBusiness UseCases mit KI\nGenerative KI\nLandingPage/PR\nggf. Impulsvortrag\nggf. Fragen bzw. Diskussion zum Vortrag bzw. aktuellen Themen\nAusklang/Networking\n\nANMELDUNG (auf der Mitglieder-Plattform) \nSolltest du kein Mitglied im digitalHUB Aachen sein\, kannst du dich bei Anna.Majchrzak@hubaachen.de zu dem Treffen anmelden.
URL:https://www.aachen.digital/en/event/fokusgruppentreffen-ki-17/
LOCATION:digitalHUB Aachen e.V. in der digitalCHURCH\, Jülicher Straße 72a\, Aachen\, NRW\, 52070\, Germany
ATTACH;FMTTYPE=image/jpeg:https://www.aachen.digital/wp-content/uploads/2025/02/Design-ohne-Titel-60.jpg
ORGANIZER;CN="digitalHUB Aachen":MAILTO:kontakt@hubaachen.de
END:VEVENT
BEGIN:VEVENT
DTSTART;TZID=Europe/Berlin:20260715T163000
DTEND;TZID=Europe/Berlin:20260715T180000
DTSTAMP:20260423T123746
CREATED:20260108T162620Z
LAST-MODIFIED:20260108T162620Z
UID:10007635-1784133000-1784138400@www.aachen.digital
SUMMARY:Fokusgruppentreffen Sustainability & Social Entrepreneurship
DESCRIPTION:Wir treffen uns regelmäßig jeden dritten Mittwoch im Monat zum Austausch zu aktuellen Trends und Themen\, zum Netzwerken und um Projekte und Ideen umzusetzen. Eingeladen sind Mitglieder der Fokusgruppe und des digitalHUB\, aber auch Nichtmitglieder wie Startups\, Initiativen und NGOs\, denen die Themen Sustainability und Social Entrepreneurship am Herzen liegen. \nDie Treffen finden hybrid von 16:30–18:00 Uhr statt. \nvor Ort: \ndigitalCHURCH – der Raum wird jeweils vor der Veranstaltung bekannt gegeben \nJülicher Str. 72a\, 52070 Aachen \nonline: \nOnline Besprechungslink \nANMELDUNG \n 
URL:https://www.aachen.digital/en/event/fokusgruppentreffen-sustainability-social-entrepreneurship/2026-07-15/
LOCATION:online & digitalHUB\, Jülicher Str. 72a\, Aachen\, 52070
ATTACH;FMTTYPE=image/webp:https://www.aachen.digital/wp-content/uploads/2026/01/fokusgruppentreffen-sustainability.webp
ORGANIZER;CN="digitalHUB Aachen":MAILTO:kontakt@hubaachen.de
END:VEVENT
BEGIN:VEVENT
DTSTART;TZID=Europe/Berlin:20260810T170000
DTEND;TZID=Europe/Berlin:20260810T190000
DTSTAMP:20260423T123746
CREATED:20251208T153313Z
LAST-MODIFIED:20260127T093224Z
UID:10007571-1786381200-1786388400@www.aachen.digital
SUMMARY:Fokusgruppentreffen KI
DESCRIPTION:Die Fokusgruppe KI lädt zum monatlichen Fokusgruppentreffen in den digitalHUB ein. \nAgenda: \n\nGet-together\nOrganisatorisches\nAktuelles\nVorstellung Teilnehmer\nKI-Tool/Tipp des Monats\nNeues aus den Fachgruppen\nKI-Events\nKI und Compliance\nBusiness UseCases mit KI\nGenerative KI\nLandingPage/PR\nggf. Impulsvortrag\nggf. Fragen bzw. Diskussion zum Vortrag bzw. aktuellen Themen\nAusklang/Networking\n\nANMELDUNG (auf der Mitglieder-Plattform) \nSolltest du kein Mitglied im digitalHUB Aachen sein\, kannst du dich bei Anna.Majchrzak@hubaachen.de zu dem Treffen anmelden.
URL:https://www.aachen.digital/en/event/fokusgruppentreffen-ki-18/
LOCATION:digitalHUB Aachen e.V. in der digitalCHURCH\, Jülicher Straße 72a\, Aachen\, NRW\, 52070\, Germany
ATTACH;FMTTYPE=image/jpeg:https://www.aachen.digital/wp-content/uploads/2025/02/Design-ohne-Titel-60.jpg
ORGANIZER;CN="digitalHUB Aachen":MAILTO:kontakt@hubaachen.de
END:VEVENT
BEGIN:VEVENT
DTSTART;TZID=Europe/Berlin:20260819T163000
DTEND;TZID=Europe/Berlin:20260819T180000
DTSTAMP:20260423T123746
CREATED:20260108T162620Z
LAST-MODIFIED:20260108T162620Z
UID:10007636-1787157000-1787162400@www.aachen.digital
SUMMARY:Fokusgruppentreffen Sustainability & Social Entrepreneurship
DESCRIPTION:Wir treffen uns regelmäßig jeden dritten Mittwoch im Monat zum Austausch zu aktuellen Trends und Themen\, zum Netzwerken und um Projekte und Ideen umzusetzen. Eingeladen sind Mitglieder der Fokusgruppe und des digitalHUB\, aber auch Nichtmitglieder wie Startups\, Initiativen und NGOs\, denen die Themen Sustainability und Social Entrepreneurship am Herzen liegen. \nDie Treffen finden hybrid von 16:30–18:00 Uhr statt. \nvor Ort: \ndigitalCHURCH – der Raum wird jeweils vor der Veranstaltung bekannt gegeben \nJülicher Str. 72a\, 52070 Aachen \nonline: \nOnline Besprechungslink \nANMELDUNG \n 
URL:https://www.aachen.digital/en/event/fokusgruppentreffen-sustainability-social-entrepreneurship/2026-08-19/
LOCATION:online & digitalHUB\, Jülicher Str. 72a\, Aachen\, 52070
ATTACH;FMTTYPE=image/webp:https://www.aachen.digital/wp-content/uploads/2026/01/fokusgruppentreffen-sustainability.webp
ORGANIZER;CN="digitalHUB Aachen":MAILTO:kontakt@hubaachen.de
END:VEVENT
BEGIN:VEVENT
DTSTART;TZID=Europe/Berlin:20260914T170000
DTEND;TZID=Europe/Berlin:20260914T190000
DTSTAMP:20260423T123746
CREATED:20251208T154658Z
LAST-MODIFIED:20260127T093144Z
UID:10007572-1789405200-1789412400@www.aachen.digital
SUMMARY:Fokusgruppentreffen KI
DESCRIPTION:Die Fokusgruppe KI lädt zum monatlichen Fokusgruppentreffen in den digitalHUB ein. \nAgenda: \n\nGet-together\nOrganisatorisches\nAktuelles\nVorstellung Teilnehmer\nKI-Tool/Tipp des Monats\nNeues aus den Fachgruppen\nKI-Events\nKI und Compliance\nBusiness UseCases mit KI\nGenerative KI\nLandingPage/PR\nggf. Impulsvortrag\nggf. Fragen bzw. Diskussion zum Vortrag bzw. aktuellen Themen\nAusklang/Networking\n\nANMELDUNG (auf der Mitglieder-Plattform) \nSolltest du kein Mitglied im digitalHUB Aachen sein\, kannst du dich bei Anna.Majchrzak@hubaachen.de zu dem Treffen anmelden.
URL:https://www.aachen.digital/en/event/fokusgruppentreffen-ki-19/
LOCATION:digitalHUB Aachen e.V. in der digitalCHURCH\, Jülicher Straße 72a\, Aachen\, NRW\, 52070\, Germany
ATTACH;FMTTYPE=image/jpeg:https://www.aachen.digital/wp-content/uploads/2025/02/Design-ohne-Titel-60.jpg
ORGANIZER;CN="digitalHUB Aachen":MAILTO:kontakt@hubaachen.de
END:VEVENT
BEGIN:VEVENT
DTSTART;TZID=Europe/Berlin:20260916T163000
DTEND;TZID=Europe/Berlin:20260916T180000
DTSTAMP:20260423T123746
CREATED:20260108T162620Z
LAST-MODIFIED:20260108T162620Z
UID:10007637-1789576200-1789581600@www.aachen.digital
SUMMARY:Fokusgruppentreffen Sustainability & Social Entrepreneurship
DESCRIPTION:Wir treffen uns regelmäßig jeden dritten Mittwoch im Monat zum Austausch zu aktuellen Trends und Themen\, zum Netzwerken und um Projekte und Ideen umzusetzen. Eingeladen sind Mitglieder der Fokusgruppe und des digitalHUB\, aber auch Nichtmitglieder wie Startups\, Initiativen und NGOs\, denen die Themen Sustainability und Social Entrepreneurship am Herzen liegen. \nDie Treffen finden hybrid von 16:30–18:00 Uhr statt. \nvor Ort: \ndigitalCHURCH – der Raum wird jeweils vor der Veranstaltung bekannt gegeben \nJülicher Str. 72a\, 52070 Aachen \nonline: \nOnline Besprechungslink \nANMELDUNG \n 
URL:https://www.aachen.digital/en/event/fokusgruppentreffen-sustainability-social-entrepreneurship/2026-09-16/
LOCATION:online & digitalHUB\, Jülicher Str. 72a\, Aachen\, 52070
ATTACH;FMTTYPE=image/webp:https://www.aachen.digital/wp-content/uploads/2026/01/fokusgruppentreffen-sustainability.webp
ORGANIZER;CN="digitalHUB Aachen":MAILTO:kontakt@hubaachen.de
END:VEVENT
BEGIN:VEVENT
DTSTART;TZID=Europe/Berlin:20261012T170000
DTEND;TZID=Europe/Berlin:20261012T190000
DTSTAMP:20260423T123746
CREATED:20251208T154933Z
LAST-MODIFIED:20260127T093105Z
UID:10007573-1791824400-1791831600@www.aachen.digital
SUMMARY:Fokusgruppentreffen KI
DESCRIPTION:Die Fokusgruppe KI lädt zum monatlichen Fokusgruppentreffen in den digitalHUB ein. \nAgenda: \n\nGet-together\nOrganisatorisches\nAktuelles\nVorstellung Teilnehmer\nKI-Tool/Tipp des Monats\nNeues aus den Fachgruppen\nKI-Events\nKI und Compliance\nBusiness UseCases mit KI\nGenerative KI\nLandingPage/PR\nggf. Impulsvortrag\nggf. Fragen bzw. Diskussion zum Vortrag bzw. aktuellen Themen\nAusklang/Networking\n\nANMELDUNG (auf der Mitglieder-Plattform) \nSolltest du kein Mitglied im digitalHUB Aachen sein\, kannst du dich bei Anna.Majchrzak@hubaachen.de zu dem Treffen anmelden.
URL:https://www.aachen.digital/en/event/fokusgruppentreffen-ki-20/
LOCATION:digitalHUB Aachen e.V. in der digitalCHURCH\, Jülicher Straße 72a\, Aachen\, NRW\, 52070\, Germany
ATTACH;FMTTYPE=image/jpeg:https://www.aachen.digital/wp-content/uploads/2025/02/Design-ohne-Titel-60.jpg
ORGANIZER;CN="digitalHUB Aachen":MAILTO:kontakt@hubaachen.de
END:VEVENT
BEGIN:VEVENT
DTSTART;TZID=Europe/Berlin:20261021T163000
DTEND;TZID=Europe/Berlin:20261021T180000
DTSTAMP:20260423T123746
CREATED:20260108T162620Z
LAST-MODIFIED:20260108T162620Z
UID:10007638-1792600200-1792605600@www.aachen.digital
SUMMARY:Fokusgruppentreffen Sustainability & Social Entrepreneurship
DESCRIPTION:Wir treffen uns regelmäßig jeden dritten Mittwoch im Monat zum Austausch zu aktuellen Trends und Themen\, zum Netzwerken und um Projekte und Ideen umzusetzen. Eingeladen sind Mitglieder der Fokusgruppe und des digitalHUB\, aber auch Nichtmitglieder wie Startups\, Initiativen und NGOs\, denen die Themen Sustainability und Social Entrepreneurship am Herzen liegen. \nDie Treffen finden hybrid von 16:30–18:00 Uhr statt. \nvor Ort: \ndigitalCHURCH – der Raum wird jeweils vor der Veranstaltung bekannt gegeben \nJülicher Str. 72a\, 52070 Aachen \nonline: \nOnline Besprechungslink \nANMELDUNG \n 
URL:https://www.aachen.digital/en/event/fokusgruppentreffen-sustainability-social-entrepreneurship/2026-10-21/
LOCATION:online & digitalHUB\, Jülicher Str. 72a\, Aachen\, 52070
ATTACH;FMTTYPE=image/webp:https://www.aachen.digital/wp-content/uploads/2026/01/fokusgruppentreffen-sustainability.webp
ORGANIZER;CN="digitalHUB Aachen":MAILTO:kontakt@hubaachen.de
END:VEVENT
BEGIN:VEVENT
DTSTART;TZID=Europe/Berlin:20261109T170000
DTEND;TZID=Europe/Berlin:20261109T190000
DTSTAMP:20260423T123746
CREATED:20251208T155151Z
LAST-MODIFIED:20260127T092945Z
UID:10007574-1794243600-1794250800@www.aachen.digital
SUMMARY:Fokusgruppentreffen KI
DESCRIPTION:Die Fokusgruppe KI lädt zum monatlichen Fokusgruppentreffen in den digitalHUB ein. \nAgenda: \n\nGet-together\nOrganisatorisches\nAktuelles\nVorstellung Teilnehmer\nKI-Tool/Tipp des Monats\nNeues aus den Fachgruppen\nKI-Events\nKI und Compliance\nBusiness UseCases mit KI\nGenerative KI\nLandingPage/PR\nggf. Impulsvortrag\nggf. Fragen bzw. Diskussion zum Vortrag bzw. aktuellen Themen\nAusklang/Networking\n\nANMELDUNG (auf der Mitglieder-Plattform) \nSolltest du kein Mitglied im digitalHUB Aachen sein\, kannst du dich bei Anna.Majchrzak@hubaachen.de zu dem Treffen anmelden.
URL:https://www.aachen.digital/en/event/fokusgruppentreffen-ki-21/
LOCATION:digitalHUB Aachen e.V. in der digitalCHURCH\, Jülicher Straße 72a\, Aachen\, NRW\, 52070\, Germany
ATTACH;FMTTYPE=image/jpeg:https://www.aachen.digital/wp-content/uploads/2025/02/Design-ohne-Titel-60.jpg
ORGANIZER;CN="digitalHUB Aachen":MAILTO:kontakt@hubaachen.de
END:VEVENT
BEGIN:VEVENT
DTSTART;TZID=Europe/Berlin:20261118T163000
DTEND;TZID=Europe/Berlin:20261118T180000
DTSTAMP:20260423T123746
CREATED:20260108T162620Z
LAST-MODIFIED:20260108T162620Z
UID:10007639-1795019400-1795024800@www.aachen.digital
SUMMARY:Fokusgruppentreffen Sustainability & Social Entrepreneurship
DESCRIPTION:Wir treffen uns regelmäßig jeden dritten Mittwoch im Monat zum Austausch zu aktuellen Trends und Themen\, zum Netzwerken und um Projekte und Ideen umzusetzen. Eingeladen sind Mitglieder der Fokusgruppe und des digitalHUB\, aber auch Nichtmitglieder wie Startups\, Initiativen und NGOs\, denen die Themen Sustainability und Social Entrepreneurship am Herzen liegen. \nDie Treffen finden hybrid von 16:30–18:00 Uhr statt. \nvor Ort: \ndigitalCHURCH – der Raum wird jeweils vor der Veranstaltung bekannt gegeben \nJülicher Str. 72a\, 52070 Aachen \nonline: \nOnline Besprechungslink \nANMELDUNG \n 
URL:https://www.aachen.digital/en/event/fokusgruppentreffen-sustainability-social-entrepreneurship/2026-11-18/
LOCATION:online & digitalHUB\, Jülicher Str. 72a\, Aachen\, 52070
ATTACH;FMTTYPE=image/webp:https://www.aachen.digital/wp-content/uploads/2026/01/fokusgruppentreffen-sustainability.webp
ORGANIZER;CN="digitalHUB Aachen":MAILTO:kontakt@hubaachen.de
END:VEVENT
BEGIN:VEVENT
DTSTART;TZID=Europe/Berlin:20261214T170000
DTEND;TZID=Europe/Berlin:20261214T190000
DTSTAMP:20260423T123746
CREATED:20251208T155418Z
LAST-MODIFIED:20260122T135526Z
UID:10007575-1797267600-1797274800@www.aachen.digital
SUMMARY:Fokusgruppentreffen KI
DESCRIPTION:Die Fokusgruppe KI lädt zum monatlichen Fokusgruppentreffen in den digitalHUB ein. \nAgenda: \n\nGet-together\nOrganisatorisches\nAktuelles\nVorstellung Teilnehmer\nKI-Tool/Tipp des Monats\nNeues aus den Fachgruppen\nKI-Events\nKI und Compliance\nBusiness UseCases mit KI\nGenerative KI\nLandingPage/PR\nggf. Impulsvortrag\nggf. Fragen bzw. Diskussion zum Vortrag bzw. aktuellen Themen\nAusklang/Networking\n\nANMELDUNG (auf der Mitglieder-Plattform) \nSolltest du kein Mitglied im digitalHUB Aachen sein\, kannst du dich bei Anna.Majchrzak@hubaachen.de zu dem Treffen anmelden.
URL:https://www.aachen.digital/en/event/fokusgruppentreffen-ki-22/
LOCATION:digitalHUB Aachen e.V. in der digitalCHURCH\, Jülicher Straße 72a\, Aachen\, NRW\, 52070\, Germany
ATTACH;FMTTYPE=image/jpeg:https://www.aachen.digital/wp-content/uploads/2025/02/Design-ohne-Titel-60.jpg
ORGANIZER;CN="digitalHUB Aachen":MAILTO:kontakt@hubaachen.de
END:VEVENT
BEGIN:VEVENT
DTSTART;TZID=Europe/Berlin:20261216T163000
DTEND;TZID=Europe/Berlin:20261216T180000
DTSTAMP:20260423T123746
CREATED:20260108T162620Z
LAST-MODIFIED:20260108T162620Z
UID:10007640-1797438600-1797444000@www.aachen.digital
SUMMARY:Fokusgruppentreffen Sustainability & Social Entrepreneurship
DESCRIPTION:Wir treffen uns regelmäßig jeden dritten Mittwoch im Monat zum Austausch zu aktuellen Trends und Themen\, zum Netzwerken und um Projekte und Ideen umzusetzen. Eingeladen sind Mitglieder der Fokusgruppe und des digitalHUB\, aber auch Nichtmitglieder wie Startups\, Initiativen und NGOs\, denen die Themen Sustainability und Social Entrepreneurship am Herzen liegen. \nDie Treffen finden hybrid von 16:30–18:00 Uhr statt. \nvor Ort: \ndigitalCHURCH – der Raum wird jeweils vor der Veranstaltung bekannt gegeben \nJülicher Str. 72a\, 52070 Aachen \nonline: \nOnline Besprechungslink \nANMELDUNG \n 
URL:https://www.aachen.digital/en/event/fokusgruppentreffen-sustainability-social-entrepreneurship/2026-12-16/
LOCATION:online & digitalHUB\, Jülicher Str. 72a\, Aachen\, 52070
ATTACH;FMTTYPE=image/webp:https://www.aachen.digital/wp-content/uploads/2026/01/fokusgruppentreffen-sustainability.webp
ORGANIZER;CN="digitalHUB Aachen":MAILTO:kontakt@hubaachen.de
END:VEVENT
END:VCALENDAR