BEGIN:VCALENDAR
VERSION:2.0
PRODID:-//digitalHUB Aachen - ECPv6.15.20//NONSGML v1.0//EN
CALSCALE:GREGORIAN
METHOD:PUBLISH
X-WR-CALNAME:digitalHUB Aachen
X-ORIGINAL-URL:https://www.aachen.digital/en/
X-WR-CALDESC:Events for digitalHUB Aachen
REFRESH-INTERVAL;VALUE=DURATION:PT1H
X-Robots-Tag:noindex
X-PUBLISHED-TTL:PT1H
BEGIN:VTIMEZONE
TZID:Europe/Berlin
BEGIN:DAYLIGHT
TZOFFSETFROM:+0100
TZOFFSETTO:+0200
TZNAME:CEST
DTSTART:20240331T010000
END:DAYLIGHT
BEGIN:STANDARD
TZOFFSETFROM:+0200
TZOFFSETTO:+0100
TZNAME:CET
DTSTART:20241027T010000
END:STANDARD
BEGIN:DAYLIGHT
TZOFFSETFROM:+0100
TZOFFSETTO:+0200
TZNAME:CEST
DTSTART:20250330T010000
END:DAYLIGHT
BEGIN:STANDARD
TZOFFSETFROM:+0200
TZOFFSETTO:+0100
TZNAME:CET
DTSTART:20251026T010000
END:STANDARD
BEGIN:DAYLIGHT
TZOFFSETFROM:+0100
TZOFFSETTO:+0200
TZNAME:CEST
DTSTART:20260329T010000
END:DAYLIGHT
BEGIN:STANDARD
TZOFFSETFROM:+0200
TZOFFSETTO:+0100
TZNAME:CET
DTSTART:20261025T010000
END:STANDARD
END:VTIMEZONE
BEGIN:VEVENT
DTSTART;TZID=Europe/Berlin:20250401T153000
DTEND;TZID=Europe/Berlin:20250401T180000
DTSTAMP:20260423T164108
CREATED:20250314T105517Z
LAST-MODIFIED:20250314T105517Z
UID:10007273-1743521400-1743530400@www.aachen.digital
SUMMARY:Workshop #GoToMarket – Rheinland Edition
DESCRIPTION:Startups aus NRW aufgepasst: Workshop zum Thema Go-to-Market-Gutschein incoming!\n\n\nDu möchtest mehr über ein gezieltes Förderprogramm für die Prototypentwicklung\, den Go-to-Market-Gutschein\, erfahren? Dann sei am 1. April 2025 dabei\, wenn der Workshop des PtJ\, des MWIKE und der DWNRW-Hubs zu genau diesem Gutschein stattfindet! \nDas erwartet Dich: \n\n30 Minuten Info-Session zum Go-To-Market-Gutschein\n45 Minuten Q&A zu Richtlinien und Voraussetzungen\n75 Minuten persönliche Beratung zur Antragstellung an verschiedenen Stationen\n\nUnser Workshop bietet allen Startups aus NRW die Chance\, von dieser einzigartigen Fördermöglichkeiten in NRW zu profitieren. \n📍 Wo? CITYHUB (Am Hauptbahnhof 6\, 53111 Bonn\, hybrider Info- & Q&A-Teil\, Beratung vor Ort) \n🗓 Wann? 1. April 2025\, 15:30-18:00 Uhr \n🚀 Melde Dich jetzt an und erfahre alles zum erfolgreichen Start mit dem Gutschein! \nANMELDUNG
URL:https://www.aachen.digital/en/event/workshop-gotomarket-rheinland-edition/
LOCATION:DIGITALHUB.DE\, Am Hauptbahnhof 6\, Bonn
ATTACH;FMTTYPE=image/jpeg:https://www.aachen.digital/wp-content/uploads/2025/03/801d232f58a18abb08982f22b60955d3.jpg
END:VEVENT
END:VCALENDAR