BEGIN:VCALENDAR
VERSION:2.0
PRODID:-//digitalHUB Aachen - ECPv6.15.20//NONSGML v1.0//EN
CALSCALE:GREGORIAN
METHOD:PUBLISH
X-WR-CALNAME:digitalHUB Aachen
X-ORIGINAL-URL:https://www.aachen.digital/en/
X-WR-CALDESC:Events for digitalHUB Aachen
REFRESH-INTERVAL;VALUE=DURATION:PT1H
X-Robots-Tag:noindex
X-PUBLISHED-TTL:PT1H
BEGIN:VTIMEZONE
TZID:Europe/Berlin
BEGIN:DAYLIGHT
TZOFFSETFROM:+0100
TZOFFSETTO:+0200
TZNAME:CEST
DTSTART:20190331T010000
END:DAYLIGHT
BEGIN:STANDARD
TZOFFSETFROM:+0200
TZOFFSETTO:+0100
TZNAME:CET
DTSTART:20191027T010000
END:STANDARD
BEGIN:DAYLIGHT
TZOFFSETFROM:+0100
TZOFFSETTO:+0200
TZNAME:CEST
DTSTART:20200329T010000
END:DAYLIGHT
BEGIN:STANDARD
TZOFFSETFROM:+0200
TZOFFSETTO:+0100
TZNAME:CET
DTSTART:20201025T010000
END:STANDARD
BEGIN:DAYLIGHT
TZOFFSETFROM:+0100
TZOFFSETTO:+0200
TZNAME:CEST
DTSTART:20210328T010000
END:DAYLIGHT
BEGIN:STANDARD
TZOFFSETFROM:+0200
TZOFFSETTO:+0100
TZNAME:CET
DTSTART:20211031T010000
END:STANDARD
BEGIN:DAYLIGHT
TZOFFSETFROM:+0100
TZOFFSETTO:+0200
TZNAME:CEST
DTSTART:20220327T010000
END:DAYLIGHT
BEGIN:STANDARD
TZOFFSETFROM:+0200
TZOFFSETTO:+0100
TZNAME:CET
DTSTART:20221030T010000
END:STANDARD
BEGIN:DAYLIGHT
TZOFFSETFROM:+0100
TZOFFSETTO:+0200
TZNAME:CEST
DTSTART:20230326T010000
END:DAYLIGHT
BEGIN:STANDARD
TZOFFSETFROM:+0200
TZOFFSETTO:+0100
TZNAME:CET
DTSTART:20231029T010000
END:STANDARD
BEGIN:DAYLIGHT
TZOFFSETFROM:+0100
TZOFFSETTO:+0200
TZNAME:CEST
DTSTART:20240331T010000
END:DAYLIGHT
BEGIN:STANDARD
TZOFFSETFROM:+0200
TZOFFSETTO:+0100
TZNAME:CET
DTSTART:20241027T010000
END:STANDARD
BEGIN:DAYLIGHT
TZOFFSETFROM:+0100
TZOFFSETTO:+0200
TZNAME:CEST
DTSTART:20250330T010000
END:DAYLIGHT
BEGIN:STANDARD
TZOFFSETFROM:+0200
TZOFFSETTO:+0100
TZNAME:CET
DTSTART:20251026T010000
END:STANDARD
END:VTIMEZONE
BEGIN:VEVENT
DTSTART;TZID=Europe/Berlin:20240411T173000
DTEND;TZID=Europe/Berlin:20240411T203000
DTSTAMP:20260423T230304
CREATED:20240118T142359Z
LAST-MODIFIED:20240315T103411Z
UID:10006075-1712856600-1712867400@www.aachen.digital
SUMMARY:NRW Hub-Battle 2024 & Fanbase Party Aachen
DESCRIPTION:Wo sitzt das spannendste digitale Startup in Nordrhein-Westfalen?\nDer ultimative NRW Hub-Battle #5 in Bonn\, auf Fanbase-Partys in ganz NRW – auch bei uns. Fiebere mit für Maklerwal! \nDer ultimative Startup-Wettstreit in NRW geht in Runde #5. Acht Startups aus acht Regionen kämpfen um den Titel des NRW-Startup-Champions. Jedes hat nur drei Minuten Zeit um die Jury und die Fanbases im gesamten Bundesland von sich zu überzeugen. \nDie DWNRW-Hubs und ihre Partner schicken Startups ins Rennen und aktivieren ihre Fanbase. Gemeinsam küren die hochkarätige Jury und die Zuschauenden die Sieger. Der Hub-Battle bringt den ESC-Kult in die Startup-Welt. NRW – Douze points! Der NRW Hub-Battle bringt das ganze Startup-Ökosystem NRW an einem Tag zusammen.
URL:https://www.aachen.digital/en/event/nrw-hub-battle-2024-fanbase-party-aachen/
ATTACH;FMTTYPE=image/jpeg:https://www.aachen.digital/wp-content/uploads/2023/01/NRWHubBattle_stage1.jpg
END:VEVENT
BEGIN:VEVENT
DTSTART;TZID=Europe/Berlin:20230329T170000
DTEND;TZID=Europe/Berlin:20230329T200000
DTSTAMP:20260423T230304
CREATED:20230103T110123Z
LAST-MODIFIED:20230207T150319Z
UID:10006377-1680109200-1680120000@www.aachen.digital
SUMMARY:NRW Hub-Battle 2023 & Fanbase Party Aachen
DESCRIPTION:Wo sitzt das spannendste digitale Startup in Nordrhein-Westfalen?\nDer ultimative NRW Hub-Battle #4 in Köln\, auf Fanbase-Partys in ganz NRW – auch bei uns – und im Livestream bringt es an den Tag! #NRWHubBattle \nDer ultimative Startup-Wettstreit in NRW geht in Runde #4. Acht Startups aus acht Regionen kämpfen um den Titel des NRW-Startup-Champions. Jedes hat nur drei Minuten Zeit um die Jury und die Fanbases im gesamten Bundesland von sich zu überzeugen. \nDie DWNRW-Hubs und ihre Partner schicken Startups ins Rennen und aktivieren ihre Fanbase. Gemeinsam küren die hochkarätige Jury und die Zuschauenden die Sieger. Der Hub-Battle bringt den ESC-Kult in die Startup-Welt. NRW – Douze points! Der NRW Hub-Battle bringt das ganze Startup-Ökosystem NRW an einem Tag zusammen. \nSei bei unserer Aachener Fanbase-Party dabei oder verfolge den NRW Hub-Battle per Livestream von wo auch immer Du willst – aber fiebere mit unserem Favorit aus der Aachen Area um den Sieg! \n 
URL:https://www.aachen.digital/en/event/nrw-hub-battle-2023/
ATTACH;FMTTYPE=image/jpeg:https://www.aachen.digital/wp-content/uploads/2023/01/NRWHubBattle_stage1.jpg
END:VEVENT
BEGIN:VEVENT
DTSTART;TZID=Europe/Berlin:20220330T180000
DTEND;TZID=Europe/Berlin:20220330T220000
DTSTAMP:20260423T230304
CREATED:20220207T110826Z
LAST-MODIFIED:20220302T104224Z
UID:10006104-1648663200-1648677600@www.aachen.digital
SUMMARY:NRW Hub-Battle 2022
DESCRIPTION:Wo sitzt das spannendste digitale Startup in Nordrhein-Westfalen?\nDer ultimative NRW Hub-Battle #3 in Münster\, auf Fanbase-Partys in ganz NRW und im Livestream bringt es an den Tag! #NRWHubBattle \nOh ja! Der ultimative Startup-Wettstreit in NRW geht in Runde #3. Sieben Startups aus sieben Regionen kämpfen um den Titel des NRW-Startup-Champions. Jedes hat nur drei Minuten Zeit um die Jury und die Fanbases im gesamten Bundesland von sich zu überzeugen.
URL:https://www.aachen.digital/en/event/nrw-hub-battle-3-2022/
LOCATION:Hybrid
ATTACH;FMTTYPE=image/jpeg:https://www.aachen.digital/wp-content/uploads/2022/02/NRWhubbattle_stage.jpg
END:VEVENT
BEGIN:VEVENT
DTSTART;TZID=Europe/Berlin:20210126T140000
DTEND;TZID=Europe/Berlin:20210126T150000
DTSTAMP:20260423T230304
CREATED:20210121T085525Z
LAST-MODIFIED:20210121T085525Z
UID:10005797-1611669600-1611673200@www.aachen.digital
SUMMARY:digital.talk NRW - Zurück in die Zukunft
DESCRIPTION:Nordrhein-Westfalen kommt zügig voran: Mit der Initiative „Neue Gründerzeit“ und vielen konkreten Maßnahmen für eine bessere Gründerkultur hat das Land die Bedingungen für junge Unternehmen aus dem In- und Ausland verbessert\, die Vernetzung mit internationalen Gründerregionen vorangetrieben und zusätzliche Chancenkapitalgeber gewonnen. Mit dem erfolgreichen Gründerstipendium werden verstärkt auch Gründerinnen unterstützt. \nJetzt setzt sich das Land noch höhere Ziele und will bis zum Jahr 2025 in die TOP 10 der europaweit führenden Start-up-Regionen kommen. Die Landesregierung will die Anziehungskraft erhöhen und mit seinen fünf digitalen HUBs in Aachen\, Bonn\, Düsseldorf\, Ruhrgebiet (Essen) und Münster als Anlaufstellen für Start-ups eine deutschlandweit und international herausragende Gründerszene aufbauen. Und besonders exzellente Forschung soll auch zu exzellenten Gründungen führen. Mit den sechs Exzellenz Start-up Centern wird die Vernetzung von Wissenschaft und Partnern aus der Wirtschaft verbessert\, um so den akademischen Gründergeist zu stärken und Ausgründungen aus Hochschulen zu erleichtern. \nKurzum: Nordrhein-Westfalen verfügt durch das Zusammenspiel von Industrie\, Wissenschaft und Start-ups über ein erstklassig vernetztes und aktives Start-up-Ökosystem. Doch was kann Nordrhein-Westfalen noch von anderen Gründungsstandorten lernen? Was läuft im Silicon Valley besser\, das auch Deutschland voranbringen könnte? Was muss der Bund tun\, um die Bedingungen für innovative Start-ups in Deutschland insgesamt zu verbessern? Darüber möchten wir mit Ihnen diskutieren. \nUnsere Gesprächspartner sind: \n\nBegrüßung: Dr. Mark Speich\, Staatssekretär für Bundes- und Europaangelegenheiten sowie Internationales\, Bevollmächtigter des Landes beim Bund\nImpulsstatement: Mirko Novakovic\, Gründer und CEO von Instana. Das von IBM übernommene NRW-Start-up Instana gilt als Erfolgsstory der deutschen Digital-Landschaft. Herr Novakovic berichtet von seinen Erfahrungen aus dem Silicon Valley.\nIris Wilhelmi\, Geschäftsführerin digitalHUB Aachen\nProf. Dr. Thorsten Wiesel\, Lehrstuhl für Value-Based Marketing beim Marketing Center Münster der Westfälischen Wilhelms-Universtität Münster (WWU) und Projektleiter der Exzellenz Start-up Center.NRW an der WWU\nDr. Johannes Velling\, Leiter der Gruppe Gründungen\, digitale Impulse\, Finanzierung im Ministerium für Wirtschaft\, Innovation\, Digitalisierung und Energie des Landes Nordrhein-Westfalen\n\nModeration: Dr. Martin Roos\, Autor und Journalist\, Düsseldorf \nDie Veranstaltung findet als Videokonferenz statt. Sie können die Webex-Anwendung auf Smartphone\, Tablet oder am PC nutzen und problemlos teilnehmen und mitdiskutieren. \nAnmeldung\nMelden Sie sich zur Videokonferenz an: \nHIER GEHT’S ZUR ANMELDUNG \nWir freuen uns auf Ihre Teilnahme.
URL:https://www.aachen.digital/en/event/digital-talk-nrw-zurueck-in-die-zukunft/
LOCATION:Jülicher Strasse 72a\, Aachen\, 52070\, Germany
ATTACH;FMTTYPE=image/jpeg:https://www.aachen.digital/wp-content/uploads/2020/09/NachtderUnternehmen.jpeg
END:VEVENT
BEGIN:VEVENT
DTSTART;TZID=Europe/Berlin:20200616T100000
DTEND;TZID=Europe/Berlin:20200616T173000
DTSTAMP:20260423T230304
CREATED:20200522T083102Z
LAST-MODIFIED:20200605T110517Z
UID:10004926-1592301600-1592328600@www.aachen.digital
SUMMARY:Digital Business Speed-Dating
DESCRIPTION:Das Matching-Event für alle\, die trotz COVID-19 in Ihrem Business nicht auf der Stelle treten wollen:\nMit dem ersten Digital Business Speed-Dating wollen wir als Digitale Wirtschaft NRW (DWNRW) mit allen sechs DWNRW-HUBs und Partnern des Innoloft-Netzwerks Startups\, Unternehmen und Investoren effektiv vernetzen. Auf Basis von Kunden-\, Lösungs- und Investmentgesuchen gematched\, treffen sich Innovatoren aus Technologiebranchen in personalisierten Video-Chats. Die Registrierung ist kostenlos und läuft noch bis zum 15. Juni. \nkostenlose Registrierung \nMitglieder des digitalHUBs können sich direkt hier mit ihren bereits bestehenden Profilen aus der digitalHUB Aachen Matching-Plattform registrieren: \nMitglieder-Plattform Registrierung digitalHUB Aachen
URL:https://www.aachen.digital/en/event/digital-business-speed-dating/
LOCATION:Jülicher Strasse 72a\, Aachen\, 52070\, Germany
ATTACH;FMTTYPE=image/jpeg:https://www.aachen.digital/wp-content/uploads/2020/05/Digital-Speed-Dating_stage.jpg
END:VEVENT
END:VCALENDAR