BEGIN:VCALENDAR
VERSION:2.0
PRODID:-//digitalHUB Aachen - ECPv6.15.20//NONSGML v1.0//EN
CALSCALE:GREGORIAN
METHOD:PUBLISH
X-WR-CALNAME:digitalHUB Aachen
X-ORIGINAL-URL:https://www.aachen.digital/en/
X-WR-CALDESC:Events for digitalHUB Aachen
REFRESH-INTERVAL;VALUE=DURATION:PT1H
X-Robots-Tag:noindex
X-PUBLISHED-TTL:PT1H
BEGIN:VTIMEZONE
TZID:Europe/Berlin
BEGIN:DAYLIGHT
TZOFFSETFROM:+0100
TZOFFSETTO:+0200
TZNAME:CEST
DTSTART:20220327T010000
END:DAYLIGHT
BEGIN:STANDARD
TZOFFSETFROM:+0200
TZOFFSETTO:+0100
TZNAME:CET
DTSTART:20221030T010000
END:STANDARD
BEGIN:DAYLIGHT
TZOFFSETFROM:+0100
TZOFFSETTO:+0200
TZNAME:CEST
DTSTART:20230326T010000
END:DAYLIGHT
BEGIN:STANDARD
TZOFFSETFROM:+0200
TZOFFSETTO:+0100
TZNAME:CET
DTSTART:20231029T010000
END:STANDARD
BEGIN:DAYLIGHT
TZOFFSETFROM:+0100
TZOFFSETTO:+0200
TZNAME:CEST
DTSTART:20240331T010000
END:DAYLIGHT
BEGIN:STANDARD
TZOFFSETFROM:+0200
TZOFFSETTO:+0100
TZNAME:CET
DTSTART:20241027T010000
END:STANDARD
END:VTIMEZONE
BEGIN:VEVENT
DTSTART;TZID=Europe/Berlin:20230612T180000
DTEND;TZID=Europe/Berlin:20230612T210000
DTSTAMP:20260423T162840
CREATED:20230515T110520Z
LAST-MODIFIED:20230601T115031Z
UID:10005897-1686592800-1686603600@www.aachen.digital
SUMMARY:ecoHUB-Mitgliedertreffen: Nachhaltigkeit – Pflicht oder strategische Chance?
DESCRIPTION:Nachhaltigkeit ist gerade in vieler Munde: Von Seiten der Gesetzgeber “prasseln” mit EU-Taxonomie\, European Sustainability Reporting Standards oder dem Lieferkettensorgfaltspflichtengesetz immer mehr Verpflichtungen auf die Unternehmen ein. Auf der anderen Seite verstehen immer mehr Unternehmerinnen und Unternehmer nachhaltiges Wirtschaften aber auch als strategische Chance\, ihr Unternehmen zukunftsfähig aufzustellen. \nNach einem kurzen Impuls gibt es viel Raum für Diskussion und lockeren Austausch. Meldet euch jetzt an uns nutzt die Chance zum Networking! Wir freuen uns auf Euch! \nZUR ANMELDUNG \n*Neben den Mitgliedern des ecoHUB sind auch alle Mitglieder des digitalHUB herzlich eingeladen.
URL:https://www.aachen.digital/en/event/ecohub-mitglieder-cometogether-nachhaltigkeit-pflicht-oder-strategische-chance/
LOCATION:digitalHUB Aachen\, Jülicher Str. 72a\, Aachen\, Nordrhein-Westfalen\, 52070\, Germany
ATTACH;FMTTYPE=image/jpeg:https://www.aachen.digital/wp-content/uploads/2023/05/ecoHUB-Banner-fuer-digitalHUB-Webseite.jpg
ORGANIZER;CN="ecoHUB Aachen":MAILTO:kontakt@hubaachen.de
END:VEVENT
BEGIN:VEVENT
DTSTART;TZID=Europe/Berlin:20230209T180000
DTEND;TZID=Europe/Berlin:20230209T210000
DTSTAMP:20260423T162840
CREATED:20221230T103408Z
LAST-MODIFIED:20230209T100339Z
UID:10005798-1675965600-1675976400@www.aachen.digital
SUMMARY:ecoHUB-Auftaktveranstaltung - Nachhaltig wirtschaften in der Region Aachen
DESCRIPTION:Führen Sie Ihr Unternehmen erfolgreich in eine nachhaltige Zukunft\nDie durchschnittliche Temperatur auf der Erde steigt und steigt\, die Artenvielfalt nimmt dramatisch ab und der Ressourcenverbrauch in der Welt wird immer größer. Als Menschheit verbrauchen wir mehr\, als die Erde regenerieren kann. Wir gefährden unser Überleben. \nDie Folge sind neue oder verschärfte Gesetze\, wie z.B. Nachhaltigkeitsberichtspflichten oder das Lieferkettensorgfaltspflichtengesetz\, die die Unternehmen erfüllen müssen – sei es\, weil die Gesetze Sie direkt betreffen oder weil Ihre Kunden das von Ihnen verlangen. \nUnd wenn man seinen gesunden Menschenverstand bemüht auch die Erkenntnis\, dass wir alle unseren Fußabdruck reduzieren müssen – jeder Einzelne von uns\, aber auch jedes Unternehmen. \nWegen des täglichen Hamsterrads haben viele Unternehmerinnen und Unternehmer eigentlich keine Zeit\, sich mit der Frage zu beschäftigen\, welcher der vielen Ansätze für Sie geeignet ist. \nWie finden Sie sich im Dschungel der Informationen zurecht? Wie kommen Sie an das Wissen\, wie Sie mit möglichst geringem Aufwand mit diesen neuen und zusätzlichen Herausforderungen umgehen sollen? \nAber auch: Wie nutzen Sie die Transformation zu nachhaltigem Wirtschaften\, um als attraktiver Arbeitgeber ihre Mitarbeiterinnen und Mitarbeiter zu halten oder neue zu gewinnen? \nFür diese Themen wird der ecoHUB Aachen die Anlaufstelle in der Region Aachen – von und für Unternehmen und alle Aktuere im wirtschaftlichen Umfeld. \nZUR ANMELDUNG
URL:https://www.aachen.digital/en/event/ecohub-auftaktveranstaltung/
LOCATION:digitalHUB Aachen\, Jülicher Str. 72a\, Aachen\, Nordrhein-Westfalen\, 52070\, Germany
ATTACH;FMTTYPE=image/jpeg:https://www.aachen.digital/wp-content/uploads/2022/12/ecoHUB-Banner-fuer-digitalHUB-Webseite.jpg
ORGANIZER;CN="ecoHUB Aachen":MAILTO:kontakt@hubaachen.de
END:VEVENT
END:VCALENDAR