BEGIN:VCALENDAR
VERSION:2.0
PRODID:-//digitalHUB Aachen - ECPv6.15.20//NONSGML v1.0//EN
CALSCALE:GREGORIAN
METHOD:PUBLISH
X-ORIGINAL-URL:https://www.aachen.digital/en/
X-WR-CALDESC:Events for digitalHUB Aachen
REFRESH-INTERVAL;VALUE=DURATION:PT1H
X-Robots-Tag:noindex
X-PUBLISHED-TTL:PT1H
BEGIN:VTIMEZONE
TZID:Europe/Berlin
BEGIN:DAYLIGHT
TZOFFSETFROM:+0100
TZOFFSETTO:+0200
TZNAME:CEST
DTSTART:20230326T010000
END:DAYLIGHT
BEGIN:STANDARD
TZOFFSETFROM:+0200
TZOFFSETTO:+0100
TZNAME:CET
DTSTART:20231029T010000
END:STANDARD
BEGIN:DAYLIGHT
TZOFFSETFROM:+0100
TZOFFSETTO:+0200
TZNAME:CEST
DTSTART:20240331T010000
END:DAYLIGHT
BEGIN:STANDARD
TZOFFSETFROM:+0200
TZOFFSETTO:+0100
TZNAME:CET
DTSTART:20241027T010000
END:STANDARD
BEGIN:DAYLIGHT
TZOFFSETFROM:+0100
TZOFFSETTO:+0200
TZNAME:CEST
DTSTART:20250330T010000
END:DAYLIGHT
BEGIN:STANDARD
TZOFFSETFROM:+0200
TZOFFSETTO:+0100
TZNAME:CET
DTSTART:20251026T010000
END:STANDARD
END:VTIMEZONE
BEGIN:VEVENT
DTSTART;TZID=Europe/Berlin:20241121T183000
DTEND;TZID=Europe/Berlin:20241121T210000
DTSTAMP:20260423T192301
CREATED:20241021T083241Z
LAST-MODIFIED:20241104T152547Z
UID:10006896-1732213800-1732222800@www.aachen.digital
SUMMARY:Innovationsscout Einkauf – Einkauf meets KI Start Up
DESCRIPTION:KI – ein Schlagwort der Digitalen Transformation\, das durch Medien\, Wirtschaft und Gesellschaft strömt. \nAn was denken Sie\, wenn Sie von KI hören oder lesen? \nIntelligente\, autonom arbeitende Maschinen\, die die Arbeitswelt und unser Leben erleichtern sollen oder doch eher an den Terminator der die Menschheit auslöschen wird. \nDoch was ist KI in der Praxis? \nBei dieser Veranstaltung lernen Sie praktische Ansätze und Einsatzmöglichkeiten von KI aus den unterschiedlichen Unternehmensbereichen kennen. \nNeben einem Impulsvortrag der regio iT stellen sich die drei Start Up’s AmbeRoad\, Alplamayo und Anny in 15 minütigen Pitch Sessions vor. \nIm Anschluss bleibt noch die Zeit für einen anregenden Gedankenaustausch und Ausbau des eigenen Networks bei Fingerfood & Kaltgetränken. \nLernen Sie mit uns die praxisorientierte Seite von KI kennen. \nMehr erfahren & anmelden
URL:https://www.aachen.digital/en/event/innovationsscout-einkauf-einkauf-meets-ki-start-up/
ATTACH;FMTTYPE=image/jpeg:https://www.aachen.digital/wp-content/uploads/2024/08/digitalSUMMIT-2024-Stage.jpg
END:VEVENT
END:VCALENDAR