BEGIN:VCALENDAR
VERSION:2.0
PRODID:-//digitalHUB Aachen - ECPv6.15.20//NONSGML v1.0//EN
CALSCALE:GREGORIAN
METHOD:PUBLISH
X-ORIGINAL-URL:https://www.aachen.digital/en/
X-WR-CALDESC:Events for digitalHUB Aachen
REFRESH-INTERVAL;VALUE=DURATION:PT1H
X-Robots-Tag:noindex
X-PUBLISHED-TTL:PT1H
BEGIN:VTIMEZONE
TZID:Europe/Berlin
BEGIN:DAYLIGHT
TZOFFSETFROM:+0100
TZOFFSETTO:+0200
TZNAME:CEST
DTSTART:20230326T010000
END:DAYLIGHT
BEGIN:STANDARD
TZOFFSETFROM:+0200
TZOFFSETTO:+0100
TZNAME:CET
DTSTART:20231029T010000
END:STANDARD
BEGIN:DAYLIGHT
TZOFFSETFROM:+0100
TZOFFSETTO:+0200
TZNAME:CEST
DTSTART:20240331T010000
END:DAYLIGHT
BEGIN:STANDARD
TZOFFSETFROM:+0200
TZOFFSETTO:+0100
TZNAME:CET
DTSTART:20241027T010000
END:STANDARD
BEGIN:DAYLIGHT
TZOFFSETFROM:+0100
TZOFFSETTO:+0200
TZNAME:CEST
DTSTART:20250330T010000
END:DAYLIGHT
BEGIN:STANDARD
TZOFFSETFROM:+0200
TZOFFSETTO:+0100
TZNAME:CET
DTSTART:20251026T010000
END:STANDARD
END:VTIMEZONE
BEGIN:VEVENT
DTSTART;TZID=Europe/Berlin:20241113T120000
DTEND;TZID=Europe/Berlin:20241113T160000
DTSTAMP:20260423T194528
CREATED:20241021T083841Z
LAST-MODIFIED:20241021T083841Z
UID:10006897-1731499200-1731513600@www.aachen.digital
SUMMARY:„ZUKUNFTSweisend: KI-Anwendungen für Ihr Unternehmen“
DESCRIPTION:Künstliche Intelligenz (KI) spielt zunehmend eine entscheidende Rolle in Unternehmensabläufen und der modernen Produktion. Sie ermöglicht es\, Prozesse zu optimieren\, Effizienzsteigerungen zu erzielen und die Qualität zu verbessern. \nDiese Veranstaltung bietet ein vielfältiges Programm\, das speziell auf die Bedürfnisse produzierender Unternehmen zugeschnitten ist. Freuen Sie sich auf praxisorientierte Berichte\, spannende Pitches und innovative Showcases rund um KI-Anwendungen für Produktion\, Logistik\, Qualitätsmanagement und vieles mehr. Nutzen Sie diese Gelegenheit zum Netzwerken und Austausch mit Experten und Unternehmen aus dem Rheinischen Revier. \nProgramm-Highlights: \n\nPraxisberichte zu aktuellen KI-Lösungen und Einsatzmöglichkeiten\nKurzpitches von Start-ups und Dienstleistern zu Themen wie Predictive Maintenance\, Bilderkennung und Anomaliedetektion\nShowcases und Infostände im AI Village\n\nMehr erfahren und kostenlos bis zum 11.11.24 anmelden
URL:https://www.aachen.digital/en/event/zukunftsweisend-ki-anwendungen-fuer-ihr-unternehmen/
LOCATION:AI Village Studio 6\, An der Hasenkaule 10\, Hürth\, Nordrhein-Westfalen\, 50354\, Germany
ATTACH;FMTTYPE=image/jpeg:https://www.aachen.digital/wp-content/uploads/2024/08/digitalSUMMIT-2024-Stage.jpg
END:VEVENT
END:VCALENDAR