BEGIN:VCALENDAR
VERSION:2.0
PRODID:-//digitalHUB Aachen - ECPv6.15.20//NONSGML v1.0//EN
CALSCALE:GREGORIAN
METHOD:PUBLISH
X-WR-CALNAME:digitalHUB Aachen
X-ORIGINAL-URL:https://www.aachen.digital/en/
X-WR-CALDESC:Events for digitalHUB Aachen
REFRESH-INTERVAL;VALUE=DURATION:PT1H
X-Robots-Tag:noindex
X-PUBLISHED-TTL:PT1H
BEGIN:VTIMEZONE
TZID:Europe/Berlin
BEGIN:DAYLIGHT
TZOFFSETFROM:+0100
TZOFFSETTO:+0200
TZNAME:CEST
DTSTART:20230326T010000
END:DAYLIGHT
BEGIN:STANDARD
TZOFFSETFROM:+0200
TZOFFSETTO:+0100
TZNAME:CET
DTSTART:20231029T010000
END:STANDARD
BEGIN:DAYLIGHT
TZOFFSETFROM:+0100
TZOFFSETTO:+0200
TZNAME:CEST
DTSTART:20240331T010000
END:DAYLIGHT
BEGIN:STANDARD
TZOFFSETFROM:+0200
TZOFFSETTO:+0100
TZNAME:CET
DTSTART:20241027T010000
END:STANDARD
BEGIN:DAYLIGHT
TZOFFSETFROM:+0100
TZOFFSETTO:+0200
TZNAME:CEST
DTSTART:20250330T010000
END:DAYLIGHT
BEGIN:STANDARD
TZOFFSETFROM:+0200
TZOFFSETTO:+0100
TZNAME:CET
DTSTART:20251026T010000
END:STANDARD
END:VTIMEZONE
BEGIN:VEVENT
DTSTART;TZID=Europe/Berlin:20241001T180000
DTEND;TZID=Europe/Berlin:20241001T200000
DTSTAMP:20260423T204444
CREATED:20240904T122955Z
LAST-MODIFIED:20240904T123524Z
UID:10006869-1727805600-1727812800@www.aachen.digital
SUMMARY:KI in der Praxis: Vom Hype zur Wertschöpfenden Anwendung
DESCRIPTION:Tauchen Sie ein in die Welt der Künstlichen Intelligenz und erleben Sie hautnah\, wie aus Technologie-Hype echter Mehrwert wird. \nIn unserer Veranstaltung “KI im Einsatz: Von der Vision zur wertschöpfenden Realität” präsentieren wir Ihnen praxisnahe Anwendungsfälle aus Industrie und Büroalltag aus dem Innovation & Learning Center Aachen. Erfahren Sie\, wie man im Büro und in der Industrie mit KI Prozesse optimieren\, die Qualitätssicherung revolutionieren und robotergestützte Lösungen entwickeln kann. Das innovative Start-up amberSearch zeigt Ihnen live\, wie KI im Büro und auf dem Shopfloor den Unterschied machen kann\, während der IT-Dienstleister complingua spannende Einblicke in Endpoint Management\, CRM und KI bietet. Lassen Sie sich von Best Practices und innovativen Ansätzen inspirieren\, die Ihr Unternehmen voranbringen. Erleben Sie KI in Aktion und erfahren Sie\, wie Sie den nächsten Schritt in Richtung digitale Transformation gehen können. \nWir freuen uns auf einen regen Austausch und das anschließende Networking bei Fingerfood und Drinks! \nZUR ANMELDUNG
URL:https://www.aachen.digital/en/event/ki-in-der-praxis-vom-hype-zur-wertschoepfenden-anwendung/
LOCATION:ITA Academy GmbH\, Vaalser Straße 460\, Aachen\, Nordrhein-Westfalen\, 52074
ATTACH;FMTTYPE=image/jpeg:https://www.aachen.digital/wp-content/uploads/2024/06/Design-ohne-Titel-10.jpg
END:VEVENT
END:VCALENDAR