BEGIN:VCALENDAR
VERSION:2.0
PRODID:-//digitalHUB Aachen - ECPv6.15.20//NONSGML v1.0//EN
CALSCALE:GREGORIAN
METHOD:PUBLISH
X-ORIGINAL-URL:https://www.aachen.digital/en/
X-WR-CALDESC:Events for digitalHUB Aachen
REFRESH-INTERVAL;VALUE=DURATION:PT1H
X-Robots-Tag:noindex
X-PUBLISHED-TTL:PT1H
BEGIN:VTIMEZONE
TZID:Europe/Berlin
BEGIN:DAYLIGHT
TZOFFSETFROM:+0100
TZOFFSETTO:+0200
TZNAME:CEST
DTSTART:20230326T010000
END:DAYLIGHT
BEGIN:STANDARD
TZOFFSETFROM:+0200
TZOFFSETTO:+0100
TZNAME:CET
DTSTART:20231029T010000
END:STANDARD
BEGIN:DAYLIGHT
TZOFFSETFROM:+0100
TZOFFSETTO:+0200
TZNAME:CEST
DTSTART:20240331T010000
END:DAYLIGHT
BEGIN:STANDARD
TZOFFSETFROM:+0200
TZOFFSETTO:+0100
TZNAME:CET
DTSTART:20241027T010000
END:STANDARD
BEGIN:DAYLIGHT
TZOFFSETFROM:+0100
TZOFFSETTO:+0200
TZNAME:CEST
DTSTART:20250330T010000
END:DAYLIGHT
BEGIN:STANDARD
TZOFFSETFROM:+0200
TZOFFSETTO:+0100
TZNAME:CET
DTSTART:20251026T010000
END:STANDARD
END:VTIMEZONE
BEGIN:VEVENT
DTSTART;TZID=Europe/Berlin:20240704T140000
DTEND;TZID=Europe/Berlin:20240704T170000
DTSTAMP:20260423T225531
CREATED:20240618T101001Z
LAST-MODIFIED:20240618T101001Z
UID:10006816-1720101600-1720112400@www.aachen.digital
SUMMARY:EDIH Rheinland Take-Off 2.0 in Stolberg
DESCRIPTION:Künftig Wettbewerbsfähigkeit erfordert Digitalisierung des eigenen Unternehmens.\nDiese Erkenntnis ist nicht neu\, dennoch stellt die digitale Transformation besonders für kleine und mittlere Unternehmen eine große Herausforderung dar. Sie bringt umfassende Veränderungen in der gesamten Organisation mit sich: von Geschäftsmodellen\, über Prozesse und Technologien bis hin zur Unternehmenskultur.\nDer European Digital Innovation Hub (EDIH) hat sich zum Ziel gesetzt\, Unternehmen bei der digitalen Transformation zu unterstützen und den Strukturwandel in der Euregio voranzutreiben. \nKönnen Sie eine der folgenden Fragen mit Ja beantworten\, dann würden wir gerne mit Ihnen darüber sprechen:\n– Glauben Sie\, dass Sie durch weitere Digitalisierung Kosten einsparen könnten?\n– Würden Sie gerne mehr aus Ihren Produktionsdaten machen?\n– Haben Sie über die Einführung von KI-Anwendungen in verschiedenen Bereichen Ihres Unternehmens nachgedacht?\n– Profitieren Sie vom kostenlosen Unterstützungsangebot des EDIH Rheinland und nutzen die umfangreichen Verbindungen zu Einrichtungen der RWTH Aachen\, der Fraunhofer-Instituten\, der Verwaltung und den Vereinsnetzwerken des Projekts. \nTreffen Sie alle Projektpartner beim EIDH Rheinland Take-Off 2.0\nWann: Donnerstag\, 04.07.2024\, 14:00 – 17:00 Uhr \nWo: Museum Zinkhütterl Hof\, Cockerillstraße 90\, 52222 Stolberg \nDie Teilnahme an der Veranstaltung ist kostenfrei. \nAnmeldung bis einschließlich zum 02.07.24 bitte per E-Mail an: wirtschaftsfoerderung@stolberg.de. \nDie Agenda\n14:00 Uhr Einlass \n14:30 Uhr Begrüßung\nPeter Wackers\, Amtsleiter\, Amt für Wirtschaftsförderung\, Kupferstadt Stolberg \n14:35 Uhr Impulsvortrag: Digitalisierungsinitiative der EU – Innovationstreiber und Chance für die Unternehmen der Stadt Stolberg\nDr. Frank Hees\, Projektkoordination\, Werkzeugmaschinenlabor der RWTH Aachen \n14:50 Uhr Vorstellung EDIH Rheinland: Kostenfreie Angebote zu KI-Anwendungen für Ihr Unternehmen\nOle Stocks\, Projektkoordination\, WZL\, Werkzeugmaschinenlabor der RWTH Aachen \n15:15 Uhr Austausch von Lösungsansätzen und Anregungen in moderierten Kleingruppen: \n(1) ChatGPT und Co. – Wie kann generative KI wertschöpfend in meinen Unternehmensbereichen genutzt werden?\n(2) Von Big Data über Smart Data zu High Performance Computing – Wie kann ich meine Daten noch zielgerichteter nutzen?\n(3) Wie erkenne ich Digitalisierungspotentiale und kann den Nutzen für mich abschätzen? \n16:30 Uhr Zusammenfassung und Highlights aus den Workshops \n16:45 Uhr Get-together bei Imbiss und Getränken\nVorstellung des EDIH-Konsortiums und des Serviceangebots\nDialoge zur Analyse individueller Herausforderungen in Ihrem Business:\nAngebot von Einzelgesprächen mit den anwesenden Expert:innen \nWir freuen uns auf Ihre Teilnahme. \n 
URL:https://www.aachen.digital/en/event/edih-rheinland-take-off-2-0-in-stolberg/
LOCATION:Museum Zinkhütter Hof\, Cockerillstraße 90\, Stolberg\, NRW\, 52222\, Deutschland
ATTACH;FMTTYPE=image/jpeg:https://www.aachen.digital/wp-content/uploads/2023/08/EDIH-1.jpg
END:VEVENT
END:VCALENDAR