BEGIN:VCALENDAR
VERSION:2.0
PRODID:-//digitalHUB Aachen - ECPv6.15.20//NONSGML v1.0//EN
CALSCALE:GREGORIAN
METHOD:PUBLISH
X-WR-CALNAME:digitalHUB Aachen
X-ORIGINAL-URL:https://www.aachen.digital/en/
X-WR-CALDESC:Events for digitalHUB Aachen
REFRESH-INTERVAL;VALUE=DURATION:PT1H
X-Robots-Tag:noindex
X-PUBLISHED-TTL:PT1H
BEGIN:VTIMEZONE
TZID:Europe/Berlin
BEGIN:DAYLIGHT
TZOFFSETFROM:+0100
TZOFFSETTO:+0200
TZNAME:CEST
DTSTART:20200329T010000
END:DAYLIGHT
BEGIN:STANDARD
TZOFFSETFROM:+0200
TZOFFSETTO:+0100
TZNAME:CET
DTSTART:20201025T010000
END:STANDARD
BEGIN:DAYLIGHT
TZOFFSETFROM:+0100
TZOFFSETTO:+0200
TZNAME:CEST
DTSTART:20210328T010000
END:DAYLIGHT
BEGIN:STANDARD
TZOFFSETFROM:+0200
TZOFFSETTO:+0100
TZNAME:CET
DTSTART:20211031T010000
END:STANDARD
BEGIN:DAYLIGHT
TZOFFSETFROM:+0100
TZOFFSETTO:+0200
TZNAME:CEST
DTSTART:20220327T010000
END:DAYLIGHT
BEGIN:STANDARD
TZOFFSETFROM:+0200
TZOFFSETTO:+0100
TZNAME:CET
DTSTART:20221030T010000
END:STANDARD
END:VTIMEZONE
BEGIN:VEVENT
DTSTART;TZID=Europe/Berlin:20210225T100000
DTEND;TZID=Europe/Berlin:20210225T163000
DTSTAMP:20260424T022622
CREATED:20210201T122542Z
LAST-MODIFIED:20210201T122639Z
UID:10005817-1614247200-1614270600@www.aachen.digital
SUMMARY:Aachener Praxistag "Künstliche Intelligenz"
DESCRIPTION:Von der Technologie zur Umsetzung\nKünstliche Intelligenz (KI) ist in aller Munde. Die Technologie wird häufig als uneingeschränktes Heilmittel stilisiert\, deren Nutzenpotenzial schon mit „ein wenig“ Code und Daten umgesetzt werden kann. Um KI-Projekte erfolgreich umzusetzen ist jedoch mehr Wissen nötig\, als populärwissenschaftliche Artikel häufig suggerieren. \nWährend des Praxistags erfahren Sie\, aus welchen unterschiedlichen Komponenten Künstliche Intelligenz bestehen kann. Dabei zeigen wir auf\, welche KI-Technologien für welche Arten von Anwendungsfällen in produzierenden Unternehmen geeignet sind. Vorträge aus der Praxis ergänzen anschaulich\, wie solche Anwendungsfälle umgesetzt werden können und auf welche Herausforderungen sich Unternehmen einstellen müssen. Begleitet werden die Vorträge und Diskussionen von interaktiven Workshops\, in denen die Teilnehmer KI-Technologien eigenständig einsetzen und erste Erfahrungen mit verschiedenen Lösungsbausteinen sammeln. \nZielgruppe \n\nVerantwortliche von Digitalisierungsprojekten\, die sich detailliert mit KI auseinandersetzen müssen\nTeammitglieder eines CDO\, die Verantwortung für KI-Innovationsprojekte übernehmen\n\nBestandteile des Aachener Praxistags “Künstliche Intelligenz” (10:00 bis 16:30 Uhr\, virtuell): \nKI kennenlernen \n\nEinführung in das Thema KI in der Industrie\nWas ist KI und wo werden KI-Lösungen schon heute wirksam eingesetzt?\nWelche echten Anwendungsfälle gibt es in der Industrie?\nKI-Markt verstehen\nWer macht eigentlich was?\nFür welche technischen Fragestellungen gibt es Partner?\nMüssen Mittelständler technische Kompetenz aufbauen?\n\nKI verstehen \n\nKI-Technologien\nWelche KI-Technologien muss ein Mittelständler kennen?\nFür welche Anwendungen sind welche KI-Technologien geeignet?\nKI-Anwendungen aus der Praxis\nWarum haben KI-Projekte gut funktioniert?\nWie lassen sich KI-Lösungen in Unternehmensarchitekturen integrieren?\n\nKI umsetzen \n\nVorgehen in KI-Projekten\nWie sehen die ersten Schritte für KI-Projekte konkret aus?\nWas sind relevante Erfolgsbausteine\, ohne die es nicht gelingt?\n\nReferenten: Freuen Sie sich auf Referenten\, die ihr Praxiswissen gerne mit Ihnen austauschen werden. \nTeilnehmerzahl: Die Anzahl der Teilnehmer ist auf 15 Personen beschränkt. \nTeilnahmegebühr: 190 EUR / 150 EUR – Mitglieder im FIR e. V. oder Cluster Smart Logistik \nDie Angemeldeten erhalten die benötigten Zugangsdaten per E-Mail. Die Installation einer Software ist nicht erforderlich. \nZur Anmeldung
URL:https://www.aachen.digital/en/event/aachener-praxistag-kuenstliche-intelligenz-3/
LOCATION:Jülicher Strasse 72a\, Aachen\, 52070\, Germany
ATTACH;FMTTYPE=image/jpeg:https://www.aachen.digital/wp-content/uploads/2020/12/AdobeStock_358683095-scaled.jpeg
END:VEVENT
END:VCALENDAR