BEGIN:VCALENDAR
VERSION:2.0
PRODID:-//digitalHUB Aachen - ECPv6.15.20//NONSGML v1.0//EN
CALSCALE:GREGORIAN
METHOD:PUBLISH
X-WR-CALNAME:digitalHUB Aachen
X-ORIGINAL-URL:https://www.aachen.digital/en/
X-WR-CALDESC:Events for digitalHUB Aachen
REFRESH-INTERVAL;VALUE=DURATION:PT1H
X-Robots-Tag:noindex
X-PUBLISHED-TTL:PT1H
BEGIN:VTIMEZONE
TZID:Europe/Berlin
BEGIN:DAYLIGHT
TZOFFSETFROM:+0100
TZOFFSETTO:+0200
TZNAME:CEST
DTSTART:20230326T010000
END:DAYLIGHT
BEGIN:STANDARD
TZOFFSETFROM:+0200
TZOFFSETTO:+0100
TZNAME:CET
DTSTART:20231029T010000
END:STANDARD
BEGIN:DAYLIGHT
TZOFFSETFROM:+0100
TZOFFSETTO:+0200
TZNAME:CEST
DTSTART:20240331T010000
END:DAYLIGHT
BEGIN:STANDARD
TZOFFSETFROM:+0200
TZOFFSETTO:+0100
TZNAME:CET
DTSTART:20241027T010000
END:STANDARD
BEGIN:DAYLIGHT
TZOFFSETFROM:+0100
TZOFFSETTO:+0200
TZNAME:CEST
DTSTART:20250330T010000
END:DAYLIGHT
BEGIN:STANDARD
TZOFFSETFROM:+0200
TZOFFSETTO:+0100
TZNAME:CET
DTSTART:20251026T010000
END:STANDARD
BEGIN:DAYLIGHT
TZOFFSETFROM:+0100
TZOFFSETTO:+0200
TZNAME:CEST
DTSTART:20260329T010000
END:DAYLIGHT
BEGIN:STANDARD
TZOFFSETFROM:+0200
TZOFFSETTO:+0100
TZNAME:CET
DTSTART:20261025T010000
END:STANDARD
END:VTIMEZONE
BEGIN:VEVENT
DTSTART;TZID=Europe/Berlin:20251110T183000
DTEND;TZID=Europe/Berlin:20251110T210000
DTSTAMP:20260423T202820
CREATED:20251106T074941Z
LAST-MODIFIED:20251106T074941Z
UID:10007514-1762799400-1762808400@www.aachen.digital
SUMMARY:Unternehmer:innendialog nachhaltige Zukunft – Visionen. Chancen. Impact.
DESCRIPTION:Das Eine Welt Forum Aachen e.V. lädt Sie herzlich ein\, zur feierlichen Ausstellungseröffnung „Aachener Liebesbaum Allee“\, am Montag\, den 10. November 2025\, im Kundencenter der Sparkasse Aachen. \nDie Ausstellung ist eine Hommage an Aachener Stadtnatur: Fast einhundert Bürger:innen haben in berührenden Liebeserklärungen Dankbarkeit und Wertschätzung für Orte wie den Elisengarten\, den Hangeweiher oder den Aachener Wald zum Ausdruck gebracht. \nGanz besonders freut sich das Eine Welt Forum auf die Keynote von Andreas Weber – Biologe\, Philosoph und Publizist\, bekannt durch seine zahlreichen Bücher\, TV- und Radioauftritte sowie seine Kolumne in der ZEIT. In seinem Impuls schlägt er einen inspirierenden Bogen zwischen Biologie\, Kultur und gesellschaftlichem Wandel – lebendig\, verständlich und tiefgründig zugleich. \nGerne möchte das Eine Welt Foeum Aachen e.V. diesen Abend als Impuls- und Dialograum nutzen\, um mit Ihnen und rund 150 Unternehmer:innen ins Gespräch zu kommen – über gesellschaftlichen Wandel\, unternehmerische Verantwortung und Engagement für Mensch und Umwelt. \nDas Eine Welt Forum Aachen e.V. freut sich diesen besonderen Abend gemeinsam mit ihren Kooperationspartnern zu realisieren: der Sparkasse Aachen sowie den Unternehmer:innen-Netzwerken DWV – Dialog Wirtschaftlicher Visionen\, der Fokusgruppe Sustainability & Social Entrepreneurship im DigiHub Aachen\, dem NAFF – Netzwerk Aachener Führungsfrauen und dem VEU Aachen. \nWann: Montag\, 10. November 2025\, Beginn 18:30\, Einlass ab 18:00 Uhr\nWo: Kundencenter der Sparkasse Aachen\, Friedrich-Wilhelm-Platz 1–4\, 52062 Aachen \nBitte beachten:\nDer Zugang erfolgt ausschließlich über die Elisengalerie.\nDer Einlass ist nur für angemeldete Gäste über die Gästeliste möglich. \nGemeinsam mit unseren Kooperationspartnern freuen wir uns sehr\, Sie an diesem besonderen Abend zu begrüßen. Ihre verbindliche Anmeldung richten Sie bitte bis zum 31. Oktober 2025 per Email an: mg@1wf.de. \nzur Anmeldung
URL:https://www.aachen.digital/en/event/unternehmerinnendialog-nachhaltige-zukunft-visionen-chancen-impact/
LOCATION:Sparkasse Aachen\, Friedrich-Wilhelm-Platz 1-4\, Aachen\, 52062\, Deutschland
ATTACH;FMTTYPE=image/jpeg:https://www.aachen.digital/wp-content/uploads/2025/11/Design-ohne-Titel-19.jpg
END:VEVENT
BEGIN:VEVENT
DTSTART;TZID=Europe/Berlin:20240629T140000
DTEND;TZID=Europe/Berlin:20240629T200000
DTSTAMP:20260423T202820
CREATED:20240524T081701Z
LAST-MODIFIED:20240524T092457Z
UID:10006806-1719669600-1719691200@www.aachen.digital
SUMMARY:38. Aachener Weltfest: "FRAUEN GESTALTEN DEN WANDEL - mutig - kraftvoll - nachhaltig
DESCRIPTION:Mit seinem Weltfest 2024 will das Eine Welt Forum Aachen Beispiele von Initiativen mutiger Frauen vorstellen\, von ihrem Denken und Handeln\, ihrer sozialen und ökologischen Praxis\, und auf diese Weise Denkanstöße und Argumentationshilfen\, aber auch Vorbilder\, anbieten. Wir freuen uns über die erneute Kooperation mit zahlreichen Initiativen und Organisationen der StädteRegion\, die erst das diesjährige abwechslungsreiche Programm ermöglichen. Zusäzlich bieten wir im Monat Juni verschiedene Veranstaltungen passend zum Thema des Weltfestes an .\n\nIm Zentrum der Veranstaltungen steht das Nachhaltigkeitsziel der Geschlechtergleichheit. Angesprochen werden aber auch die Nachhaltigkeitsziele der Armutsbekämpfung\, der Verbesserung der Gesundheitsversorgung\, der Bildung und der Arbeitsbedingungen sowie dasjenige des Klimaschutzes.
URL:https://www.aachen.digital/en/event/38-aachener-weltfest-frauen-gestalten-den-wandel-mutig-kraftvoll-nachhaltig/
LOCATION:Welthaus Aachen\, An der Schanz 1\, Aachen\, 52064
ATTACH;FMTTYPE=image/jpeg:https://www.aachen.digital/wp-content/uploads/2024/05/Design-ohne-Titel-4.jpg
END:VEVENT
END:VCALENDAR