BEGIN:VCALENDAR
VERSION:2.0
PRODID:-//digitalHUB Aachen - ECPv6.15.20//NONSGML v1.0//EN
CALSCALE:GREGORIAN
METHOD:PUBLISH
X-ORIGINAL-URL:https://www.aachen.digital/en/
X-WR-CALDESC:Events for digitalHUB Aachen
REFRESH-INTERVAL;VALUE=DURATION:PT1H
X-Robots-Tag:noindex
X-PUBLISHED-TTL:PT1H
BEGIN:VTIMEZONE
TZID:Europe/Berlin
BEGIN:DAYLIGHT
TZOFFSETFROM:+0100
TZOFFSETTO:+0200
TZNAME:CEST
DTSTART:20170326T010000
END:DAYLIGHT
BEGIN:STANDARD
TZOFFSETFROM:+0200
TZOFFSETTO:+0100
TZNAME:CET
DTSTART:20171029T010000
END:STANDARD
BEGIN:DAYLIGHT
TZOFFSETFROM:+0100
TZOFFSETTO:+0200
TZNAME:CEST
DTSTART:20180325T010000
END:DAYLIGHT
BEGIN:STANDARD
TZOFFSETFROM:+0200
TZOFFSETTO:+0100
TZNAME:CET
DTSTART:20181028T010000
END:STANDARD
BEGIN:DAYLIGHT
TZOFFSETFROM:+0100
TZOFFSETTO:+0200
TZNAME:CEST
DTSTART:20190331T010000
END:DAYLIGHT
BEGIN:STANDARD
TZOFFSETFROM:+0200
TZOFFSETTO:+0100
TZNAME:CET
DTSTART:20191027T010000
END:STANDARD
END:VTIMEZONE
BEGIN:VEVENT
DTSTART;TZID=Europe/Berlin:20181211T173000
DTEND;TZID=Europe/Berlin:20181211T200000
DTSTAMP:20260424T001709
CREATED:20181127T132611Z
LAST-MODIFIED:20181211T120842Z
UID:10004829-1544549400-1544558400@www.aachen.digital
SUMMARY:Usability Test Essen
DESCRIPTION:Du wolltest schon immer mal ein Startup in seiner frühen Entwicklungsphase kennenlernen? In Kooperation mit dem Energieloft und dem digitalHUB Aachen möchten wir Dich ganz herzlich zum ersten Usability Test Essen einladen! \nFrei nach dem Motto „Sag mir einfach\, was Du denkst“ werden von Dir in einem „Usability Test“ die Prototypen\, Websites oder Apps gemäß der „Thinking-Aloud-Methode“ auf ihre Gebrauchstauglichkeit getestet. Das bedeutet\, dass Du testest und Deine Erfahrungen mit dem Testobjekt laut dokumentierst\, während die Entwickler sich Notizen zu Deinen Gedanken machen. Pizza und Bier werden den Abend kulinarisch abrunden. Die Veranstaltung ist selbstverständlich kostenlos für dich! \nIn einem abschließenden Get-together hast Du die Möglichkeit\, mit den Gründern ins Gespräch zu kommen und persönliche Kontakte zu knüpfen. \nInteresse geweckt? Dann melde Dich jetzt verbindlich zum ersten Usability Test Essen im digitalHub an. Da es nur eine begrenzte Platzanzahl gibt\, gilt das Prinzip: First come\, first serve. \nHier geht es zum Anmeldeformular: Usability Testessen \nBei weiteren Fragen kannst Du jederzeit auf uns zukommen.\nWir freuen uns!!!
URL:https://www.aachen.digital/en/event/usability-test-essen/
LOCATION:digitalHUB Aachen\, Jülicher Str. 72a\, Aachen\, Nordrhein-Westfalen\, 52070\, Germany
ATTACH;FMTTYPE=image/jpeg:https://www.aachen.digital/wp-content/uploads/2018/11/Usability-Test-Essen.jpg
END:VEVENT
END:VCALENDAR