BEGIN:VCALENDAR
VERSION:2.0
PRODID:-//digitalHUB Aachen - ECPv6.15.20//NONSGML v1.0//EN
CALSCALE:GREGORIAN
METHOD:PUBLISH
X-WR-CALNAME:digitalHUB Aachen
X-ORIGINAL-URL:https://www.aachen.digital/en/
X-WR-CALDESC:Events for digitalHUB Aachen
REFRESH-INTERVAL;VALUE=DURATION:PT1H
X-Robots-Tag:noindex
X-PUBLISHED-TTL:PT1H
BEGIN:VTIMEZONE
TZID:Europe/Berlin
BEGIN:DAYLIGHT
TZOFFSETFROM:+0100
TZOFFSETTO:+0200
TZNAME:CEST
DTSTART:20200329T010000
END:DAYLIGHT
BEGIN:STANDARD
TZOFFSETFROM:+0200
TZOFFSETTO:+0100
TZNAME:CET
DTSTART:20201025T010000
END:STANDARD
BEGIN:DAYLIGHT
TZOFFSETFROM:+0100
TZOFFSETTO:+0200
TZNAME:CEST
DTSTART:20210328T010000
END:DAYLIGHT
BEGIN:STANDARD
TZOFFSETFROM:+0200
TZOFFSETTO:+0100
TZNAME:CET
DTSTART:20211031T010000
END:STANDARD
BEGIN:DAYLIGHT
TZOFFSETFROM:+0100
TZOFFSETTO:+0200
TZNAME:CEST
DTSTART:20220327T010000
END:DAYLIGHT
BEGIN:STANDARD
TZOFFSETFROM:+0200
TZOFFSETTO:+0100
TZNAME:CET
DTSTART:20221030T010000
END:STANDARD
END:VTIMEZONE
BEGIN:VEVENT
DTSTART;TZID=Europe/Berlin:20210630T090000
DTEND;TZID=Europe/Berlin:20210630T120000
DTSTAMP:20260423T230432
CREATED:20210531T100850Z
LAST-MODIFIED:20220221T103734Z
UID:10005924-1625043600-1625054400@www.aachen.digital
SUMMARY:Datenschutzsprechstunde von EU-CON BeraterForum GmbH für Startups
DESCRIPTION:Thema: „Datenschutz oder Datenschmutz: Das ist hier die Frage“\n30.6.2021; 9 bis 12 Uhr (4 Slots à 40 Minuten)\nonline via Zoom \nBereits 2016 sprach Kanzlerin Merkel von Daten als dem Rohstoff des 21. Jahrhunderts. Tech-Startups können davon sicherlich ein Liedchen singen. Nichts ist allerdings ärgerlicher\, als nach monatelanger Entwicklung und Fertigstellung des ersten Prototypen durch einen geprellten Verbraucher oder aufgeweckte Behörden feststellen zu lassen\, dass das eigentliche Geschäftsmodell mit den Daten auf tönernen Füßen steht\, da es sich nicht an die gängigen Vorgaben aus der europ. Datenschutzgrundverordnung\, sowie dem deutschen Bundesdatenschutzgesetz hält. Nicht selten ziehen für die Korrektur solcher Fehler zahlreiche Arbeitsstunden ins Land und vereinzelt kommt es sogar dazu\, dass das Geschäftsmodell nicht legal umsetzbar ist. \nUm Dir und Deinem Team dieses böse Erwachen zu ersparen\, nehmen sich die externen Datenschutzbeauftragten der EU-CON 40min. Zeit\, um Dein Geschäftsmodell im Hinblick auf Datenschutzvorgaben zu untersuchen. \n\nErfahre\, welche Bereiche im Geschäftsmodell Deine gesonderte Aufmerksamkeit erfordern.\nFinde rechtszeitig mögliche rechtliche Fallstricke\, um nicht bereits vor Deinem Durchbruch darüber zu stolpern.\nFinde heraus\, ob du einen Datenschutzbeauftragten brauchst oder nicht.\n\nBuche jetzt deinen 40min. Slot! Wir freuen uns auf Dich! \nAnmeldung für Mitglieder unter:events@hubaachen.de
URL:https://www.aachen.digital/en/event/datenschutzsprechstunde-von-eu-con-beraterforum-gmbh-fuer-startups/
LOCATION:Jülicher Strasse 72a\, Aachen\, 52070\, Germany
ATTACH;FMTTYPE=image/jpeg:https://www.aachen.digital/wp-content/uploads/2021/05/Open-Office-EU-CON_stage.jpg
END:VEVENT
END:VCALENDAR