BEGIN:VCALENDAR
VERSION:2.0
PRODID:-//digitalHUB Aachen - ECPv6.15.20//NONSGML v1.0//EN
CALSCALE:GREGORIAN
METHOD:PUBLISH
X-WR-CALNAME:digitalHUB Aachen
X-ORIGINAL-URL:https://www.aachen.digital/en/
X-WR-CALDESC:Events for digitalHUB Aachen
REFRESH-INTERVAL;VALUE=DURATION:PT1H
X-Robots-Tag:noindex
X-PUBLISHED-TTL:PT1H
BEGIN:VTIMEZONE
TZID:Europe/Berlin
BEGIN:DAYLIGHT
TZOFFSETFROM:+0100
TZOFFSETTO:+0200
TZNAME:CEST
DTSTART:20210328T010000
END:DAYLIGHT
BEGIN:STANDARD
TZOFFSETFROM:+0200
TZOFFSETTO:+0100
TZNAME:CET
DTSTART:20211031T010000
END:STANDARD
BEGIN:DAYLIGHT
TZOFFSETFROM:+0100
TZOFFSETTO:+0200
TZNAME:CEST
DTSTART:20220327T010000
END:DAYLIGHT
BEGIN:STANDARD
TZOFFSETFROM:+0200
TZOFFSETTO:+0100
TZNAME:CET
DTSTART:20221030T010000
END:STANDARD
BEGIN:DAYLIGHT
TZOFFSETFROM:+0100
TZOFFSETTO:+0200
TZNAME:CEST
DTSTART:20230326T010000
END:DAYLIGHT
BEGIN:STANDARD
TZOFFSETFROM:+0200
TZOFFSETTO:+0100
TZNAME:CET
DTSTART:20231029T010000
END:STANDARD
BEGIN:DAYLIGHT
TZOFFSETFROM:+0100
TZOFFSETTO:+0200
TZNAME:CEST
DTSTART:20240331T010000
END:DAYLIGHT
BEGIN:STANDARD
TZOFFSETFROM:+0200
TZOFFSETTO:+0100
TZNAME:CET
DTSTART:20241027T010000
END:STANDARD
END:VTIMEZONE
BEGIN:VEVENT
DTSTART;TZID=Europe/Berlin:20230622T170000
DTEND;TZID=Europe/Berlin:20230622T200000
DTSTAMP:20260423T213943
CREATED:20230508T063659Z
LAST-MODIFIED:20230508T063929Z
UID:10006469-1687453200-1687464000@www.aachen.digital
SUMMARY:Innovation Night Aachen
DESCRIPTION:Technologietransfer – Austausch als Wachstumsmotor für die Region\nTechnologietransfer – die Weitergabe von wissenschaftlichen und technischen Kompetenzen\, Kenntnissen und Verfahren – bietet Mehrwert für Wirtschaft und Wissenschaft. Damit können aktuelle Themenstellungen gemeistert werden und Hersteller können Produkte effizienter und ressourcenschonender produzieren. In lokal verankerter Forschung und Industrie stärkt er dabei die Region und fungiert als wirkungsvoller Wegbereiter für Innovationen und Wachstum. \nDas Ziel der Veranstaltung ist nach Impulsbeiträgen der Austausch beim anschließenden Get-together mit den verschiedenen Akteurinnen und Akteure\, um neue Wege einzuleiten und letztlich über verschiedene Ideen und Bedarfe zu neuen Projekten zu gelangen und damit sowohl ökologische sowie auch ökonomische Ziele zu adressieren. Themen und Tools zur Nachhaltigkeitsanalyse und – Kommunikation\, beispielsweise Carbon Footprint\, Ökobilanz oder Nachhaltigkeitsberichterstattung\, können im Anschluss direkt mit Dr. Denise Ott\, Teamleiterin der EurA Nachhaltigkeitsberatung\, vor Ort geklärt werden. \nNach den Vorträgen haben Sie zudem die Option eines persönlichen Beratungsgesprächs\, um Möglichkeiten zur Initiierung\, Umsetzung und Förderung Ihrer Themen zu diskutieren. \nEine Ausstellungsfläche im Foyer bietet genügend Platz zum Austauschen und Vernetzen\, für Verpflegung ist gesorgt. \nZUR ANMELDUNG
URL:https://www.aachen.digital/en/event/innovation-night-aachen-2023/
LOCATION:TZA Technologiezentrum Aachen\, Dennewartstr. 25-27\, Aachen\, 52068\, Deutschland
ATTACH;FMTTYPE=image/jpeg:https://www.aachen.digital/wp-content/uploads/2023/05/innovation-night-aachen-stage.jpg
END:VEVENT
BEGIN:VEVENT
DTSTART;TZID=Europe/Berlin:20230323T163000
DTEND;TZID=Europe/Berlin:20230323T173000
DTSTAMP:20260423T213943
CREATED:20230309T092439Z
LAST-MODIFIED:20230309T092510Z
UID:10006430-1679589000-1679592600@www.aachen.digital
SUMMARY:ESA BIC NRW Info­veranstaltung
DESCRIPTION:Start-ups aus #NRW aufgepasst: Der Countdown läuft – Lasst uns gemeinsam Richtung All abheben! \nVerwandelt Eure Ideen und Erfindungen in ein erfolgreiches Unternehmen! \nGesucht werden Start-ups\, die Anwendungen entwickeln\, die weltraumgestützte Systeme nutzen (z. B. Satellitennavigation\, Erdbeobachtung oder Satellitenkommunikation)\, die Weltraumtechnologien in einem nicht weltraumgestützten Bereich einsetzen und/oder die innovative Produkte und Dienstleistungen für den Weltraumsektor entwickeln. \nDie ESA Business Incubation Centres (ESA BICs) sind das größte Netzwerk von Inkubatoren zur Unterstützung von Start-ups im #Raumfahrtbereich in Europa.\nDas Netzwerk bietet hervorragende Möglichkeiten\, Start-ups mit neuen Geschäftspartnern in ganz Europa zusammenzubringen: mit der lokalen Industrie\, den Universitäten\, Forschungseinrichtungen\, Behörden und Investorengemeinschaften. \nDurch das ESA BIC NRW erhaltet ihr: \n• 50 000 € Finanzierung für Produkt- und IP-Entwicklung\n• Technische Unterstützung\n• Aktives Unternehmens-Coaching durch die EurA AG Niederlassung Aachen und Herten\n• Zugang zu Geschäftspartnern und Netzwerken (u.a. dem DLR\, der ESA) \nJetzt schnell sein und zur kostenlosen Informationsveranstaltung anmelden! \nZUR ANMELDUNG
URL:https://www.aachen.digital/en/event/esa-bic-nrw-infoveranstaltung/
LOCATION:Jülicher Strasse 72a\, Aachen\, 52070\, Germany
ATTACH;FMTTYPE=image/png:https://www.aachen.digital/wp-content/uploads/2023/03/ESA-stage.png
END:VEVENT
BEGIN:VEVENT
DTSTART;TZID=Europe/Berlin:20230119T150000
DTEND;TZID=Europe/Berlin:20230119T160000
DTSTAMP:20260423T213943
CREATED:20230111T093053Z
LAST-MODIFIED:20230111T093053Z
UID:10006393-1674140400-1674144000@www.aachen.digital
SUMMARY:Info­veranstaltung ESA BIC NRW
DESCRIPTION:Das ESA BIC Inkubationsprogramm ist speziell auf raumfahrtbezogene Unternehmen (Downstream und Upstream) zugeschnitten. Finanziert von der ESA und dem MWIKE.NRW unterstützt EurA durch ihr Management die Start-ups bei ihren Gründungsvorhaben. Über einen Zeitraum von maximal zwei Jahren erhaltet ihr Unterstützung in Form von Workshops\, technischer Beratung und einem Budget von 50.000 Euro. \nFolgende Kriterien müsst ihr für eine Aufnahme erfüllen: \n\nUnternehmensalter < 5 Jahre\nProdukt oder Dienstleistung mit Raumfahrtbezug\nLegale Arbeitserlaubnis in Deutschland\nUnternehmenssitz in Nordrhein-Westfalen\n\nFolgender Raumfahrtbezug muss euer Start-up aufweisen: \nIm Bereich Downstream \nAnwendungen: \n\nSatellitennavigation\nErdbeobachtung\nSatellitenkommunikation\n\nTechnologietransfer: \n\nHardware\nSoftware oder Firmware\nWissen\, Prozesse\nRechte an geistigem Eigentum (IPR)\n\nIm Bereich Upstream\nEure Idee zielt darauf ab\, neue Technologien im Weltraumbereich zu nutzen\, oder Sie beabsichtigen\, als Zulieferer für den Weltraumsektor in einem der folgenden Bereiche (einschließlich Systeme\, Subsysteme\, Komponenten und Dienstleistungen) tätig zu sein: \n\nTrägerraketen\nSatelliten\nBodensysteme\nBemannte Raumfahrt\n\nIm Rahmen der Infoveranstaltung wird euch das ESA BIC NRW vorgestellt und ihr erhaltet Einblicke in den Bewerbungsprozess. Außerdem habt ihr die Möglichkeit im Anschluss der Veranstaltung eure Idee auf den Raumfahrtbezug und die Eignung für das ESA BIC prüfen zu lassen. \nDie Veranstaltung findet auf Deutsch statt. Bei Bedarf können einzelne Inhaltspunkte auf Englisch referiert werden. \nZUR ANMELDUNG
URL:https://www.aachen.digital/en/event/infoveranstaltung-esa-bic-nrw/
LOCATION:Jülicher Strasse 72a\, Aachen\, 52070\, Germany
ATTACH;FMTTYPE=image/jpeg:https://www.aachen.digital/wp-content/uploads/2023/01/AdobeStock_358683095-scaled-1.jpeg
END:VEVENT
BEGIN:VEVENT
DTSTART;TZID=Europe/Berlin:20221026T150000
DTEND;TZID=Europe/Berlin:20221026T183000
DTSTAMP:20260423T213943
CREATED:20221004T074108Z
LAST-MODIFIED:20221004T093433Z
UID:10005733-1666796400-1666809000@www.aachen.digital
SUMMARY:SME Symposium in Aachen
DESCRIPTION:Exklusive Einblicke in die EU Fördermöglichkeiten für Deep-Tech Start-ups\, Unternehmen und Investoren\nDer EIC Accelerator der EU ist in aller Munde. Es ist das Förderinstrument für die innovativsten Start-ups Europas und bietet einzigartige Chancen für die Skalierung von Deep-Tech Innovationen. Das SME-Symposium gibt Ihnen die Möglichkeit\, den EIC Accelerator und weitere Fördermöglichkeiten der EU kennen zu lernen und exklusive Einblicke in das Verfahren und die Zielstellungen zu erhalten. \nTop Themen: \n\nIm Vorfeld der Veranstaltung 12:30 – 14:00 erhaltet ihr Einblicke in die Demofabrik Aachen.\nDie RWTH Innovation wird Ihnen darüber hinaus die Aachener Möglichkeiten zum Ausbau und zum erweitern Ihres Geschäftsmodells im Umfeld der RWTH darstellen.\nInsights von Fördermitteln durch die EurA AG\nCornelius Schmaltz\, Referatsleiter des European Innovation Council (EIC)\, wird in seinem Beitrag den EIC Accelerator vorstellen.\nHigh-Tech.NRW gibt einen kurzen Einblick über die Fördermöglichkeiten durch den DeepTech Accelerator aus NRW.\nVorstellung zweier EIC-Erfolgsbeispiele\nAus der Region werden einige ausgewählte Deep-Tech Startups im Rahmen der Veranstaltung ihre Geschäftsidee pitchen.\n\nIm Anschluss bietet ein Get-Together und 1 on 1 Sessions mit Investoren bei Fingerfood die Möglichkeit\, in Einzelgesprächen noch mehr zum Programm oder der Eignung der eigenen Innovation in Erfahrung zu bringen. \nIst das SME Symposium für mich interessant? \nDas SME Symposium ist die richtige Adresse für all diejenigen\, die nach einer Fördermöglichkeit suchen\, um ihre innovativen Produkte zu optimieren und in den internationalen Markt zu bringen. \nWeitere Infos zum EIC-Förderprogramm finden Sie hier. \nZUR ANMELDUNG \nPartner der Region: \nRWTH Innovation | digitalHUB Aachen| High Tech NRW | Startplatz | ESA BIC NRW \n 
URL:https://www.aachen.digital/en/event/sme-symposium-in-aachen/
LOCATION:TZA Technologiezentrum Aachen\, Dennewartstr. 25-27\, Aachen\, 52068\, Deutschland
ATTACH;FMTTYPE=image/jpeg:https://www.aachen.digital/wp-content/uploads/2022/10/SME-Symposium-Aachen_stage1.jpg
END:VEVENT
BEGIN:VEVENT
DTSTART;TZID=Europe/Berlin:20220426T180000
DTEND;TZID=Europe/Berlin:20220426T193000
DTSTAMP:20260423T213943
CREATED:20220329T112006Z
LAST-MODIFIED:20220329T112512Z
UID:10006181-1650996000-1651001400@www.aachen.digital
SUMMARY:EurA Innovation Night
DESCRIPTION:Sie möchten mit Ihren Projektideen einen Beitrag zur Zukunftssicherung leisten? \nDie EurA Innovation Night findet unter dem Thema Neue Zeit – neue Möglichkeiten: Innovationsförderung im Jahr 2022 statt. \nErfahren Sie bei der Präsenzveranstaltung mehr über die Top Themen: Steuerliche Forschungsförderung\, Wasserstofftechnologien\, Technolgietransfer aus und in die Raumfahrt sowie Finanzierungsinstrumente. Beiträge von Markus Terodde\, Dezernent der Städteregion Aachen\, Fabian Müller-Lutz\, IHK-Aachen sowie weiteren Experten zum Thema Innovation\, Technologie und Förderung werden die Diskussionsgrundlage bilden. \nAnmeldung \nAgenda: \n\nSteuerliche Forschungsförderung – Rückwirkend Fördermittel erhalten\nZukunftsmarkt Wasserstoff – Innovative Beispiele\nPotenziale der Raumfahrt – Nutzen branchenübergreifender Technologietransfer / Fördermöglichkeiten / StartUp-Unterstützung\nFinanzierungsinstrumente und Investitionsförderung\nInnovation\, Fördermittel\, Bürokratie? – Aufwand\, Nutzen\, Mehrwert\nEin- und Ausblick zur Strukturentwicklung der Region\n\nBei einem anschließenden Imbiss haben Sie die Möglichkeit zu einem persönlichen Beratungsgespräch. Sichern Sie sich jetzt Ihre kostenlose Teilnahme!\nMehr Informationen zur Veranstaltung finden Sie hier. \nWichtige Information: Aufgrund der aktuellen Lage wird die Präsenzveranstaltung unter Einhaltung der Corona-Regeln stattfinden. \n 
URL:https://www.aachen.digital/en/event/eura-innovation-night/
LOCATION:TZA Technologiezentrum Aachen\, Dennewartstr. 25-27\, Aachen\, 52068\, Deutschland
ATTACH;FMTTYPE=image/jpeg:https://www.aachen.digital/wp-content/uploads/2021/03/AdobeStock_211845830_Data-control-wall-1-scaled.jpeg
END:VEVENT
END:VCALENDAR